BEGIN:VCALENDAR
VERSION:2.0
PRODID:-//Bodega La Olmilla - ECPv6.15.20//NONSGML v1.0//EN
CALSCALE:GREGORIAN
METHOD:PUBLISH
X-WR-CALNAME:Bodega La Olmilla
X-ORIGINAL-URL:https://bodegalaolmilla.es
X-WR-CALDESC:Eventos para Bodega La Olmilla
REFRESH-INTERVAL;VALUE=DURATION:PT1H
X-Robots-Tag:noindex
X-PUBLISHED-TTL:PT1H
BEGIN:VTIMEZONE
TZID:Europe/Madrid
BEGIN:DAYLIGHT
TZOFFSETFROM:+0100
TZOFFSETTO:+0200
TZNAME:CEST
DTSTART:20220327T010000
END:DAYLIGHT
BEGIN:STANDARD
TZOFFSETFROM:+0200
TZOFFSETTO:+0100
TZNAME:CET
DTSTART:20221030T010000
END:STANDARD
BEGIN:DAYLIGHT
TZOFFSETFROM:+0100
TZOFFSETTO:+0200
TZNAME:CEST
DTSTART:20230326T010000
END:DAYLIGHT
BEGIN:STANDARD
TZOFFSETFROM:+0200
TZOFFSETTO:+0100
TZNAME:CET
DTSTART:20231029T010000
END:STANDARD
BEGIN:DAYLIGHT
TZOFFSETFROM:+0100
TZOFFSETTO:+0200
TZNAME:CEST
DTSTART:20240331T010000
END:DAYLIGHT
BEGIN:STANDARD
TZOFFSETFROM:+0200
TZOFFSETTO:+0100
TZNAME:CET
DTSTART:20241027T010000
END:STANDARD
END:VTIMEZONE
BEGIN:VEVENT
DTSTART;TZID=Europe/Madrid:20230916T203000
DTEND;TZID=Europe/Madrid:20230916T230000
DTSTAMP:20260423T234009
CREATED:20230830T082051Z
LAST-MODIFIED:20230830T082057Z
UID:10003-1694896200-1694905200@bodegalaolmilla.es
SUMMARY:CATA DE ESTRELLAS
DESCRIPTION:Sumérgete en una experiencia Soul&Wine&Stars única en el Hotel Castillo de Curiel: degusta el elixir Dis-tinto junto al viticultor Alfredo Maestro en una cena picoteo exquisita. Al caer la noche\, embárcate en un viaje cósmico con astrónomos expertos y telescopio\, explorando el firmamento estrellado con observaciones detalladas de estrellas\, astros\, planetas\,… en una noche que combina el arte del vino con la maravilla del universo.
URL:https://bodegalaolmilla.es/evento/cata-de-estrellas-4/
CATEGORIES:CATA DE ESTRELLAS
END:VEVENT
END:VCALENDAR