BEGIN:VCALENDAR
VERSION:2.0
PRODID:-//Bodega La Olmilla - ECPv6.15.20//NONSGML v1.0//EN
CALSCALE:GREGORIAN
METHOD:PUBLISH
X-WR-CALNAME:Bodega La Olmilla
X-ORIGINAL-URL:https://bodegalaolmilla.es
X-WR-CALDESC:Eventos para Bodega La Olmilla
REFRESH-INTERVAL;VALUE=DURATION:PT1H
X-Robots-Tag:noindex
X-PUBLISHED-TTL:PT1H
BEGIN:VTIMEZONE
TZID:Europe/Madrid
BEGIN:DAYLIGHT
TZOFFSETFROM:+0100
TZOFFSETTO:+0200
TZNAME:CEST
DTSTART:20220327T010000
END:DAYLIGHT
BEGIN:STANDARD
TZOFFSETFROM:+0200
TZOFFSETTO:+0100
TZNAME:CET
DTSTART:20221030T010000
END:STANDARD
BEGIN:DAYLIGHT
TZOFFSETFROM:+0100
TZOFFSETTO:+0200
TZNAME:CEST
DTSTART:20230326T010000
END:DAYLIGHT
BEGIN:STANDARD
TZOFFSETFROM:+0200
TZOFFSETTO:+0100
TZNAME:CET
DTSTART:20231029T010000
END:STANDARD
BEGIN:DAYLIGHT
TZOFFSETFROM:+0100
TZOFFSETTO:+0200
TZNAME:CEST
DTSTART:20240331T010000
END:DAYLIGHT
BEGIN:STANDARD
TZOFFSETFROM:+0200
TZOFFSETTO:+0100
TZNAME:CET
DTSTART:20241027T010000
END:STANDARD
END:VTIMEZONE
BEGIN:VEVENT
DTSTART;TZID=Europe/Madrid:20231208T120000
DTEND;TZID=Europe/Madrid:20231208T130000
DTSTAMP:20260423T184207
CREATED:20231115T121818Z
LAST-MODIFIED:20231115T123548Z
UID:10232-1702036800-1702040400@bodegalaolmilla.es
SUMMARY:EXPERIENCIA INMERSIÓN AL ORIGEN
DESCRIPTION:En esta experiencia les contamos todo lo que tiene que ver con las bodegas subterráneas y el vino desde cuando estaban en funcionamiento a nuestros días. Hablamos de los artesanos\, de cómo funcionaba el pueblo y sus gentes en torno a las bodegas además de qué ocurre hoy con ellas ya que actualmente no se hace vino en ellas. Todo regado con anécdotas y chascarrillos que los propios abuelos nos cuentan\, con degustación en jarrillo de vino local y un aperitivo también de productos locales.
URL:https://bodegalaolmilla.es/evento/experiencia-inmersion-al-origen-27/
END:VEVENT
BEGIN:VEVENT
DTSTART;TZID=Europe/Madrid:20231208T200000
DTEND;TZID=Europe/Madrid:20231208T213000
DTSTAMP:20260423T184207
CREATED:20231115T124317Z
LAST-MODIFIED:20231207T104442Z
UID:10244-1702065600-1702071000@bodegalaolmilla.es
SUMMARY:EXPERIENCIA CON ESPECTÁCULO-RAFI CON SU SAXO
DESCRIPTION:En esta experiencia les contamos todo lo que tiene que ver con las bodegas subterráneas y el vino desde cuando estaban en funcionamiento a nuestros días. Hablamos de los artesanos\, de cómo funcionaba el pueblo y sus gentes en torno a las bodegas además de qué ocurre hoy con ellas ya que actualmente no se hace vino en ellas. Todo regado con anécdotas y chascarrillos que los propios abuelos nos cuentan\, con degustación en jarrillo de vino local y un aperitivo también de productos locales. Acabaremos la visita con un espectáculo de Rafi con su saxofón tocando música jazz y de todos los tiempos.
URL:https://bodegalaolmilla.es/evento/experiencia-con-espectaculo-de-ma/
END:VEVENT
END:VCALENDAR