BEGIN:VCALENDAR
VERSION:2.0
PRODID:-//Bodega La Olmilla - ECPv6.15.20//NONSGML v1.0//EN
CALSCALE:GREGORIAN
METHOD:PUBLISH
X-WR-CALNAME:Bodega La Olmilla
X-ORIGINAL-URL:https://bodegalaolmilla.es
X-WR-CALDESC:Eventos para Bodega La Olmilla
REFRESH-INTERVAL;VALUE=DURATION:PT1H
X-Robots-Tag:noindex
X-PUBLISHED-TTL:PT1H
BEGIN:VTIMEZONE
TZID:Europe/Madrid
BEGIN:DAYLIGHT
TZOFFSETFROM:+0100
TZOFFSETTO:+0200
TZNAME:CEST
DTSTART:20230326T010000
END:DAYLIGHT
BEGIN:STANDARD
TZOFFSETFROM:+0200
TZOFFSETTO:+0100
TZNAME:CET
DTSTART:20231029T010000
END:STANDARD
BEGIN:DAYLIGHT
TZOFFSETFROM:+0100
TZOFFSETTO:+0200
TZNAME:CEST
DTSTART:20240331T010000
END:DAYLIGHT
BEGIN:STANDARD
TZOFFSETFROM:+0200
TZOFFSETTO:+0100
TZNAME:CET
DTSTART:20241027T010000
END:STANDARD
BEGIN:DAYLIGHT
TZOFFSETFROM:+0100
TZOFFSETTO:+0200
TZNAME:CEST
DTSTART:20250330T010000
END:DAYLIGHT
BEGIN:STANDARD
TZOFFSETFROM:+0200
TZOFFSETTO:+0100
TZNAME:CET
DTSTART:20251026T010000
END:STANDARD
END:VTIMEZONE
BEGIN:VEVENT
DTSTART;TZID=Europe/Madrid:20240413T120000
DTEND;TZID=Europe/Madrid:20240413T130000
DTSTAMP:20260423T123803
CREATED:20240411T093541Z
LAST-MODIFIED:20240411T093543Z
UID:10596-1713009600-1713013200@bodegalaolmilla.es
SUMMARY:EXPERIENCIA INMERSIÓN AL ORIGEN
DESCRIPTION:¡Descubre los secretos enterrados en nuestras bodegas subterráneas en esta experiencia única! Desde su funcionamiento ancestral hasta la actualidad\, te sumergirás en la historia de los artesanos\, la vida en el pueblo y la transformación de estas joyas arquitectónicas. \n\n\n\n🍇 Disfruta de anécdotas y chascarrillos transmitidos de generación en generación por nuestros abuelos mientras degustas el exquisito sabor de nuestro vino local en auténticos jarrillos. Deléitate también con un aperitivo que celebra los sabores locales. \n\n\n\n¡Embárcate en un viaje que combina la tradición con la modernidad! Reserva tu experiencia ahora y sumérgete en la riqueza cultural y gastronómica que nuestras bodegas subterráneas tienen para ofrecer. ¡Te esperamos para vivir momentos inolvidables! 🍷🌟
URL:https://bodegalaolmilla.es/evento/experiencia-inmersion-al-origen-42/
END:VEVENT
BEGIN:VEVENT
DTSTART;TZID=Europe/Madrid:20240413T190000
DTEND;TZID=Europe/Madrid:20240413T200000
DTSTAMP:20260423T123803
CREATED:20240406T073953Z
LAST-MODIFIED:20240406T073958Z
UID:10574-1713034800-1713038400@bodegalaolmilla.es
SUMMARY:EXPERIENCIA INMERSIÓN AL ORIGEN
DESCRIPTION:¡Descubre los secretos enterrados en nuestras bodegas subterráneas en esta experiencia única! Desde su funcionamiento ancestral hasta la actualidad\, te sumergirás en la historia de los artesanos\, la vida en el pueblo y la transformación de estas joyas arquitectónicas. \n\n\n\n🍇 Disfruta de anécdotas y chascarrillos transmitidos de generación en generación por nuestros abuelos mientras degustas el exquisito sabor de nuestro vino local en auténticos jarrillos. Deléitate también con un aperitivo que celebra los sabores locales. \n\n\n\n¡Embárcate en un viaje que combina la tradición con la modernidad! Reserva tu experiencia ahora y sumérgete en la riqueza cultural y gastronómica que nuestras bodegas subterráneas tienen para ofrecer. ¡Te esperamos para vivir momentos inolvidables! 🍷🌟
URL:https://bodegalaolmilla.es/evento/experiencia-inmersion-al-origen-40/
END:VEVENT
END:VCALENDAR