BEGIN:VCALENDAR
VERSION:2.0
PRODID:-//Bodega La Olmilla - ECPv6.15.20//NONSGML v1.0//EN
CALSCALE:GREGORIAN
METHOD:PUBLISH
X-ORIGINAL-URL:https://bodegalaolmilla.es
X-WR-CALDESC:Eventos para Bodega La Olmilla
REFRESH-INTERVAL;VALUE=DURATION:PT1H
X-Robots-Tag:noindex
X-PUBLISHED-TTL:PT1H
BEGIN:VTIMEZONE
TZID:Europe/Madrid
BEGIN:DAYLIGHT
TZOFFSETFROM:+0100
TZOFFSETTO:+0200
TZNAME:CEST
DTSTART:20230326T010000
END:DAYLIGHT
BEGIN:STANDARD
TZOFFSETFROM:+0200
TZOFFSETTO:+0100
TZNAME:CET
DTSTART:20231029T010000
END:STANDARD
BEGIN:DAYLIGHT
TZOFFSETFROM:+0100
TZOFFSETTO:+0200
TZNAME:CEST
DTSTART:20240331T010000
END:DAYLIGHT
BEGIN:STANDARD
TZOFFSETFROM:+0200
TZOFFSETTO:+0100
TZNAME:CET
DTSTART:20241027T010000
END:STANDARD
BEGIN:DAYLIGHT
TZOFFSETFROM:+0100
TZOFFSETTO:+0200
TZNAME:CEST
DTSTART:20250330T010000
END:DAYLIGHT
BEGIN:STANDARD
TZOFFSETFROM:+0200
TZOFFSETTO:+0100
TZNAME:CET
DTSTART:20251026T010000
END:STANDARD
END:VTIMEZONE
BEGIN:VEVENT
DTSTART;TZID=Europe/Madrid:20240504T120000
DTEND;TZID=Europe/Madrid:20240504T130000
DTSTAMP:20260423T111607
CREATED:20240430T083748Z
LAST-MODIFIED:20240430T083754Z
UID:10619-1714824000-1714827600@bodegalaolmilla.es
SUMMARY:VISITA TEATRALIZADA
DESCRIPTION:¡Descubre los secretos mejor guardados del barrio de bodegas de Peñafiel en nuestra próxima VISITA TEATRALIZADA! Explora los rincones más pintorescos del barrio de bodegas mientras personajes locales comparten fascinantes historias sobre las bodegas subterráneas y el vino de antaño. Sumérgete en el encanto del pasado y déjate cautivar por las tradiciones transmitidas de generación en generación. Finalizaremos nuestro recorrido en la bodega subterránea de La Olmilla\, donde podrás disfrutar de un delicioso jarrillo de vino acompañado de auténticos sabores locales. ¡Reserva ahora y únete a esta experiencia única en La Olmilla!
URL:https://bodegalaolmilla.es/evento/visita-teatralizada-4/
END:VEVENT
END:VCALENDAR