BEGIN:VCALENDAR
VERSION:2.0
PRODID:-//Bodega La Olmilla - ECPv6.15.20//NONSGML v1.0//EN
CALSCALE:GREGORIAN
METHOD:PUBLISH
X-WR-CALNAME:Bodega La Olmilla
X-ORIGINAL-URL:https://bodegalaolmilla.es
X-WR-CALDESC:Eventos para Bodega La Olmilla
REFRESH-INTERVAL;VALUE=DURATION:PT1H
X-Robots-Tag:noindex
X-PUBLISHED-TTL:PT1H
BEGIN:VTIMEZONE
TZID:Europe/Madrid
BEGIN:DAYLIGHT
TZOFFSETFROM:+0100
TZOFFSETTO:+0200
TZNAME:CEST
DTSTART:20230326T010000
END:DAYLIGHT
BEGIN:STANDARD
TZOFFSETFROM:+0200
TZOFFSETTO:+0100
TZNAME:CET
DTSTART:20231029T010000
END:STANDARD
BEGIN:DAYLIGHT
TZOFFSETFROM:+0100
TZOFFSETTO:+0200
TZNAME:CEST
DTSTART:20240331T010000
END:DAYLIGHT
BEGIN:STANDARD
TZOFFSETFROM:+0200
TZOFFSETTO:+0100
TZNAME:CET
DTSTART:20241027T010000
END:STANDARD
BEGIN:DAYLIGHT
TZOFFSETFROM:+0100
TZOFFSETTO:+0200
TZNAME:CEST
DTSTART:20250330T010000
END:DAYLIGHT
BEGIN:STANDARD
TZOFFSETFROM:+0200
TZOFFSETTO:+0100
TZNAME:CET
DTSTART:20251026T010000
END:STANDARD
END:VTIMEZONE
BEGIN:VEVENT
DTSTART;TZID=Europe/Madrid:20240921T180000
DTEND;TZID=Europe/Madrid:20240921T210000
DTSTAMP:20260423T042854
CREATED:20240917T082554Z
LAST-MODIFIED:20240917T082601Z
UID:10796-1726941600-1726952400@bodegalaolmilla.es
SUMMARY:VISITA TEATRALIZADA (El Barrio de Ayer)
DESCRIPTION:🍷Conoce la tradición del mundo del vino que guardan en su historia estas pintorescas bodegas\, y a las 8 el concierto de José Climent ensemble.✨ \n\n\n\nTe invitamos a una visita teatralizada diferente\, donde las bodegas subterráneas cobran vida a través de personajes auténticos y relatos llenos de humor\, tradición y misterio. Descubre la historia del vino y de Peñafiel como nunca antes\, en un recorrido lleno de sorpresas\, risas y anécdotas que te harán sentir como un auténtico viajero en el tiempo.✨ \n\n\n\n👉 Reserva ya tu plaza y vive una experiencia inmersiva que combina teatro\, cultura y la magia de La Olmilla. ¡No te lo puedes perder! (Plazas limitadas\, reserva previa e info en: reservas@bodegalaolmilla.es o www.bodegalaolmilla.es)
URL:https://bodegalaolmilla.es/evento/visita-teatralizada-el-barrio-de-ayer/
END:VEVENT
END:VCALENDAR