BEGIN:VCALENDAR
VERSION:2.0
PRODID:-//Bodega La Olmilla - ECPv6.15.20//NONSGML v1.0//EN
CALSCALE:GREGORIAN
METHOD:PUBLISH
X-WR-CALNAME:Bodega La Olmilla
X-ORIGINAL-URL:https://bodegalaolmilla.es
X-WR-CALDESC:Eventos para Bodega La Olmilla
REFRESH-INTERVAL;VALUE=DURATION:PT1H
X-Robots-Tag:noindex
X-PUBLISHED-TTL:PT1H
BEGIN:VTIMEZONE
TZID:Europe/Madrid
BEGIN:DAYLIGHT
TZOFFSETFROM:+0100
TZOFFSETTO:+0200
TZNAME:CEST
DTSTART:20230326T010000
END:DAYLIGHT
BEGIN:STANDARD
TZOFFSETFROM:+0200
TZOFFSETTO:+0100
TZNAME:CET
DTSTART:20231029T010000
END:STANDARD
BEGIN:DAYLIGHT
TZOFFSETFROM:+0100
TZOFFSETTO:+0200
TZNAME:CEST
DTSTART:20240331T010000
END:DAYLIGHT
BEGIN:STANDARD
TZOFFSETFROM:+0200
TZOFFSETTO:+0100
TZNAME:CET
DTSTART:20241027T010000
END:STANDARD
BEGIN:DAYLIGHT
TZOFFSETFROM:+0100
TZOFFSETTO:+0200
TZNAME:CEST
DTSTART:20250330T010000
END:DAYLIGHT
BEGIN:STANDARD
TZOFFSETFROM:+0200
TZOFFSETTO:+0100
TZNAME:CET
DTSTART:20251026T010000
END:STANDARD
END:VTIMEZONE
BEGIN:VEVENT
DTSTART;TZID=Europe/Madrid:20241012T120000
DTEND;TZID=Europe/Madrid:20241012T130000
DTSTAMP:20260423T031104
CREATED:20240905T104648Z
LAST-MODIFIED:20241009T074308Z
UID:10763-1728734400-1728738000@bodegalaolmilla.es
SUMMARY:EXPERIENCIA INMERSIÓN AL ORIGEN
DESCRIPTION:¡Descubre los secretos enterrados en nuestras bodegas subterráneas en esta experiencia única! Desde su funcionamiento ancestral hasta la actualidad\, te sumergirás en la historia de los artesanos\, la vida en el pueblo y la transformación de estas joyas arquitectónicas. \n\n\n\n🍇 Disfruta de anécdotas y chascarrillos transmitidos de generación en generación por nuestros abuelos mientras degustas el exquisito sabor de nuestro vino local en auténticos jarrillos. Deléitate también con un aperitivo que celebra los sabores locales. \n\n\n\n¡Embárcate en un viaje que combina la tradición con la modernidad! Reserva tu experiencia ahora y sumérgete en la riqueza cultural y gastronómica que nuestras bodegas subterráneas tienen para ofrecer. ¡Te esperamos para vivir momentos inolvidables! 🍷🌟
URL:https://bodegalaolmilla.es/evento/experiencia-inmersion-al-origen-49/
END:VEVENT
BEGIN:VEVENT
DTSTART;TZID=Europe/Madrid:20241012T183000
DTEND;TZID=Europe/Madrid:20241012T200000
DTSTAMP:20260423T031104
CREATED:20240905T104913Z
LAST-MODIFIED:20241010T105640Z
UID:10766-1728757800-1728763200@bodegalaolmilla.es
SUMMARY:EXPERIENCIA CON ESPECTÁCULO (Completo)
DESCRIPTION:En esta experiencia les contamos todo lo que tiene que ver con las bodegas subterráneas y el vino desde cuando estaban en funcionamiento a nuestros días. Hablamos de los artesanos\, de cómo funcionaba el pueblo y sus gentes en torno a las bodegas además de qué ocurre hoy con ellas ya que actualmente no se hace vino en ellas. Todo regado con anécdotas y chascarrillos que los propios abuelos nos cuentan\, con degustación en jarrillo de vino local y un aperitivo también de productos locales. Acabaremos la visita con un espectáculo de Rafi con su saxofón tocando música jazz y de todos los tiempos. 🎷
URL:https://bodegalaolmilla.es/evento/experiencia-con-espectaculo-21/
END:VEVENT
BEGIN:VEVENT
DTSTART;TZID=Europe/Madrid:20241012T203000
DTEND;TZID=Europe/Madrid:20241012T220000
DTSTAMP:20260423T031104
CREATED:20241003T123316Z
LAST-MODIFIED:20241010T105806Z
UID:10846-1728765000-1728770400@bodegalaolmilla.es
SUMMARY:EXPERIENCIA CON ESPECTÁCULO
DESCRIPTION:En esta experiencia les contamos todo lo que tiene que ver con las bodegas subterráneas y el vino desde cuando estaban en funcionamiento a nuestros días. Hablamos de los artesanos\, de cómo funcionaba el pueblo y sus gentes en torno a las bodegas además de qué ocurre hoy con ellas ya que actualmente no se hace vino en ellas. Todo regado con anécdotas y chascarrillos que los propios abuelos nos cuentan\, con degustación en jarrillo de vino local y un aperitivo también de productos locales. Acabaremos la visita con un espectáculo de Rafi con su saxofón tocando música jazz y de todos los tiempos. 🎷
URL:https://bodegalaolmilla.es/evento/experiencia-con-espectaculo-22/
END:VEVENT
END:VCALENDAR