BEGIN:VCALENDAR
VERSION:2.0
PRODID:-//Bodega La Olmilla - ECPv6.15.20//NONSGML v1.0//EN
CALSCALE:GREGORIAN
METHOD:PUBLISH
X-ORIGINAL-URL:https://bodegalaolmilla.es
X-WR-CALDESC:Eventos para Bodega La Olmilla
REFRESH-INTERVAL;VALUE=DURATION:PT1H
X-Robots-Tag:noindex
X-PUBLISHED-TTL:PT1H
BEGIN:VTIMEZONE
TZID:Europe/Madrid
BEGIN:DAYLIGHT
TZOFFSETFROM:+0100
TZOFFSETTO:+0200
TZNAME:CEST
DTSTART:20230326T010000
END:DAYLIGHT
BEGIN:STANDARD
TZOFFSETFROM:+0200
TZOFFSETTO:+0100
TZNAME:CET
DTSTART:20231029T010000
END:STANDARD
BEGIN:DAYLIGHT
TZOFFSETFROM:+0100
TZOFFSETTO:+0200
TZNAME:CEST
DTSTART:20240331T010000
END:DAYLIGHT
BEGIN:STANDARD
TZOFFSETFROM:+0200
TZOFFSETTO:+0100
TZNAME:CET
DTSTART:20241027T010000
END:STANDARD
BEGIN:DAYLIGHT
TZOFFSETFROM:+0100
TZOFFSETTO:+0200
TZNAME:CEST
DTSTART:20250330T010000
END:DAYLIGHT
BEGIN:STANDARD
TZOFFSETFROM:+0200
TZOFFSETTO:+0100
TZNAME:CET
DTSTART:20251026T010000
END:STANDARD
END:VTIMEZONE
BEGIN:VEVENT
DTSTART;TZID=Europe/Madrid:20241026T190000
DTEND;TZID=Europe/Madrid:20241026T203000
DTSTAMP:20260423T031103
CREATED:20241021T105938Z
LAST-MODIFIED:20241023T114520Z
UID:10894-1729969200-1729974600@bodegalaolmilla.es
SUMMARY:EXPERIENCIA INMERSIÓN AL ORIGEN+ESPECTÁCULO 26O
DESCRIPTION:🍷 Descubre los secretos de las bodegas subterráneas de la zona\, en Bodega La Olmilla 🌟 \n\n\n\nSumérgete en la historia ancestral de los artesanos y la transformación de estas joyas arquitectónicas. Disfruta de anécdotas transmitidas de generación en generación mientras degustas nuestro exquisito vino local en auténticos jarrillos. Además\, un aperitivo celebra los sabores locales. \n\n\n\nEmbárcate en un viaje que combina tradición y modernidad. Con mucho soul y funky en un concierto de Mery Jey.  \n\n\n\nReserva ahora y disfruta de la riqueza cultural y gastronómica de Peñafiel. \n\n\n\n¡No te pierdas esta oportunidad única! Haz tu reserva en La Olmilla. 👉🍇
URL:https://bodegalaolmilla.es/evento/experiencia-inmersion-al-origenespectaculo-4/
END:VEVENT
END:VCALENDAR