BEGIN:VCALENDAR
VERSION:2.0
PRODID:-//Bodega La Olmilla - ECPv6.15.20//NONSGML v1.0//EN
CALSCALE:GREGORIAN
METHOD:PUBLISH
X-ORIGINAL-URL:https://bodegalaolmilla.es
X-WR-CALDESC:Eventos para Bodega La Olmilla
REFRESH-INTERVAL;VALUE=DURATION:PT1H
X-Robots-Tag:noindex
X-PUBLISHED-TTL:PT1H
BEGIN:VTIMEZONE
TZID:Europe/Madrid
BEGIN:DAYLIGHT
TZOFFSETFROM:+0100
TZOFFSETTO:+0200
TZNAME:CEST
DTSTART:20230326T010000
END:DAYLIGHT
BEGIN:STANDARD
TZOFFSETFROM:+0200
TZOFFSETTO:+0100
TZNAME:CET
DTSTART:20231029T010000
END:STANDARD
BEGIN:DAYLIGHT
TZOFFSETFROM:+0100
TZOFFSETTO:+0200
TZNAME:CEST
DTSTART:20240331T010000
END:DAYLIGHT
BEGIN:STANDARD
TZOFFSETFROM:+0200
TZOFFSETTO:+0100
TZNAME:CET
DTSTART:20241027T010000
END:STANDARD
BEGIN:DAYLIGHT
TZOFFSETFROM:+0100
TZOFFSETTO:+0200
TZNAME:CEST
DTSTART:20250330T010000
END:DAYLIGHT
BEGIN:STANDARD
TZOFFSETFROM:+0200
TZOFFSETTO:+0100
TZNAME:CET
DTSTART:20251026T010000
END:STANDARD
END:VTIMEZONE
BEGIN:VEVENT
DTSTART;TZID=Europe/Madrid:20241102T113000
DTEND;TZID=Europe/Madrid:20241102T123000
DTSTAMP:20260423T012321
CREATED:20240916T105647Z
LAST-MODIFIED:20241010T110022Z
UID:10790-1730547000-1730550600@bodegalaolmilla.es
SUMMARY:VISITA TEATRALIZADA
DESCRIPTION:✨ ¡Sumérgete en la historia viva de La Olmilla! 🎭🍷 \n\n\n\nTe invitamos a una visita teatralizada diferente\, donde las bodegas subterráneas cobran vida a través de personajes auténticos y relatos llenos de humor\, tradición y misterio. Descubre la historia del vino y de Peñafiel como nunca antes\, en un recorrido lleno de sorpresas\, risas y anécdotas que te harán sentir como un auténtico viajero en el tiempo. \n\n\n\n👥 Ideal para venir en familia o con amigos\, donde cada rincón revela secretos que te conectan con el pasado\, mientras disfrutas de nuestro vino en un entorno único. \n\n\n\n👉 Reserva ya tu plaza y vive una experiencia inmersiva que combina teatro\, cultura y la magia de La Olmilla. ¡No te lo puedes perder!
URL:https://bodegalaolmilla.es/evento/visita-teatralizada-6/
END:VEVENT
BEGIN:VEVENT
DTSTART;TZID=Europe/Madrid:20241102T183000
DTEND;TZID=Europe/Madrid:20241102T200000
DTSTAMP:20260423T012321
CREATED:20241022T121018Z
LAST-MODIFIED:20241031T184238Z
UID:10897-1730572200-1730577600@bodegalaolmilla.es
SUMMARY:EXPERIENCIA INMERSION AL ORIGEN+ESPECTÁCULO
DESCRIPTION:🍷 Descubre los secretos de las bodegas subterráneas de la zona\, en Bodega La Olmilla 🌟 \n\n\n\nSumérgete en la historia ancestral de los artesanos y la transformación de estas joyas arquitectónicas. Disfruta de anécdotas transmitidas de generación en generación mientras degustas nuestro exquisito vino local en auténticos jarrillos. Además\, un aperitivo celebra los sabores locales. \n\n\n\nEmbárcate en un viaje que combina tradición y modernidad. Reserva ahora y disfruta de la riqueza cultural y gastronómica de Peñafiel. \n\n\n\nLa visita termina en la cueva\, con un espectáculo del dúo DAMAJUANA\, música en directo. \n\n\n\n¡No te pierdas esta oportunidad única! Haz tu reserva en La Olmilla. 👉🍇
URL:https://bodegalaolmilla.es/evento/experiencia-inmersion-al-origenespectaculo-5/
END:VEVENT
END:VCALENDAR