BEGIN:VCALENDAR
VERSION:2.0
PRODID:-//Bodega La Olmilla - ECPv6.15.20//NONSGML v1.0//EN
CALSCALE:GREGORIAN
METHOD:PUBLISH
X-ORIGINAL-URL:https://bodegalaolmilla.es
X-WR-CALDESC:Eventos para Bodega La Olmilla
REFRESH-INTERVAL;VALUE=DURATION:PT1H
X-Robots-Tag:noindex
X-PUBLISHED-TTL:PT1H
BEGIN:VTIMEZONE
TZID:Europe/Madrid
BEGIN:DAYLIGHT
TZOFFSETFROM:+0100
TZOFFSETTO:+0200
TZNAME:CEST
DTSTART:20230326T010000
END:DAYLIGHT
BEGIN:STANDARD
TZOFFSETFROM:+0200
TZOFFSETTO:+0100
TZNAME:CET
DTSTART:20231029T010000
END:STANDARD
BEGIN:DAYLIGHT
TZOFFSETFROM:+0100
TZOFFSETTO:+0200
TZNAME:CEST
DTSTART:20240331T010000
END:DAYLIGHT
BEGIN:STANDARD
TZOFFSETFROM:+0200
TZOFFSETTO:+0100
TZNAME:CET
DTSTART:20241027T010000
END:STANDARD
BEGIN:DAYLIGHT
TZOFFSETFROM:+0100
TZOFFSETTO:+0200
TZNAME:CEST
DTSTART:20250330T010000
END:DAYLIGHT
BEGIN:STANDARD
TZOFFSETFROM:+0200
TZOFFSETTO:+0100
TZNAME:CET
DTSTART:20251026T010000
END:STANDARD
END:VTIMEZONE
BEGIN:VEVENT
DTSTART;TZID=Europe/Madrid:20241116T120000
DTEND;TZID=Europe/Madrid:20241116T130000
DTSTAMP:20260423T012424
CREATED:20241028T093028Z
LAST-MODIFIED:20241028T093030Z
UID:10917-1731758400-1731762000@bodegalaolmilla.es
SUMMARY:EXPERIENCIA INMERSIÓN AL ORIGEN
DESCRIPTION:¡Descubre los secretos enterrados en nuestras bodegas subterráneas en esta experiencia única! Desde su funcionamiento ancestral hasta la actualidad\, te sumergirás en la historia de los artesanos\, la vida en el pueblo y la transformación de estas joyas arquitectónicas. \n\n\n\n🍇 Disfruta de anécdotas y chascarrillos transmitidos de generación en generación por nuestros abuelos mientras degustas el exquisito sabor de nuestro vino local en auténticos jarrillos. Deléitate también con un aperitivo que celebra los sabores locales. \n\n\n\n¡Embárcate en un viaje que combina la tradición con la modernidad! Reserva tu experiencia ahora y sumérgete en la riqueza cultural y gastronómica que nuestras bodegas subterráneas tienen para ofrecer. ¡Te esperamos para vivir momentos inolvidables! 🍷🌟
URL:https://bodegalaolmilla.es/evento/experiencia-inmersion-al-origen-61/
END:VEVENT
BEGIN:VEVENT
DTSTART;TZID=Europe/Madrid:20241116T183000
DTEND;TZID=Europe/Madrid:20241116T200000
DTSTAMP:20260423T012424
CREATED:20241022T134058Z
LAST-MODIFIED:20241110T201432Z
UID:10904-1731781800-1731787200@bodegalaolmilla.es
SUMMARY:INMERSIÓN AL ORIGEN+ESPECTÁCULO 16N
DESCRIPTION:🍷 Descubre los secretos de las bodegas subterráneas de la zona\, en Bodega La Olmilla 🌟 \n\n\n\nSumérgete en la historia ancestral de los artesanos y la transformación de estas joyas arquitectónicas. Disfruta de anécdotas transmitidas de generación en generación mientras degustas nuestro exquisito vino local en auténticos jarrillos. Además\, un aperitivo celebra los sabores locales. \n\n\n\nEmbárcate en un viaje que combina tradición y modernidad. Reserva ahora y disfruta de la riqueza cultural y gastronómica de Peñafiel. \n\n\n\nLa visita termina en la cueva\, con espectáculo del saxofonista Rafi. \n\n\n\n¡No te pierdas esta oportunidad única! Haz tu reserva en La Olmilla. 👉🍇
URL:https://bodegalaolmilla.es/evento/inmersion-al-origenespectaculo-16n/
END:VEVENT
END:VCALENDAR