BEGIN:VCALENDAR
VERSION:2.0
PRODID:-//Bodega La Olmilla - ECPv6.15.20//NONSGML v1.0//EN
CALSCALE:GREGORIAN
METHOD:PUBLISH
X-ORIGINAL-URL:https://bodegalaolmilla.es
X-WR-CALDESC:Eventos para Bodega La Olmilla
REFRESH-INTERVAL;VALUE=DURATION:PT1H
X-Robots-Tag:noindex
X-PUBLISHED-TTL:PT1H
BEGIN:VTIMEZONE
TZID:Europe/Madrid
BEGIN:DAYLIGHT
TZOFFSETFROM:+0100
TZOFFSETTO:+0200
TZNAME:CEST
DTSTART:20240331T010000
END:DAYLIGHT
BEGIN:STANDARD
TZOFFSETFROM:+0200
TZOFFSETTO:+0100
TZNAME:CET
DTSTART:20241027T010000
END:STANDARD
BEGIN:DAYLIGHT
TZOFFSETFROM:+0100
TZOFFSETTO:+0200
TZNAME:CEST
DTSTART:20250330T010000
END:DAYLIGHT
BEGIN:STANDARD
TZOFFSETFROM:+0200
TZOFFSETTO:+0100
TZNAME:CET
DTSTART:20251026T010000
END:STANDARD
BEGIN:DAYLIGHT
TZOFFSETFROM:+0100
TZOFFSETTO:+0200
TZNAME:CEST
DTSTART:20260329T010000
END:DAYLIGHT
BEGIN:STANDARD
TZOFFSETFROM:+0200
TZOFFSETTO:+0100
TZNAME:CET
DTSTART:20261025T010000
END:STANDARD
END:VTIMEZONE
BEGIN:VEVENT
DTSTART;TZID=Europe/Madrid:20250208T120000
DTEND;TZID=Europe/Madrid:20250208T130000
DTSTAMP:20260422T204244
CREATED:20241206T111045Z
LAST-MODIFIED:20250110T094603Z
UID:10997-1739016000-1739019600@bodegalaolmilla.es
SUMMARY:VISITA TEATRALIZADA
DESCRIPTION:✨ ¡Sumérgete en la historia viva de La Olmilla! 🎭🍷 \n\n\n\nTe invitamos a una visita teatralizada diferente\, donde las bodegas subterráneas cobran vida a través de personajes auténticos y relatos llenos de humor\, tradición y misterio. Descubre la historia del vino y de Peñafiel como nunca antes\, en un recorrido lleno de sorpresas\, risas y anécdotas que te harán sentir como un auténtico viajero en el tiempo. \n\n\n\n👥 Ideal para venir en familia o con amigos\, donde cada rincón revela secretos que te conectan con el pasado\, mientras disfrutas de nuestro vino en un entorno único. \n\n\n\n👉 Reserva ya tu plaza y vive una experiencia inmersiva que combina teatro\, cultura y la magia de La Olmilla. ¡No te lo puedes perder!
URL:https://bodegalaolmilla.es/evento/experiencia-inmersion-al-origen-69/
END:VEVENT
BEGIN:VEVENT
DTSTART;TZID=Europe/Madrid:20250208T173000
DTEND;TZID=Europe/Madrid:20250208T190000
DTSTAMP:20260422T204244
CREATED:20241206T113242Z
LAST-MODIFIED:20241206T113246Z
UID:11018-1739035800-1739041200@bodegalaolmilla.es
SUMMARY:EXPERIENCIA INMERSION AL ORIGEN+ESPECTÁCULO
DESCRIPTION:¡Descubre los secretos enterrados en nuestras bodegas subterráneas en esta experiencia única! Desde su funcionamiento ancestral hasta la actualidad\, te sumergirás en la historia de los artesanos\, la vida en el pueblo y la transformación de estas joyas arquitectónicas. \n\n\n\n🍇 Disfruta de anécdotas y chascarrillos transmitidos de generación en generación por nuestros abuelos mientras degustas el exquisito sabor de nuestro vino local en auténticos jarrillos. Deléitate también con un aperitivo que celebra los sabores locales. Acabamos la visita con un espectáculo sorpresa en directo. \n\n\n\n¡Embárcate en un viaje que combina la tradición con la modernidad! Reserva tu experiencia ahora y sumérgete en la riqueza cultural y gastronómica que nuestras bodegas subterráneas tienen para ofrecer. ¡Te esperamos para vivir momentos inolvidables! 🍷🌟
URL:https://bodegalaolmilla.es/evento/experiencia-inmersion-al-origenespectaculo-10/
END:VEVENT
BEGIN:VEVENT
DTSTART;TZID=Europe/Madrid:20250208T193000
DTEND;TZID=Europe/Madrid:20250208T210000
DTSTAMP:20260422T204244
CREATED:20241206T113821Z
LAST-MODIFIED:20241206T113823Z
UID:11026-1739043000-1739048400@bodegalaolmilla.es
SUMMARY:EXPERIENCIA INMERSION AL ORIGEN+ESPECTÁCULO
DESCRIPTION:¡Descubre los secretos enterrados en nuestras bodegas subterráneas en esta experiencia única! Desde su funcionamiento ancestral hasta la actualidad\, te sumergirás en la historia de los artesanos\, la vida en el pueblo y la transformación de estas joyas arquitectónicas. \n\n\n\n🍇 Disfruta de anécdotas y chascarrillos transmitidos de generación en generación por nuestros abuelos mientras degustas el exquisito sabor de nuestro vino local en auténticos jarrillos. Deléitate también con un aperitivo que celebra los sabores locales. Acabamos la visita con un espectáculo sorpresa en directo. \n\n\n\n¡Embárcate en un viaje que combina la tradición con la modernidad! Reserva tu experiencia ahora y sumérgete en la riqueza cultural y gastronómica que nuestras bodegas subterráneas tienen para ofrecer. ¡Te esperamos para vivir momentos inolvidables! 🍷🌟
URL:https://bodegalaolmilla.es/evento/experiencia-inmersion-al-origenespectaculo-14/
END:VEVENT
END:VCALENDAR