BEGIN:VCALENDAR
VERSION:2.0
PRODID:-//Bodega La Olmilla - ECPv6.15.20//NONSGML v1.0//EN
CALSCALE:GREGORIAN
METHOD:PUBLISH
X-WR-CALNAME:Bodega La Olmilla
X-ORIGINAL-URL:https://bodegalaolmilla.es
X-WR-CALDESC:Eventos para Bodega La Olmilla
REFRESH-INTERVAL;VALUE=DURATION:PT1H
X-Robots-Tag:noindex
X-PUBLISHED-TTL:PT1H
BEGIN:VTIMEZONE
TZID:Europe/Madrid
BEGIN:DAYLIGHT
TZOFFSETFROM:+0100
TZOFFSETTO:+0200
TZNAME:CEST
DTSTART:20240331T010000
END:DAYLIGHT
BEGIN:STANDARD
TZOFFSETFROM:+0200
TZOFFSETTO:+0100
TZNAME:CET
DTSTART:20241027T010000
END:STANDARD
BEGIN:DAYLIGHT
TZOFFSETFROM:+0100
TZOFFSETTO:+0200
TZNAME:CEST
DTSTART:20250330T010000
END:DAYLIGHT
BEGIN:STANDARD
TZOFFSETFROM:+0200
TZOFFSETTO:+0100
TZNAME:CET
DTSTART:20251026T010000
END:STANDARD
BEGIN:DAYLIGHT
TZOFFSETFROM:+0100
TZOFFSETTO:+0200
TZNAME:CEST
DTSTART:20260329T010000
END:DAYLIGHT
BEGIN:STANDARD
TZOFFSETFROM:+0200
TZOFFSETTO:+0100
TZNAME:CET
DTSTART:20261025T010000
END:STANDARD
END:VTIMEZONE
BEGIN:VEVENT
DTSTART;TZID=Europe/Madrid:20250315T120000
DTEND;TZID=Europe/Madrid:20250315T130000
DTSTAMP:20260422T190612
CREATED:20241216T100805Z
LAST-MODIFIED:20241216T100815Z
UID:11039-1742040000-1742043600@bodegalaolmilla.es
SUMMARY:EXPERIENCIA INMERSIÓN AL ORIGEN
DESCRIPTION:¡Descubre los secretos enterrados en nuestras bodegas subterráneas en esta experiencia única! Desde su funcionamiento ancestral hasta la actualidad\, te sumergirás en la historia de los artesanos\, la vida en el pueblo y la transformación de estas joyas arquitectónicas. \n\n\n\n🍇 Disfruta de anécdotas y chascarrillos transmitidos de generación en generación por nuestros abuelos mientras degustas el exquisito sabor de nuestro vino local en auténticos jarrillos. Deléitate también con un aperitivo que celebra los sabores locales. \n\n\n\n¡Embárcate en un viaje que combina la tradición con la modernidad! Reserva tu experiencia ahora y sumérgete en la riqueza cultural y gastronómica que nuestras bodegas subterráneas tienen para ofrecer. ¡Te esperamos para vivir momentos inolvidables! 🍷🌟
URL:https://bodegalaolmilla.es/evento/experiencia-inmersion-al-origen-80/
END:VEVENT
BEGIN:VEVENT
DTSTART;TZID=Europe/Madrid:20250315T190000
DTEND;TZID=Europe/Madrid:20250315T200000
DTSTAMP:20260422T190612
CREATED:20241216T102241Z
LAST-MODIFIED:20250219T084615Z
UID:11065-1742065200-1742068800@bodegalaolmilla.es
SUMMARY:EXPERIENCIA INMERSION AL ORIGEN
DESCRIPTION:¡Descubre los secretos enterrados en nuestras bodegas subterráneas en esta experiencia única! Desde su funcionamiento ancestral hasta la actualidad\, te sumergirás en la historia de los artesanos\, la vida en el pueblo y la transformación de estas joyas arquitectónicas. \n\n\n\n🍇 Disfruta de anécdotas y chascarrillos transmitidos de generación en generación por nuestros abuelos mientras degustas el exquisito sabor de nuestro vino local en auténticos jarrillos. Deléitate también con un aperitivo que celebra los sabores locales.  \n\n\n\n¡Embárcate en un viaje que combina la tradición con la modernidad! Reserva tu experiencia ahora y sumérgete en la riqueza cultural y gastronómica que nuestras bodegas subterráneas tienen para ofrecer. ¡Te esperamos para vivir momentos inolvidables! 🍷🌟
URL:https://bodegalaolmilla.es/evento/experiencia-inmersion-al-origenespectaculo-19/
END:VEVENT
BEGIN:VEVENT
DTSTART;TZID=Europe/Madrid:20250315T200000
DTEND;TZID=Europe/Madrid:20250315T210000
DTSTAMP:20260422T190612
CREATED:20241216T102725Z
LAST-MODIFIED:20250304T083941Z
UID:11073-1742068800-1742072400@bodegalaolmilla.es
SUMMARY:FOLK DAYS CON CLIMENT Y BALLARÍN TRÍO
DESCRIPTION:🎶 Folk Days en La Olmilla: Música que Resuena Bajo Tierra 🎶 \n\n\n\nEste marzo\, la cueva cobra vida con los Folk Days\, una experiencia donde la música rompe las reglas y el vino es el cómplice perfecto. Sumérgete en un concierto íntimo con Climent & Ballarín Trío\, un viaje sonoro que une tradición y emoción. \n\n\n\nCon muy pocas plazas disponibles\, cada nota se siente cercana\, cada sorbo de vino se saborea diferente. No hay escenario ni butacas\, solo la magia del directo en un espacio único. \n\n\n\nReserva antes de que se llene. 🍷🔥 \n\n\n\nEntrada anticipada 14€\, mismo día o en bodega 16€
URL:https://bodegalaolmilla.es/evento/experiencia-inmersion-al-origenespectaculo-23/
END:VEVENT
END:VCALENDAR