BEGIN:VCALENDAR
VERSION:2.0
PRODID:-//Bodega La Olmilla - ECPv6.15.20//NONSGML v1.0//EN
CALSCALE:GREGORIAN
METHOD:PUBLISH
X-ORIGINAL-URL:https://bodegalaolmilla.es
X-WR-CALDESC:Eventos para Bodega La Olmilla
REFRESH-INTERVAL;VALUE=DURATION:PT1H
X-Robots-Tag:noindex
X-PUBLISHED-TTL:PT1H
BEGIN:VTIMEZONE
TZID:Europe/Madrid
BEGIN:DAYLIGHT
TZOFFSETFROM:+0100
TZOFFSETTO:+0200
TZNAME:CEST
DTSTART:20240331T010000
END:DAYLIGHT
BEGIN:STANDARD
TZOFFSETFROM:+0200
TZOFFSETTO:+0100
TZNAME:CET
DTSTART:20241027T010000
END:STANDARD
BEGIN:DAYLIGHT
TZOFFSETFROM:+0100
TZOFFSETTO:+0200
TZNAME:CEST
DTSTART:20250330T010000
END:DAYLIGHT
BEGIN:STANDARD
TZOFFSETFROM:+0200
TZOFFSETTO:+0100
TZNAME:CET
DTSTART:20251026T010000
END:STANDARD
BEGIN:DAYLIGHT
TZOFFSETFROM:+0100
TZOFFSETTO:+0200
TZNAME:CEST
DTSTART:20260329T010000
END:DAYLIGHT
BEGIN:STANDARD
TZOFFSETFROM:+0200
TZOFFSETTO:+0100
TZNAME:CET
DTSTART:20261025T010000
END:STANDARD
END:VTIMEZONE
BEGIN:VEVENT
DTSTART;TZID=Europe/Madrid:20250621T120000
DTEND;TZID=Europe/Madrid:20250621T130000
DTSTAMP:20260421T092232
CREATED:20241220T100612Z
LAST-MODIFIED:20241220T100614Z
UID:11184-1750507200-1750510800@bodegalaolmilla.es
SUMMARY:EXPERIENCIA INMERSIÓN AL ORIGEN
DESCRIPTION:¡Descubre los secretos enterrados en nuestras bodegas subterráneas en esta experiencia única! Desde su funcionamiento ancestral hasta la actualidad\, te sumergirás en la historia de los artesanos\, la vida en el pueblo y la transformación de estas joyas arquitectónicas. \n\n\n\n🍇 Disfruta de anécdotas y chascarrillos transmitidos de generación en generación por nuestros abuelos mientras degustas el exquisito sabor de nuestro vino local en auténticos jarrillos. Deléitate también con un aperitivo que celebra los sabores locales. \n\n\n\n¡Embárcate en un viaje que combina la tradición con la modernidad! Reserva tu experiencia ahora y sumérgete en la riqueza cultural y gastronómica que nuestras bodegas subterráneas tienen para ofrecer. ¡Te esperamos para vivir momentos inolvidables! 🍷🌟
URL:https://bodegalaolmilla.es/evento/experiencia-inmersion-al-origen-124/
END:VEVENT
BEGIN:VEVENT
DTSTART;TZID=Europe/Madrid:20250621T173000
DTEND;TZID=Europe/Madrid:20250621T190000
DTSTAMP:20260421T092232
CREATED:20241220T101310Z
LAST-MODIFIED:20241220T101312Z
UID:11196-1750527000-1750532400@bodegalaolmilla.es
SUMMARY:EXPERIENCIA INMERSION AL ORIGEN+ESPECTÁCULO
DESCRIPTION:¡Descubre los secretos enterrados en nuestras bodegas subterráneas en esta experiencia única! Desde su funcionamiento ancestral hasta la actualidad\, te sumergirás en la historia de los artesanos\, la vida en el pueblo y la transformación de estas joyas arquitectónicas. \n\n\n\n🍇 Disfruta de anécdotas y chascarrillos transmitidos de generación en generación por nuestros abuelos mientras degustas el exquisito sabor de nuestro vino local en auténticos jarrillos. Deléitate también con un aperitivo que celebra los sabores locales. Acabamos la visita con un espectáculo sorpresa en directo. \n\n\n\n¡Embárcate en un viaje que combina la tradición con la modernidad! Reserva tu experiencia ahora y sumérgete en la riqueza cultural y gastronómica que nuestras bodegas subterráneas tienen para ofrecer. ¡Te esperamos para vivir momentos inolvidables! 🍷🌟
URL:https://bodegalaolmilla.es/evento/experiencia-inmersion-al-origenespectaculo-45/
END:VEVENT
BEGIN:VEVENT
DTSTART;TZID=Europe/Madrid:20250621T193000
DTEND;TZID=Europe/Madrid:20250621T210000
DTSTAMP:20260421T092232
CREATED:20241220T101459Z
LAST-MODIFIED:20241220T101501Z
UID:11202-1750534200-1750539600@bodegalaolmilla.es
SUMMARY:EXPERIENCIA INMERSION AL ORIGEN+ESPECTÁCULO
DESCRIPTION:¡Descubre los secretos enterrados en nuestras bodegas subterráneas en esta experiencia única! Desde su funcionamiento ancestral hasta la actualidad\, te sumergirás en la historia de los artesanos\, la vida en el pueblo y la transformación de estas joyas arquitectónicas. \n\n\n\n🍇 Disfruta de anécdotas y chascarrillos transmitidos de generación en generación por nuestros abuelos mientras degustas el exquisito sabor de nuestro vino local en auténticos jarrillos. Deléitate también con un aperitivo que celebra los sabores locales. Acabamos la visita con un espectáculo sorpresa en directo. \n\n\n\n¡Embárcate en un viaje que combina la tradición con la modernidad! Reserva tu experiencia ahora y sumérgete en la riqueza cultural y gastronómica que nuestras bodegas subterráneas tienen para ofrecer. ¡Te esperamos para vivir momentos inolvidables! 🍷🌟
URL:https://bodegalaolmilla.es/evento/experiencia-inmersion-al-origenespectaculo-48/
END:VEVENT
END:VCALENDAR