BEGIN:VCALENDAR
VERSION:2.0
PRODID:-//Bodega La Olmilla - ECPv6.15.20//NONSGML v1.0//EN
CALSCALE:GREGORIAN
METHOD:PUBLISH
X-WR-CALNAME:Bodega La Olmilla
X-ORIGINAL-URL:https://bodegalaolmilla.es
X-WR-CALDESC:Eventos para Bodega La Olmilla
REFRESH-INTERVAL;VALUE=DURATION:PT1H
X-Robots-Tag:noindex
X-PUBLISHED-TTL:PT1H
BEGIN:VTIMEZONE
TZID:Europe/Madrid
BEGIN:DAYLIGHT
TZOFFSETFROM:+0100
TZOFFSETTO:+0200
TZNAME:CEST
DTSTART:20240331T010000
END:DAYLIGHT
BEGIN:STANDARD
TZOFFSETFROM:+0200
TZOFFSETTO:+0100
TZNAME:CET
DTSTART:20241027T010000
END:STANDARD
BEGIN:DAYLIGHT
TZOFFSETFROM:+0100
TZOFFSETTO:+0200
TZNAME:CEST
DTSTART:20250330T010000
END:DAYLIGHT
BEGIN:STANDARD
TZOFFSETFROM:+0200
TZOFFSETTO:+0100
TZNAME:CET
DTSTART:20251026T010000
END:STANDARD
BEGIN:DAYLIGHT
TZOFFSETFROM:+0100
TZOFFSETTO:+0200
TZNAME:CEST
DTSTART:20260329T010000
END:DAYLIGHT
BEGIN:STANDARD
TZOFFSETFROM:+0200
TZOFFSETTO:+0100
TZNAME:CET
DTSTART:20261025T010000
END:STANDARD
END:VTIMEZONE
BEGIN:VEVENT
DTSTART;TZID=Europe/Madrid:20250622T113000
DTEND;TZID=Europe/Madrid:20250622T140000
DTSTAMP:20260421T092930
CREATED:20250604T055551Z
LAST-MODIFIED:20250618T092342Z
UID:11412-1750591800-1750600800@bodegalaolmilla.es
SUMMARY:BARRIO DE AYER-GINCANA GUIÑOLIZADA
DESCRIPTION:✨ El Barrio de Ayer cobra vida en La Olmilla🗓️ Domingo 22 de junio | 🕰️ Pases: 11:30 y 13:00 h \n\n\n\n¿Te imaginas recorrer un barrio de bodegas donde los muros susurran historias y los guiñoles te las cuentan?👣 Vente a la Gincana Guiñolizada\, una experiencia familiar y teatral para dar vida al pasado y reírnos en el presente. \n\n\n\nPlazas limitadas\, ¡reserva ya tu entrada y forma parte del juego!📍Un viaje al corazón de la Ribera… como nunca antes lo habías vivido.
URL:https://bodegalaolmilla.es/evento/barrio-de-ayer-yincana-guinolizada-2/
END:VEVENT
END:VCALENDAR