BEGIN:VCALENDAR
VERSION:2.0
PRODID:-//Bodega La Olmilla - ECPv6.15.20//NONSGML v1.0//EN
CALSCALE:GREGORIAN
METHOD:PUBLISH
X-ORIGINAL-URL:https://bodegalaolmilla.es
X-WR-CALDESC:Eventos para Bodega La Olmilla
REFRESH-INTERVAL;VALUE=DURATION:PT1H
X-Robots-Tag:noindex
X-PUBLISHED-TTL:PT1H
BEGIN:VTIMEZONE
TZID:Europe/Madrid
BEGIN:DAYLIGHT
TZOFFSETFROM:+0100
TZOFFSETTO:+0200
TZNAME:CEST
DTSTART:20240331T010000
END:DAYLIGHT
BEGIN:STANDARD
TZOFFSETFROM:+0200
TZOFFSETTO:+0100
TZNAME:CET
DTSTART:20241027T010000
END:STANDARD
BEGIN:DAYLIGHT
TZOFFSETFROM:+0100
TZOFFSETTO:+0200
TZNAME:CEST
DTSTART:20250330T010000
END:DAYLIGHT
BEGIN:STANDARD
TZOFFSETFROM:+0200
TZOFFSETTO:+0100
TZNAME:CET
DTSTART:20251026T010000
END:STANDARD
BEGIN:DAYLIGHT
TZOFFSETFROM:+0100
TZOFFSETTO:+0200
TZNAME:CEST
DTSTART:20260329T010000
END:DAYLIGHT
BEGIN:STANDARD
TZOFFSETFROM:+0200
TZOFFSETTO:+0100
TZNAME:CET
DTSTART:20261025T010000
END:STANDARD
END:VTIMEZONE
BEGIN:VEVENT
DTSTART;TZID=Europe/Madrid:20250704T213000
DTEND;TZID=Europe/Madrid:20250704T230000
DTSTAMP:20260421T074250
CREATED:20250516T085933Z
LAST-MODIFIED:20250703T160958Z
UID:11377-1751664600-1751670000@bodegalaolmilla.es
SUMMARY:CATA DE ESTRELLAS-APLAZADO AL 25 JULIO POR MAL TIEMPO
DESCRIPTION:En Piñel de Abajo\, al caer el sol\, en mitad de una viña. Y con el universo en una copa. \n\n\n\nVen a vivir una experiencia que no cabe en las guías ni en las fotos. La Olmilla te invita a una cata sin postureo ni protocolo: vino servido en jarrillo\, historias populares\, cielo limpio y miles de estrellas como techo. \n\n\n\nAquí no hay escenarios preparados.Hay tierra\, silencio\, risas\, copas alzadas y un firmamento que parece acercarse cuando cae la noche.
URL:https://bodegalaolmilla.es/evento/cata-de-estrellas-7/
END:VEVENT
END:VCALENDAR