BEGIN:VCALENDAR
VERSION:2.0
PRODID:-//Bodega La Olmilla - ECPv6.15.20//NONSGML v1.0//EN
CALSCALE:GREGORIAN
METHOD:PUBLISH
X-ORIGINAL-URL:https://bodegalaolmilla.es
X-WR-CALDESC:Eventos para Bodega La Olmilla
REFRESH-INTERVAL;VALUE=DURATION:PT1H
X-Robots-Tag:noindex
X-PUBLISHED-TTL:PT1H
BEGIN:VTIMEZONE
TZID:Europe/Madrid
BEGIN:DAYLIGHT
TZOFFSETFROM:+0100
TZOFFSETTO:+0200
TZNAME:CEST
DTSTART:20220327T010000
END:DAYLIGHT
BEGIN:STANDARD
TZOFFSETFROM:+0200
TZOFFSETTO:+0100
TZNAME:CET
DTSTART:20221030T010000
END:STANDARD
BEGIN:DAYLIGHT
TZOFFSETFROM:+0100
TZOFFSETTO:+0200
TZNAME:CEST
DTSTART:20230326T010000
END:DAYLIGHT
BEGIN:STANDARD
TZOFFSETFROM:+0200
TZOFFSETTO:+0100
TZNAME:CET
DTSTART:20231029T010000
END:STANDARD
BEGIN:DAYLIGHT
TZOFFSETFROM:+0100
TZOFFSETTO:+0200
TZNAME:CEST
DTSTART:20240331T010000
END:DAYLIGHT
BEGIN:STANDARD
TZOFFSETFROM:+0200
TZOFFSETTO:+0100
TZNAME:CET
DTSTART:20241027T010000
END:STANDARD
END:VTIMEZONE
BEGIN:VEVENT
DTSTART;TZID=Europe/Madrid:20230410T120000
DTEND;TZID=Europe/Madrid:20230410T130000
DTSTAMP:20260420T094037
CREATED:20230404T144904Z
LAST-MODIFIED:20230404T144904Z
UID:9737-1681128000-1681131600@bodegalaolmilla.es
SUMMARY:EXPERIENCIA INMERSIÓN AL ORIGEN
DESCRIPTION:En la experiencia Inmersión al Origen nos centramos en contaros de una manera muy cercana y sencilla\, todo aquello que sucedía en estas bodegas \n\n\n\ncuando estaban en pleno rendimiento. Os situamos en el tiempo y el espacio\, para que conozcáis cómo funcionaba el pueblo entonces\, os contamos\n\n\ntradiciones\, costumbres y chascarrillos que nos han ido contando los abuelos del pueblo\, para que nos se pierdan todo regado con un jarrillo de vino y un pincho. \n\n\nReserva ahora! en reservas@bodegalaolmilla.es ó 689 796 521
URL:https://bodegalaolmilla.es/evento/experiencia-inmersion-al-origen-7/
LOCATION:BODEGA LA OLMILLA\, OLMILLA\,2\, PEÑAFIEL\, VALLADOLID\, 47300\, España
CATEGORIES:EXPERIENCIA "INMERSIÓN AL ORIGEN"
ORGANIZER;CN="Silvia Camacho":MAILTO:info@bodegalaolmilla.es
END:VEVENT
BEGIN:VEVENT
DTSTART;TZID=Europe/Madrid:20230429T120000
DTEND;TZID=Europe/Madrid:20230429T130000
DTSTAMP:20260420T094037
CREATED:20230428T090749Z
LAST-MODIFIED:20230428T090749Z
UID:9750-1682769600-1682773200@bodegalaolmilla.es
SUMMARY:EXPERIENCIA INMERSIÓN AL ORIGEN
DESCRIPTION:En la experiencia Inmersión al Origen nos centramos en contaros de una manera muy cercana y sencilla\, todo aquello que sucedía en estas bodegas \n\n\n\ncuando estaban en pleno rendimiento. Os situamos en el tiempo y el espacio\, para que conozcáis cómo funcionaba el pueblo entonces\, os contamos\n\n\ntradiciones\, costumbres y chascarrillos que nos han ido contando los abuelos del pueblo\, para que nos se pierdan todo regado con un jarrillo de vino y un pincho. \n\n\nReserva ahora! en reservas@bodegalaolmilla.es ó 689 796 521
URL:https://bodegalaolmilla.es/evento/experiencia-inmersion-al-origen-8/
LOCATION:BODEGA LA OLMILLA\, OLMILLA\,2\, PEÑAFIEL\, VALLADOLID\, 47300\, España
CATEGORIES:EXPERIENCIA "INMERSIÓN AL ORIGEN"
ORGANIZER;CN="Silvia Camacho":MAILTO:info@bodegalaolmilla.es
END:VEVENT
BEGIN:VEVENT
DTSTART;TZID=Europe/Madrid:20230430T120000
DTEND;TZID=Europe/Madrid:20230430T130000
DTSTAMP:20260420T094037
CREATED:20230428T093208Z
LAST-MODIFIED:20230428T095450Z
UID:9756-1682856000-1682859600@bodegalaolmilla.es
SUMMARY:EXPERIENCIA INMERSIÓN AL ORIGEN
DESCRIPTION:En la experiencia Inmersión al Origen nos centramos en contaros de una manera muy cercana y sencilla\, todo aquello que sucedía en estas bodegas cuando estaban en pleno rendimiento. Os situamos en el tiempo y el espacio\, para que conozcáis cómo funcionaba el pueblo entonces\, os contamos\n\n\ntradiciones\, costumbres y chascarrillos que nos han ido contando los abuelos del pueblo\, para que nos se pierdan todo regado con un jarrillo de vino y un pincho. \n\n\nReserva ahora! en reservas@bodegalaolmilla.es ó 689 796 521
URL:https://bodegalaolmilla.es/evento/experiencia-inmersion-al-origen-10/
LOCATION:BODEGA LA OLMILLA\, OLMILLA\,2\, PEÑAFIEL\, VALLADOLID\, 47300\, España
CATEGORIES:EXPERIENCIA "INMERSIÓN AL ORIGEN"
ORGANIZER;CN="Silvia Camacho":MAILTO:info@bodegalaolmilla.es
END:VEVENT
END:VCALENDAR