BEGIN:VCALENDAR
VERSION:2.0
PRODID:-//Bodega La Olmilla - ECPv6.15.20//NONSGML v1.0//EN
CALSCALE:GREGORIAN
METHOD:PUBLISH
X-WR-CALNAME:Bodega La Olmilla
X-ORIGINAL-URL:https://bodegalaolmilla.es
X-WR-CALDESC:Eventos para Bodega La Olmilla
REFRESH-INTERVAL;VALUE=DURATION:PT1H
X-Robots-Tag:noindex
X-PUBLISHED-TTL:PT1H
BEGIN:VTIMEZONE
TZID:Europe/Madrid
BEGIN:DAYLIGHT
TZOFFSETFROM:+0100
TZOFFSETTO:+0200
TZNAME:CEST
DTSTART:20220327T010000
END:DAYLIGHT
BEGIN:STANDARD
TZOFFSETFROM:+0200
TZOFFSETTO:+0100
TZNAME:CET
DTSTART:20221030T010000
END:STANDARD
BEGIN:DAYLIGHT
TZOFFSETFROM:+0100
TZOFFSETTO:+0200
TZNAME:CEST
DTSTART:20230326T010000
END:DAYLIGHT
BEGIN:STANDARD
TZOFFSETFROM:+0200
TZOFFSETTO:+0100
TZNAME:CET
DTSTART:20231029T010000
END:STANDARD
BEGIN:DAYLIGHT
TZOFFSETFROM:+0100
TZOFFSETTO:+0200
TZNAME:CEST
DTSTART:20240331T010000
END:DAYLIGHT
BEGIN:STANDARD
TZOFFSETFROM:+0200
TZOFFSETTO:+0100
TZNAME:CET
DTSTART:20241027T010000
END:STANDARD
END:VTIMEZONE
BEGIN:VEVENT
DTSTART;TZID=Europe/Madrid:20230520T123000
DTEND;TZID=Europe/Madrid:20230520T133000
DTSTAMP:20260420T094211
CREATED:20230509T075232Z
LAST-MODIFIED:20230509T075232Z
UID:9769-1684585800-1684589400@bodegalaolmilla.es
SUMMARY:EXPERIENCIA INMERSIÓN AL ORIGEN
DESCRIPTION:En la experiencia Inmersión al Origen nos centramos en contaros de una manera muy cercana y sencilla\, todo aquello que sucedía en estas bodegas \n\ncuando estaban en pleno rendimiento. Os situamos en el tiempo y el espacio\, para que conozcáis cómo funcionaba el pueblo entonces\, os contamos tradiciones\, costumbres y chascarrillos que nos han ido contando los abuelos del pueblo\, para que nos se pierdan todo regado con un jarrillo de vino y un pincho. \n\nReserva ahora! en reservas@bodegalaolmilla.es ó 689 796 521
URL:https://bodegalaolmilla.es/evento/experiencia-inmersion-al-origen-12/
LOCATION:BODEGA LA OLMILLA\, OLMILLA\,2\, PEÑAFIEL\, VALLADOLID\, 47300\, España
CATEGORIES:EXPERIENCIA "INMERSIÓN AL ORIGEN"
ORGANIZER;CN="Silvia Camacho":MAILTO:info@bodegalaolmilla.es
END:VEVENT
END:VCALENDAR