BEGIN:VCALENDAR
VERSION:2.0
PRODID:-//Bodega La Olmilla - ECPv6.15.20//NONSGML v1.0//EN
CALSCALE:GREGORIAN
METHOD:PUBLISH
X-ORIGINAL-URL:https://bodegalaolmilla.es
X-WR-CALDESC:Eventos para Bodega La Olmilla
REFRESH-INTERVAL;VALUE=DURATION:PT1H
X-Robots-Tag:noindex
X-PUBLISHED-TTL:PT1H
BEGIN:VTIMEZONE
TZID:Europe/Madrid
BEGIN:DAYLIGHT
TZOFFSETFROM:+0100
TZOFFSETTO:+0200
TZNAME:CEST
DTSTART:20200329T010000
END:DAYLIGHT
BEGIN:STANDARD
TZOFFSETFROM:+0200
TZOFFSETTO:+0100
TZNAME:CET
DTSTART:20201025T010000
END:STANDARD
BEGIN:DAYLIGHT
TZOFFSETFROM:+0100
TZOFFSETTO:+0200
TZNAME:CEST
DTSTART:20210328T010000
END:DAYLIGHT
BEGIN:STANDARD
TZOFFSETFROM:+0200
TZOFFSETTO:+0100
TZNAME:CET
DTSTART:20211031T010000
END:STANDARD
BEGIN:DAYLIGHT
TZOFFSETFROM:+0100
TZOFFSETTO:+0200
TZNAME:CEST
DTSTART:20220327T010000
END:DAYLIGHT
BEGIN:STANDARD
TZOFFSETFROM:+0200
TZOFFSETTO:+0100
TZNAME:CET
DTSTART:20221030T010000
END:STANDARD
END:VTIMEZONE
BEGIN:VEVENT
DTSTART;TZID=Europe/Madrid:20210801T113000
DTEND;TZID=Europe/Madrid:20210801T130000
DTSTAMP:20260423T102521
CREATED:20210707T220442Z
LAST-MODIFIED:20210707T220641Z
UID:4144-1627817400-1627822800@bodegalaolmilla.es
SUMMARY:VISITA CON ESPECTÁCULO
DESCRIPTION:  \nPlazas muy limitadas! No te lo pienses y reserva ya! \nreservas@bodegalaolmilla.es ó 689 796 521 (whatsapp ó telegram) \nCualquier duda ponte en contacto con nosotros! \nOs esperamos!!
URL:https://bodegalaolmilla.es/evento/visita-con-espectaculo-7/
LOCATION:BODEGA LA OLMILLA\, OLMILLA\,2\, PEÑAFIEL\, VALLADOLID\, 47300\, España
ORGANIZER;CN="Silvia Camacho":MAILTO:info@bodegalaolmilla.es
END:VEVENT
BEGIN:VEVENT
DTSTART;TZID=Europe/Madrid:20210807T190000
DTEND;TZID=Europe/Madrid:20210807T203000
DTSTAMP:20260423T102521
CREATED:20210806T074543Z
LAST-MODIFIED:20210806T074543Z
UID:4533-1628362800-1628368200@bodegalaolmilla.es
SUMMARY:VISITA CON ESPECTÁCULO
DESCRIPTION:  \nPlazas muy limitadas! No te lo pienses y reserva ya! \nreservas@bodegalaolmilla.es ó 689 796 521 (whatsapp ó telegram) \nCualquier duda ponte en contacto con nosotros! \nOs esperamos!!
URL:https://bodegalaolmilla.es/evento/visita-con-espectaculo-8/
LOCATION:BODEGA LA OLMILLA\, OLMILLA\,2\, PEÑAFIEL\, VALLADOLID\, 47300\, España
ORGANIZER;CN="Silvia Camacho":MAILTO:info@bodegalaolmilla.es
END:VEVENT
BEGIN:VEVENT
DTSTART;TZID=Europe/Madrid:20210808T190000
DTEND;TZID=Europe/Madrid:20210808T203000
DTSTAMP:20260423T102521
CREATED:20210806T075006Z
LAST-MODIFIED:20210806T075006Z
UID:4536-1628449200-1628454600@bodegalaolmilla.es
SUMMARY:VISITA CON ESPETÁCULO-LUIS DE LA GUARDIA
DESCRIPTION:NO TE PIERDAS A LUIS DE LA GUARDIA EN DIRECTO! \nPlazas muy limitadas! No te lo pienses y reserva ya! \nreservas@bodegalaolmilla.es ó 689 796 521 (whatsapp ó telegram) \nCualquier duda ponte en contacto con nosotros! \nOs esperamos!!
URL:https://bodegalaolmilla.es/evento/visita-con-espetaculo-luis-de-la-guardia/
LOCATION:VALLADOLID
END:VEVENT
BEGIN:VEVENT
DTSTART;TZID=Europe/Madrid:20210813T190000
DTEND;TZID=Europe/Madrid:20210813T203000
DTSTAMP:20260423T102521
CREATED:20210812T140828Z
LAST-MODIFIED:20210812T141310Z
UID:4644-1628881200-1628886600@bodegalaolmilla.es
SUMMARY:VISITA CON ESPECTÁCULO. VERO DE LUCAS
DESCRIPTION:Plazas limitadas! No te lo pienses y reserva ya! \nreservas@bodegalaolmilla.es ó 689 796 521 (whatsapp ó telegram) \nCualquier duda ponte en contacto con nosotros! \nOs esperamos!!
URL:https://bodegalaolmilla.es/evento/visita-con-espectaculo-vero-de-lucas/
LOCATION:BODEGA LA OLMILLA\, OLMILLA\,2\, PEÑAFIEL\, VALLADOLID\, 47300\, España
CATEGORIES:VISITAS CON ESPETÁCULO
ORGANIZER;CN="Silvia Camacho":MAILTO:info@bodegalaolmilla.es
END:VEVENT
BEGIN:VEVENT
DTSTART;TZID=Europe/Madrid:20210814T190000
DTEND;TZID=Europe/Madrid:20210814T203000
DTSTAMP:20260423T102521
CREATED:20210812T141735Z
LAST-MODIFIED:20210812T141735Z
UID:4656-1628967600-1628973000@bodegalaolmilla.es
SUMMARY:VISITA CON ESPECTÁCULO. RAFI AL SAXOFÓN
DESCRIPTION:Plazas muy limitadas! No te lo pienses y reserva ya! \nreservas@bodegalaolmilla.es ó 689 796 521 (whatsapp ó telegram) \nCualquier duda ponte en contacto con nosotros! \nOs esperamos!!
URL:https://bodegalaolmilla.es/evento/visita-con-espectaculo-rafi-al-saxofon/
LOCATION:BODEGA LA OLMILLA\, OLMILLA\,2\, PEÑAFIEL\, VALLADOLID\, 47300\, España
CATEGORIES:VISITAS CON ESPETÁCULO
ORGANIZER;CN="Silvia Camacho":MAILTO:info@bodegalaolmilla.es
END:VEVENT
BEGIN:VEVENT
DTSTART;TZID=Europe/Madrid:20210820T190000
DTEND;TZID=Europe/Madrid:20210820T203000
DTSTAMP:20260423T102521
CREATED:20210812T150213Z
LAST-MODIFIED:20210812T150213Z
UID:4672-1629486000-1629491400@bodegalaolmilla.es
SUMMARY:VISITA CON ESPECTÁCULO
DESCRIPTION:Plazas muy limitadas! No te lo pienses y reserva ya! \nreservas@bodegalaolmilla.es ó 689 796 521 (whatsapp ó telegram) \nCualquier duda ponte en contacto con nosotros! \nOs esperamos!!
URL:https://bodegalaolmilla.es/evento/visita-con-espectaculo-9/
LOCATION:BODEGA LA OLMILLA\, OLMILLA\,2\, PEÑAFIEL\, VALLADOLID\, 47300\, España
CATEGORIES:VISITAS CON ESPETÁCULO
ORGANIZER;CN="Silvia Camacho":MAILTO:info@bodegalaolmilla.es
END:VEVENT
END:VCALENDAR