BEGIN:VCALENDAR
VERSION:2.0
PRODID:-//Bodega La Olmilla - ECPv6.15.20//NONSGML v1.0//EN
CALSCALE:GREGORIAN
METHOD:PUBLISH
X-ORIGINAL-URL:https://bodegalaolmilla.es
X-WR-CALDESC:Eventos para Bodega La Olmilla
REFRESH-INTERVAL;VALUE=DURATION:PT1H
X-Robots-Tag:noindex
X-PUBLISHED-TTL:PT1H
BEGIN:VTIMEZONE
TZID:Europe/Madrid
BEGIN:DAYLIGHT
TZOFFSETFROM:+0100
TZOFFSETTO:+0200
TZNAME:CEST
DTSTART:20200329T010000
END:DAYLIGHT
BEGIN:STANDARD
TZOFFSETFROM:+0200
TZOFFSETTO:+0100
TZNAME:CET
DTSTART:20201025T010000
END:STANDARD
BEGIN:DAYLIGHT
TZOFFSETFROM:+0100
TZOFFSETTO:+0200
TZNAME:CEST
DTSTART:20210328T010000
END:DAYLIGHT
BEGIN:STANDARD
TZOFFSETFROM:+0200
TZOFFSETTO:+0100
TZNAME:CET
DTSTART:20211031T010000
END:STANDARD
BEGIN:DAYLIGHT
TZOFFSETFROM:+0100
TZOFFSETTO:+0200
TZNAME:CEST
DTSTART:20220327T010000
END:DAYLIGHT
BEGIN:STANDARD
TZOFFSETFROM:+0200
TZOFFSETTO:+0100
TZNAME:CET
DTSTART:20221030T010000
END:STANDARD
END:VTIMEZONE
BEGIN:VEVENT
DTSTART;TZID=Europe/Madrid:20210710T120000
DTEND;TZID=Europe/Madrid:20210710T130000
DTSTAMP:20260423T102239
CREATED:20210707T214318Z
LAST-MODIFIED:20210707T214318Z
UID:4128-1625918400-1625922000@bodegalaolmilla.es
SUMMARY:VISITA CON ESPECTÁCULO
DESCRIPTION:Disfruta de un 20% de descuento el mes de julio en la visita con espectáculo de la bodega tradicional La Olmilla. \nPlazas muy limitadas! No te lo pienses y reserva ya! \nreservas@bodegalaolmilla.es ó 689 796 521 (whatsapp ó telegram) \nOs esperamos!!
URL:https://bodegalaolmilla.es/evento/visita-con-espectaculo-3/
LOCATION:BODEGA LA OLMILLA\, OLMILLA\,2\, PEÑAFIEL\, VALLADOLID\, 47300\, España
CATEGORIES:VISITAS CON ESPETÁCULO
ORGANIZER;CN="Silvia Camacho":MAILTO:info@bodegalaolmilla.es
END:VEVENT
BEGIN:VEVENT
DTSTART;TZID=Europe/Madrid:20210711T120000
DTEND;TZID=Europe/Madrid:20210711T130000
DTSTAMP:20260423T102239
CREATED:20210707T100748Z
LAST-MODIFIED:20210707T100748Z
UID:4109-1626004800-1626008400@bodegalaolmilla.es
SUMMARY:VISITA CON ESPECTÁCULO
DESCRIPTION:Disfruta de un 20% de descuento el mes de julio en la visita con espectáculo de la bodega tradicional La Olmilla. \nPlazas muy limitadas! No te lo pienses y reserva ya! \nreservas@bodegalaolmilla.es ó 689 796 521 (whatsapp ó telegram) \nOs esperamos!!
URL:https://bodegalaolmilla.es/evento/visita-con-espectaculo/
LOCATION:VALLADOLID
CATEGORIES:VISITAS CON ESPETÁCULO
ORGANIZER;CN="Silvia Camacho":MAILTO:info@bodegalaolmilla.es
END:VEVENT
BEGIN:VEVENT
DTSTART;TZID=Europe/Madrid:20210717T190000
DTEND;TZID=Europe/Madrid:20210717T200000
DTSTAMP:20260423T102239
CREATED:20210707T214803Z
LAST-MODIFIED:20210707T214803Z
UID:4130-1626548400-1626552000@bodegalaolmilla.es
SUMMARY:VISITA CON ESPECTÁCULO
DESCRIPTION:Disfruta de un 20% de descuento el mes de julio en la visita con espectáculo de la bodega tradicional La Olmilla. \nPlazas muy limitadas! No te lo pienses y reserva ya! \nreservas@bodegalaolmilla.es ó 689 796 521 (whatsapp ó telegram) \nOs esperamos!!
URL:https://bodegalaolmilla.es/evento/visita-con-espectaculo-4/
LOCATION:BODEGA LA OLMILLA\, OLMILLA\,2\, PEÑAFIEL\, VALLADOLID\, 47300\, España
CATEGORIES:VISITAS CON ESPETÁCULO
ORGANIZER;CN="Silvia Camacho":MAILTO:info@bodegalaolmilla.es
END:VEVENT
BEGIN:VEVENT
DTSTART;TZID=Europe/Madrid:20210718T120000
DTEND;TZID=Europe/Madrid:20210718T130000
DTSTAMP:20260423T102239
CREATED:20210707T215537Z
LAST-MODIFIED:20210707T215716Z
UID:4135-1626609600-1626613200@bodegalaolmilla.es
SUMMARY:VISITA CON ESPECTÁCULO
DESCRIPTION:Disfruta de un 20% de descuento el mes de julio en la visita con espectáculo de la bodega tradicional La Olmilla. \nPlazas muy limitadas! No te lo pienses y reserva ya! \nreservas@bodegalaolmilla.es ó 689 796 521 (whatsapp ó telegram) \nOs esperamos!!
URL:https://bodegalaolmilla.es/evento/visita-con-espectaculo-6/
LOCATION:BODEGA LA OLMILLA\, OLMILLA\,2\, PEÑAFIEL\, VALLADOLID\, 47300\, España
CATEGORIES:VISITAS CON ESPETÁCULO
ORGANIZER;CN="Silvia Camacho":MAILTO:info@bodegalaolmilla.es
END:VEVENT
BEGIN:VEVENT
DTSTART;TZID=Europe/Madrid:20210724T190000
DTEND;TZID=Europe/Madrid:20210724T200000
DTSTAMP:20260423T102239
CREATED:20210707T213708Z
LAST-MODIFIED:20210707T213708Z
UID:4123-1627153200-1627156800@bodegalaolmilla.es
SUMMARY:VISITA CON ESPECTÁCULO
DESCRIPTION:Disfruta de un 20% de descuento el mes de julio en la visita con espectáculo de la bodega tradicional La Olmilla. \nPlazas muy limitadas! No te lo pienses y reserva ya! \nreservas@bodegalaolmilla.es ó 689 796 521 (whatsapp ó telegram) \nOs esperamos!!
URL:https://bodegalaolmilla.es/evento/visita-con-espectaculo-2/
LOCATION:BODEGA LA OLMILLA\, OLMILLA\,2\, PEÑAFIEL\, VALLADOLID\, 47300\, España
CATEGORIES:VISITAS CON ESPETÁCULO
ORGANIZER;CN="Silvia Camacho":MAILTO:info@bodegalaolmilla.es
END:VEVENT
BEGIN:VEVENT
DTSTART;TZID=Europe/Madrid:20210725T120000
DTEND;TZID=Europe/Madrid:20210725T130000
DTSTAMP:20260423T102239
CREATED:20210707T215023Z
LAST-MODIFIED:20210707T215351Z
UID:4132-1627214400-1627218000@bodegalaolmilla.es
SUMMARY:VISITA CON ESPECTÁCULO
DESCRIPTION:Disfruta de un 20% de descuento el mes de julio en la visita con espectáculo de la bodega tradicional La Olmilla. \nPlazas muy limitadas! No te lo pienses y reserva ya! \nreservas@bodegalaolmilla.es ó 689 796 521 (whatsapp ó telegram) \nOs esperamos!!
URL:https://bodegalaolmilla.es/evento/visita-con-espectaculo-5/
LOCATION:BODEGA LA OLMILLA\, OLMILLA\,2\, PEÑAFIEL\, VALLADOLID\, 47300\, España
CATEGORIES:VISITAS CON ESPETÁCULO
ORGANIZER;CN="Silvia Camacho":MAILTO:info@bodegalaolmilla.es
END:VEVENT
BEGIN:VEVENT
DTSTART;TZID=Europe/Madrid:20210731T190000
DTEND;TZID=Europe/Madrid:20210731T200000
DTSTAMP:20260423T102239
CREATED:20210707T220159Z
LAST-MODIFIED:20210707T220159Z
UID:4141-1627758000-1627761600@bodegalaolmilla.es
SUMMARY:VISITA CON ESPETÁCULO
DESCRIPTION:Disfruta de un 20% de descuento el mes de julio en la visita con espectáculo de la bodega tradicional La Olmilla. \nPlazas muy limitadas! No te lo pienses y reserva ya! \nreservas@bodegalaolmilla.es ó 689 796 521 (whatsapp ó telegram) \nOs esperamos!!
URL:https://bodegalaolmilla.es/evento/visita-con-espetaculo/
LOCATION:BODEGA LA OLMILLA\, OLMILLA\,2\, PEÑAFIEL\, VALLADOLID\, 47300\, España
CATEGORIES:VISITAS CON ESPETÁCULO
ORGANIZER;CN="Silvia Camacho":MAILTO:info@bodegalaolmilla.es
END:VEVENT
END:VCALENDAR