BEGIN:VCALENDAR
VERSION:2.0
PRODID:-//Bodega La Olmilla - ECPv6.15.20//NONSGML v1.0//EN
CALSCALE:GREGORIAN
METHOD:PUBLISH
X-ORIGINAL-URL:https://bodegalaolmilla.es
X-WR-CALDESC:Eventos para Bodega La Olmilla
REFRESH-INTERVAL;VALUE=DURATION:PT1H
X-Robots-Tag:noindex
X-PUBLISHED-TTL:PT1H
BEGIN:VTIMEZONE
TZID:Europe/Madrid
BEGIN:DAYLIGHT
TZOFFSETFROM:+0100
TZOFFSETTO:+0200
TZNAME:CEST
DTSTART:20220327T010000
END:DAYLIGHT
BEGIN:STANDARD
TZOFFSETFROM:+0200
TZOFFSETTO:+0100
TZNAME:CET
DTSTART:20221030T010000
END:STANDARD
BEGIN:DAYLIGHT
TZOFFSETFROM:+0100
TZOFFSETTO:+0200
TZNAME:CEST
DTSTART:20230326T010000
END:DAYLIGHT
BEGIN:STANDARD
TZOFFSETFROM:+0200
TZOFFSETTO:+0100
TZNAME:CET
DTSTART:20231029T010000
END:STANDARD
BEGIN:DAYLIGHT
TZOFFSETFROM:+0100
TZOFFSETTO:+0200
TZNAME:CEST
DTSTART:20240331T010000
END:DAYLIGHT
BEGIN:STANDARD
TZOFFSETFROM:+0200
TZOFFSETTO:+0100
TZNAME:CET
DTSTART:20241027T010000
END:STANDARD
END:VTIMEZONE
BEGIN:VEVENT
DTSTART;TZID=Europe/Madrid:20230910T120000
DTEND;TZID=Europe/Madrid:20230910T130000
DTSTAMP:20260422T081721
CREATED:20230830T082112Z
LAST-MODIFIED:20230830T085049Z
UID:10004-1694347200-1694350800@bodegalaolmilla.es
SUMMARY:EXPERIENCIA INMERSIÓN AL ORIGEN
DESCRIPTION:En la experiencia Inmersión al Origen nos centramos en contaros de unamanera muy cercana y sencilla\, todo aquello que sucedía en estas bodegas  \n\n\n\ncuando estaban en pleno rendimiento. Os situamos en el tiempo y el espacio\, para que conozcáis cómo funcionaba el pueblo entonces\, os contamos tradiciones\, costumbres y chascarrillos que nos han ido contando losabuelos del pueblo\, para que nos se pierdan todo regado con un jarrillo de vino y un pincho.  \n\n\n\n\n\n\nReserva ahora! en reservas@bodegalaolmilla.es ó 689 796 521
URL:https://bodegalaolmilla.es/evento/experiencia-inmersion-al-origen-16/
LOCATION:BODEGA LA OLMILLA<br>\, CALLE OLMILLA\,2\, PEÑAFIEL - VALLADOLID\, España
CATEGORIES:EXPERIENCIA "INMERSIÓN AL ORIGEN"
END:VEVENT
BEGIN:VEVENT
DTSTART;TZID=Europe/Madrid:20230923T120000
DTEND;TZID=Europe/Madrid:20230923T133000
DTSTAMP:20260422T081721
CREATED:20230922T171225Z
LAST-MODIFIED:20230922T171413Z
UID:10035-1695470400-1695475800@bodegalaolmilla.es
SUMMARY:EXPERIENCIA CON ESPECTÁCULO - BAILE FLAMENCO
DESCRIPTION:En esta experiencia les contamos todo lo que tiene que ver con las bodegas subterráneas y el vino desde cuando estaban en funcionamiento y cómo funcionaba el pueblo entonces hasta nuestros días. Todo regado con anécdotas y chascarrillos que los propios abuelos nos cuentan\, con una degustación en jarrillo de vino local y un aperitivo también de productos locales. Acabamos con un espectáculo en la cueva.
URL:https://bodegalaolmilla.es/evento/experiencia-con-espectaculo-baile-flamenco/
LOCATION:BODEGA LA OLMILLA\, CALLE OLMILLA\,2\, PEÑAFIEL\, España
CATEGORIES:EXPERIENCIAS CON ESPECTÁCULO
END:VEVENT
BEGIN:VEVENT
DTSTART;TZID=Europe/Madrid:20230924T120000
DTEND;TZID=Europe/Madrid:20230924T133000
DTSTAMP:20260422T081721
CREATED:20230922T171703Z
LAST-MODIFIED:20230922T173049Z
UID:10039-1695556800-1695562200@bodegalaolmilla.es
SUMMARY:EXPERIENCIA CON ESPECTÁCULO - MAGIA
DESCRIPTION:En esta experiencia les contamos todo lo que tiene que ver con las bodegas subterráneas y el vino desde cuando estaban en funcionamiento y cómo funcionaba el pueblo entonces hasta nuestros días. Todo regado con anécdotas y chascarrillos que los propios abuelos nos cuentan\, con una degustación en jarrillo de vino local y un aperitivo también de productos locales. Acabamos con un espectáculo en la cueva de magia con el mago Merlín Siglo 21
URL:https://bodegalaolmilla.es/evento/experiencia-con-espectaculo-magia/
CATEGORIES:EXPERIENCIAS CON ESPECTÁCULO
END:VEVENT
BEGIN:VEVENT
DTSTART;TZID=Europe/Madrid:20230929T180000
DTEND;TZID=Europe/Madrid:20230929T190000
DTSTAMP:20260422T081721
CREATED:20230922T165425Z
LAST-MODIFIED:20230922T165735Z
UID:10026-1696010400-1696014000@bodegalaolmilla.es
SUMMARY:EXPERIENCIA INMERSIÓN AL ORIGEN
DESCRIPTION:En la experiencia Inmersión al Origen nos centramos en contaros de una manera muy cercana y sencilla\, todo aquello que sucedía en estas bodegas  \n\n\n\ncuando estaban en pleno rendimiento. Os situamos en el tiempo y el espacio\, para que conozcáis cómo funcionaba el pueblo entonces\, os contamos tradiciones\, costumbres y chascarrillos que nos han ido contando los abuelos del pueblo\, para que nos se pierdan todo regado con un jarrillo de vino y un pincho.  \n\n\n\n\n\n\n\nReserva ahora! en reservas@bodegalaolmilla.es ó 689 796 521
URL:https://bodegalaolmilla.es/evento/experiencia-inmersion-al-origen-18/
LOCATION:BODEGA LA OLMILLA
CATEGORIES:EXPERIENCIA "INMERSIÓN AL ORIGEN"
ORGANIZER;CN="SILVIA CAMACHO":MAILTO:reservas@bodegalaolmilla.es
END:VEVENT
BEGIN:VEVENT
DTSTART;TZID=Europe/Madrid:20230930T120000
DTEND;TZID=Europe/Madrid:20230930T133000
DTSTAMP:20260422T081721
CREATED:20230922T172809Z
LAST-MODIFIED:20230922T172819Z
UID:10043-1696075200-1696080600@bodegalaolmilla.es
SUMMARY:EXPERIENCIA CON ESPECTÁCULO - MAGIA
DESCRIPTION:
URL:https://bodegalaolmilla.es/evento/experiencia-con-espectaculo-magia-2/
CATEGORIES:EXPERIENCIAS CON ESPECTÁCULO
END:VEVENT
END:VCALENDAR