BEGIN:VCALENDAR
VERSION:2.0
PRODID:-//Bodega La Olmilla - ECPv6.15.20//NONSGML v1.0//EN
CALSCALE:GREGORIAN
METHOD:PUBLISH
X-ORIGINAL-URL:https://bodegalaolmilla.es
X-WR-CALDESC:Eventos para Bodega La Olmilla
REFRESH-INTERVAL;VALUE=DURATION:PT1H
X-Robots-Tag:noindex
X-PUBLISHED-TTL:PT1H
BEGIN:VTIMEZONE
TZID:Europe/Madrid
BEGIN:DAYLIGHT
TZOFFSETFROM:+0100
TZOFFSETTO:+0200
TZNAME:CEST
DTSTART:20210328T010000
END:DAYLIGHT
BEGIN:STANDARD
TZOFFSETFROM:+0200
TZOFFSETTO:+0100
TZNAME:CET
DTSTART:20211031T010000
END:STANDARD
BEGIN:DAYLIGHT
TZOFFSETFROM:+0100
TZOFFSETTO:+0200
TZNAME:CEST
DTSTART:20220327T010000
END:DAYLIGHT
BEGIN:STANDARD
TZOFFSETFROM:+0200
TZOFFSETTO:+0100
TZNAME:CET
DTSTART:20221030T010000
END:STANDARD
BEGIN:DAYLIGHT
TZOFFSETFROM:+0100
TZOFFSETTO:+0200
TZNAME:CEST
DTSTART:20230326T010000
END:DAYLIGHT
BEGIN:STANDARD
TZOFFSETFROM:+0200
TZOFFSETTO:+0100
TZNAME:CET
DTSTART:20231029T010000
END:STANDARD
END:VTIMEZONE
BEGIN:VEVENT
DTSTART;TZID=Europe/Madrid:20220813T190000
DTEND;TZID=Europe/Madrid:20220813T203000
DTSTAMP:20260421T023009
CREATED:20220812T090340Z
LAST-MODIFIED:20220812T090340Z
UID:8940-1660417200-1660422600@bodegalaolmilla.es
SUMMARY:EXPERIENCIA CON ESPECTÁCULO - NACIMIENTO DE BACO (COMEDIA)
DESCRIPTION:Experiencia en una bodega tradicional donde hacer un viaje al pasado. Conocer curiosidades de este pueblo ligado a la vinicultura. Secretos en torno a la elaboración y venta del vino\, para volver\, y seguir disfrutando del presente en la Olmilla con un espectáculo de teatro «El Nacimiento de Baco». \nDos frailes muy gamberros representan como nació Dioniso el Dios de vino y otras aventuras en clave comedia. \nPlazas muy limitadas! No te lo pienses y reserva ya! \nreservas@bodegalaolmilla.es desde el 689 796 521 (whatsapp desde telegrama) \nCualquier duda ponte en contacto con nosotros! \n¡¡Te esperamos!!
URL:https://bodegalaolmilla.es/evento/experiencia-con-espectaculo-nacimiento-de-baco-comedia/
LOCATION:BODEGA LA OLMILLA\, OLMILLA\,2\, PEÑAFIEL\, VALLADOLID\, 47300\, España
CATEGORIES:EXPERIENCIAS CON ESPECTÁCULO
ORGANIZER;CN="Silvia Camacho":MAILTO:info@bodegalaolmilla.es
END:VEVENT
END:VCALENDAR