BEGIN:VCALENDAR
VERSION:2.0
PRODID:-//Bodega La Olmilla - ECPv6.15.20//NONSGML v1.0//EN
CALSCALE:GREGORIAN
METHOD:PUBLISH
X-WR-CALNAME:Bodega La Olmilla
X-ORIGINAL-URL:https://bodegalaolmilla.es
X-WR-CALDESC:Eventos para Bodega La Olmilla
REFRESH-INTERVAL;VALUE=DURATION:PT1H
X-Robots-Tag:noindex
X-PUBLISHED-TTL:PT1H
BEGIN:VTIMEZONE
TZID:Europe/Madrid
BEGIN:DAYLIGHT
TZOFFSETFROM:+0100
TZOFFSETTO:+0200
TZNAME:CEST
DTSTART:20210328T010000
END:DAYLIGHT
BEGIN:STANDARD
TZOFFSETFROM:+0200
TZOFFSETTO:+0100
TZNAME:CET
DTSTART:20211031T010000
END:STANDARD
BEGIN:DAYLIGHT
TZOFFSETFROM:+0100
TZOFFSETTO:+0200
TZNAME:CEST
DTSTART:20220327T010000
END:DAYLIGHT
BEGIN:STANDARD
TZOFFSETFROM:+0200
TZOFFSETTO:+0100
TZNAME:CET
DTSTART:20221030T010000
END:STANDARD
BEGIN:DAYLIGHT
TZOFFSETFROM:+0100
TZOFFSETTO:+0200
TZNAME:CEST
DTSTART:20230326T010000
END:DAYLIGHT
BEGIN:STANDARD
TZOFFSETFROM:+0200
TZOFFSETTO:+0100
TZNAME:CET
DTSTART:20231029T010000
END:STANDARD
END:VTIMEZONE
BEGIN:VEVENT
DTSTART;TZID=Europe/Madrid:20220604T133000
DTEND;TZID=Europe/Madrid:20220604T143000
DTSTAMP:20260421T120555
CREATED:20220602T054802Z
LAST-MODIFIED:20220602T054802Z
UID:8256-1654349400-1654353000@bodegalaolmilla.es
SUMMARY:EXPERIENCIA INMERSIÓN AL ORIGEN - I RUTA DEL QUESO EN PEÑAFIEL
DESCRIPTION:En junio La Olmilla sabe a queso Flor de Esgueva. No os perdáis la visita inmersión al Origen con degustación de este queso que está hecho en Peñafiel. \nReserva ahora! en reservas@bodegalaolmilla.es ó 689 796 521
URL:https://bodegalaolmilla.es/evento/experiencia-inmersion-al-origen-i-ruta-del-queso-en-penafiel/
LOCATION:BODEGA LA OLMILLA\, OLMILLA\,2\, PEÑAFIEL\, VALLADOLID\, 47300\, España
CATEGORIES:EXPERIENCIA "INMERSIÓN AL ORIGEN"
ORGANIZER;CN="Silvia Camacho":MAILTO:info@bodegalaolmilla.es
END:VEVENT
BEGIN:VEVENT
DTSTART;TZID=Europe/Madrid:20220605T120000
DTEND;TZID=Europe/Madrid:20220605T130000
DTSTAMP:20260421T120555
CREATED:20220602T055157Z
LAST-MODIFIED:20220602T055157Z
UID:8258-1654430400-1654434000@bodegalaolmilla.es
SUMMARY:EXPERIENCIA INMERSIÓN AL ORIGEN - I RUTA DEL QUESO
DESCRIPTION:En junio La Olmilla sabe a queso Flor de Esgueva. No os perdáis la visita inmersión al Origen con degustación de este queso que está hecho en Peñafiel. \nReserva ahora! en reservas@bodegalaolmilla.es ó 689 796 521
URL:https://bodegalaolmilla.es/evento/experiencia-inmersion-al-origen-i-ruta-del-queso/
LOCATION:BODEGA LA OLMILLA\, OLMILLA\,2\, PEÑAFIEL\, VALLADOLID\, 47300\, España
CATEGORIES:EXPERIENCIA "INMERSIÓN AL ORIGEN"
ORGANIZER;CN="Silvia Camacho":MAILTO:info@bodegalaolmilla.es
END:VEVENT
BEGIN:VEVENT
DTSTART;TZID=Europe/Madrid:20220605T133000
DTEND;TZID=Europe/Madrid:20220605T143000
DTSTAMP:20260421T120555
CREATED:20220602T055527Z
LAST-MODIFIED:20220602T055527Z
UID:8260-1654435800-1654439400@bodegalaolmilla.es
SUMMARY:EXPERIENCIA INMERSIÓN AL ORIGEN - I RUTA DEL QUESO EN PEÑAFIEL
DESCRIPTION:En junio La Olmilla sabe a queso Flor de Esgueva. No os perdáis la visita inmersión al Origen con degustación de este queso que está hecho en Peñafiel. \nReserva ahora! en reservas@bodegalaolmilla.es ó 689 796 521
URL:https://bodegalaolmilla.es/evento/experiencia-inmersion-al-origen-i-ruta-del-queso-en-penafiel-2/
LOCATION:BODEGA LA OLMILLA\, OLMILLA\,2\, PEÑAFIEL\, VALLADOLID\, 47300\, España
CATEGORIES:EXPERIENCIA "INMERSIÓN AL ORIGEN"
ORGANIZER;CN="Silvia Camacho":MAILTO:info@bodegalaolmilla.es
END:VEVENT
BEGIN:VEVENT
DTSTART;TZID=Europe/Madrid:20220617T200000
DTEND;TZID=Europe/Madrid:20220617T210000
DTSTAMP:20260421T120555
CREATED:20220602T070414Z
LAST-MODIFIED:20220602T070642Z
UID:8262-1655496000-1655499600@bodegalaolmilla.es
SUMMARY:QUE NO TE LA DEN CON QUESO - CATA DE QUESOS LOCALES CON VINO
DESCRIPTION:CATA DE QUESOS CON VINO \nSi no quieres que te la den con queso\, tienes que hacer esta cata de quesos locales y aprender lo que hay de realidad o ficción que hay dentro de este maridaje. \nElia Arranz\, recientemente galardonada como sumiller del año XV premios empresariales MVD\, será la encargada de hacerlo. \n  \nReserva ahora! Plazas limitadas! en reservas@bodegalaolmilla.es ó 689 796 521
URL:https://bodegalaolmilla.es/evento/que-no-te-la-den-con-queso-cata-de-quesos-locales-con-vino/
LOCATION:BODEGA LA OLMILLA\, OLMILLA\,2\, PEÑAFIEL\, VALLADOLID\, 47300\, España
CATEGORIES:CATA DE QUESOS
ORGANIZER;CN="Silvia Camacho":MAILTO:info@bodegalaolmilla.es
END:VEVENT
BEGIN:VEVENT
DTSTART;TZID=Europe/Madrid:20220618T120000
DTEND;TZID=Europe/Madrid:20220618T130000
DTSTAMP:20260421T120555
CREATED:20220602T104858Z
LAST-MODIFIED:20220602T104858Z
UID:8286-1655553600-1655557200@bodegalaolmilla.es
SUMMARY:EXPERIENCIA INMERSIÓN AL ORIGEN - IRUTA DEL QUESO EN PEÑAFIEL
DESCRIPTION:En junio La Olmilla sabe a queso Flor de Esgueva. No os perdáis la visita inmersión al Origen con degustación de este queso que está hecho en Peñafiel. \nReserva ahora! en reservas@bodegalaolmilla.es ó 689 796 521
URL:https://bodegalaolmilla.es/evento/experiencia-inmersion-al-origen-iruta-del-queso-en-penafiel/
LOCATION:BODEGA LA OLMILLA\, OLMILLA\,2\, PEÑAFIEL\, VALLADOLID\, 47300\, España
CATEGORIES:EXPERIENCIA "INMERSIÓN AL ORIGEN"
ORGANIZER;CN="Silvia Camacho":MAILTO:info@bodegalaolmilla.es
END:VEVENT
BEGIN:VEVENT
DTSTART;TZID=Europe/Madrid:20220618T133000
DTEND;TZID=Europe/Madrid:20220618T143000
DTSTAMP:20260421T120555
CREATED:20220602T105053Z
LAST-MODIFIED:20220602T105158Z
UID:8288-1655559000-1655562600@bodegalaolmilla.es
SUMMARY:EXPERIENCIA INMERSIÓN AL ORIGEN - I RUTA DEL QUESO EN PEÑAFIEL
DESCRIPTION:En junio La Olmilla sabe a queso Flor de Esgueva. No os perdáis la visita inmersión al Origen con degustación de este queso que está hecho en Peñafiel. \nReserva ahora! en reservas@bodegalaolmilla.es ó 689 796 521
URL:https://bodegalaolmilla.es/evento/experiencia-inmersion-al-origen-i-ruta-del-queso-en-penafiel-3/
LOCATION:BODEGA LA OLMILLA\, OLMILLA\,2\, PEÑAFIEL\, VALLADOLID\, 47300\, España
CATEGORIES:EXPERIENCIA "INMERSIÓN AL ORIGEN"
ORGANIZER;CN="Silvia Camacho":MAILTO:info@bodegalaolmilla.es
END:VEVENT
BEGIN:VEVENT
DTSTART;TZID=Europe/Madrid:20220619T120000
DTEND;TZID=Europe/Madrid:20220619T130000
DTSTAMP:20260421T120555
CREATED:20220602T105453Z
LAST-MODIFIED:20220602T105453Z
UID:8290-1655640000-1655643600@bodegalaolmilla.es
SUMMARY:EXPERIENCIA INMERSIÓN AL ORIGEN - I RUTA DEL QUESO EN PEÑAFIEL
DESCRIPTION:En junio La Olmilla sabe a queso Flor de Esgueva. No os perdáis la visita inmersión al Origen con degustación de este queso que está hecho en Peñafiel. \nReserva ahora! en reservas@bodegalaolmilla.es ó 689 796 521
URL:https://bodegalaolmilla.es/evento/experiencia-inmersion-al-origen-i-ruta-del-queso-en-penafiel-4/
LOCATION:BODEGA LA OLMILLA\, OLMILLA\,2\, PEÑAFIEL\, VALLADOLID\, 47300\, España
CATEGORIES:EXPERIENCIA "INMERSIÓN AL ORIGEN"
ORGANIZER;CN="Silvia Camacho":MAILTO:info@bodegalaolmilla.es
END:VEVENT
BEGIN:VEVENT
DTSTART;TZID=Europe/Madrid:20220619T133000
DTEND;TZID=Europe/Madrid:20220619T143000
DTSTAMP:20260421T120555
CREATED:20220602T105728Z
LAST-MODIFIED:20220602T105728Z
UID:8292-1655645400-1655649000@bodegalaolmilla.es
SUMMARY:EXPERIENCIA INMERSIÓN AL ORIGEN - I RUTA DEL QUESO EN PEÑAFIEL
DESCRIPTION:En junio La Olmilla sabe a queso Flor de Esgueva. No os perdáis la visita inmersión al Origen con degustación de este queso que está hecho en Peñafiel. \nReserva ahora! en reservas@bodegalaolmilla.es ó 689 796 521
URL:https://bodegalaolmilla.es/evento/experiencia-inmersion-al-origen-i-ruta-del-queso-en-penafiel-5/
LOCATION:BODEGA LA OLMILLA\, OLMILLA\,2\, PEÑAFIEL\, VALLADOLID\, 47300\, España
CATEGORIES:EXPERIENCIA "INMERSIÓN AL ORIGEN"
ORGANIZER;CN="Silvia Camacho":MAILTO:info@bodegalaolmilla.es
END:VEVENT
END:VCALENDAR