BEGIN:VCALENDAR
VERSION:2.0
PRODID:-//Bodega La Olmilla - ECPv6.15.20//NONSGML v1.0//EN
CALSCALE:GREGORIAN
METHOD:PUBLISH
X-ORIGINAL-URL:https://bodegalaolmilla.es
X-WR-CALDESC:Eventos para Bodega La Olmilla
REFRESH-INTERVAL;VALUE=DURATION:PT1H
X-Robots-Tag:noindex
X-PUBLISHED-TTL:PT1H
BEGIN:VTIMEZONE
TZID:Europe/Madrid
BEGIN:DAYLIGHT
TZOFFSETFROM:+0100
TZOFFSETTO:+0200
TZNAME:CEST
DTSTART:20210328T010000
END:DAYLIGHT
BEGIN:STANDARD
TZOFFSETFROM:+0200
TZOFFSETTO:+0100
TZNAME:CET
DTSTART:20211031T010000
END:STANDARD
BEGIN:DAYLIGHT
TZOFFSETFROM:+0100
TZOFFSETTO:+0200
TZNAME:CEST
DTSTART:20220327T010000
END:DAYLIGHT
BEGIN:STANDARD
TZOFFSETFROM:+0200
TZOFFSETTO:+0100
TZNAME:CET
DTSTART:20221030T010000
END:STANDARD
BEGIN:DAYLIGHT
TZOFFSETFROM:+0100
TZOFFSETTO:+0200
TZNAME:CEST
DTSTART:20230326T010000
END:DAYLIGHT
BEGIN:STANDARD
TZOFFSETFROM:+0200
TZOFFSETTO:+0100
TZNAME:CET
DTSTART:20231029T010000
END:STANDARD
END:VTIMEZONE
BEGIN:VEVENT
DTSTART;TZID=Europe/Madrid:20220619T120000
DTEND;TZID=Europe/Madrid:20220619T130000
DTSTAMP:20260421T135420
CREATED:20220602T105453Z
LAST-MODIFIED:20220602T105453Z
UID:8290-1655640000-1655643600@bodegalaolmilla.es
SUMMARY:EXPERIENCIA INMERSIÓN AL ORIGEN - I RUTA DEL QUESO EN PEÑAFIEL
DESCRIPTION:En junio La Olmilla sabe a queso Flor de Esgueva. No os perdáis la visita inmersión al Origen con degustación de este queso que está hecho en Peñafiel. \nReserva ahora! en reservas@bodegalaolmilla.es ó 689 796 521
URL:https://bodegalaolmilla.es/evento/experiencia-inmersion-al-origen-i-ruta-del-queso-en-penafiel-4/
LOCATION:BODEGA LA OLMILLA\, OLMILLA\,2\, PEÑAFIEL\, VALLADOLID\, 47300\, España
CATEGORIES:EXPERIENCIA "INMERSIÓN AL ORIGEN"
ORGANIZER;CN="Silvia Camacho":MAILTO:info@bodegalaolmilla.es
END:VEVENT
BEGIN:VEVENT
DTSTART;TZID=Europe/Madrid:20220619T133000
DTEND;TZID=Europe/Madrid:20220619T143000
DTSTAMP:20260421T135420
CREATED:20220602T105728Z
LAST-MODIFIED:20220602T105728Z
UID:8292-1655645400-1655649000@bodegalaolmilla.es
SUMMARY:EXPERIENCIA INMERSIÓN AL ORIGEN - I RUTA DEL QUESO EN PEÑAFIEL
DESCRIPTION:En junio La Olmilla sabe a queso Flor de Esgueva. No os perdáis la visita inmersión al Origen con degustación de este queso que está hecho en Peñafiel. \nReserva ahora! en reservas@bodegalaolmilla.es ó 689 796 521
URL:https://bodegalaolmilla.es/evento/experiencia-inmersion-al-origen-i-ruta-del-queso-en-penafiel-5/
LOCATION:BODEGA LA OLMILLA\, OLMILLA\,2\, PEÑAFIEL\, VALLADOLID\, 47300\, España
CATEGORIES:EXPERIENCIA "INMERSIÓN AL ORIGEN"
ORGANIZER;CN="Silvia Camacho":MAILTO:info@bodegalaolmilla.es
END:VEVENT
END:VCALENDAR