BEGIN:VCALENDAR
VERSION:2.0
PRODID:-//Bodega La Olmilla - ECPv6.15.20//NONSGML v1.0//EN
CALSCALE:GREGORIAN
METHOD:PUBLISH
X-WR-CALNAME:Bodega La Olmilla
X-ORIGINAL-URL:https://bodegalaolmilla.es
X-WR-CALDESC:Eventos para Bodega La Olmilla
REFRESH-INTERVAL;VALUE=DURATION:PT1H
X-Robots-Tag:noindex
X-PUBLISHED-TTL:PT1H
BEGIN:VTIMEZONE
TZID:Europe/Madrid
BEGIN:DAYLIGHT
TZOFFSETFROM:+0100
TZOFFSETTO:+0200
TZNAME:CEST
DTSTART:20210328T010000
END:DAYLIGHT
BEGIN:STANDARD
TZOFFSETFROM:+0200
TZOFFSETTO:+0100
TZNAME:CET
DTSTART:20211031T010000
END:STANDARD
BEGIN:DAYLIGHT
TZOFFSETFROM:+0100
TZOFFSETTO:+0200
TZNAME:CEST
DTSTART:20220327T010000
END:DAYLIGHT
BEGIN:STANDARD
TZOFFSETFROM:+0200
TZOFFSETTO:+0100
TZNAME:CET
DTSTART:20221030T010000
END:STANDARD
BEGIN:DAYLIGHT
TZOFFSETFROM:+0100
TZOFFSETTO:+0200
TZNAME:CEST
DTSTART:20230326T010000
END:DAYLIGHT
BEGIN:STANDARD
TZOFFSETFROM:+0200
TZOFFSETTO:+0100
TZNAME:CET
DTSTART:20231029T010000
END:STANDARD
END:VTIMEZONE
BEGIN:VEVENT
DTSTART;TZID=Europe/Madrid:20221015T120000
DTEND;TZID=Europe/Madrid:20221015T130000
DTSTAMP:20260422T104452
CREATED:20221010T111851Z
LAST-MODIFIED:20221010T111851Z
UID:9525-1665835200-1665838800@bodegalaolmilla.es
SUMMARY:VISITA TEATRALIZADA POR EL BARRIO DE BODEGA POR EL BARRIO DE PEÑAFIEL
DESCRIPTION:Visita teatralizada por el barrio de bodegas de Peñafiel\, descubriendo rincones mágicos y con historia de una manera divertida. \nAcabamos degustando un vino con aperitivo en la Olmilla.
URL:https://bodegalaolmilla.es/evento/visita-teatralizada-por-el-barrio-de-bodega-por-el-barrio-de-penafiel-2/
LOCATION:VALLADOLID
CATEGORIES:VISITA TEATRALIZADA
ORGANIZER;CN="Silvia Camacho":MAILTO:info@bodegalaolmilla.es
END:VEVENT
BEGIN:VEVENT
DTSTART;TZID=Europe/Madrid:20221031T120000
DTEND;TZID=Europe/Madrid:20221031T130000
DTSTAMP:20260422T104452
CREATED:20221010T113314Z
LAST-MODIFIED:20221010T113314Z
UID:9529-1667217600-1667221200@bodegalaolmilla.es
SUMMARY:VISITA TEATRALIZADA POR EL BARRIO DE BODEGA POR EL BARRIO DE PEÑAFIEL
DESCRIPTION:Visita teatralizada por el barrio de bodegas de Peñafiel\, descubriendo rincones mágicos y con historia de una manera divertida. \nAcabamos degustando un vino con aperitivo en la Olmilla \n.
URL:https://bodegalaolmilla.es/evento/visita-teatralizada-por-el-barrio-de-bodega-por-el-barrio-de-penafiel-4/
LOCATION:BODEGA LA OLMILLA\, OLMILLA\,2\, PEÑAFIEL\, VALLADOLID\, 47300\, España
CATEGORIES:VISITA TEATRALIZADA
ORGANIZER;CN="Silvia Camacho":MAILTO:info@bodegalaolmilla.es
END:VEVENT
END:VCALENDAR