BEGIN:VCALENDAR
VERSION:2.0
PRODID:-//Bodega La Olmilla - ECPv6.15.20//NONSGML v1.0//EN
CALSCALE:GREGORIAN
METHOD:PUBLISH
X-ORIGINAL-URL:https://bodegalaolmilla.es
X-WR-CALDESC:Eventos para Bodega La Olmilla
REFRESH-INTERVAL;VALUE=DURATION:PT1H
X-Robots-Tag:noindex
X-PUBLISHED-TTL:PT1H
BEGIN:VTIMEZONE
TZID:Europe/Madrid
BEGIN:DAYLIGHT
TZOFFSETFROM:+0100
TZOFFSETTO:+0200
TZNAME:CEST
DTSTART:20210328T010000
END:DAYLIGHT
BEGIN:STANDARD
TZOFFSETFROM:+0200
TZOFFSETTO:+0100
TZNAME:CET
DTSTART:20211031T010000
END:STANDARD
BEGIN:DAYLIGHT
TZOFFSETFROM:+0100
TZOFFSETTO:+0200
TZNAME:CEST
DTSTART:20220327T010000
END:DAYLIGHT
BEGIN:STANDARD
TZOFFSETFROM:+0200
TZOFFSETTO:+0100
TZNAME:CET
DTSTART:20221030T010000
END:STANDARD
BEGIN:DAYLIGHT
TZOFFSETFROM:+0100
TZOFFSETTO:+0200
TZNAME:CEST
DTSTART:20230326T010000
END:DAYLIGHT
BEGIN:STANDARD
TZOFFSETFROM:+0200
TZOFFSETTO:+0100
TZNAME:CET
DTSTART:20231029T010000
END:STANDARD
END:VTIMEZONE
BEGIN:VEVENT
DTSTART;TZID=Europe/Madrid:20220624T213000
DTEND;TZID=Europe/Madrid:20220624T233000
DTSTAMP:20260424T203516
CREATED:20220602T095617Z
LAST-MODIFIED:20220614T082629Z
UID:8266-1656106200-1656113400@bodegalaolmilla.es
SUMMARY:CATA DE ESTRELLAS
DESCRIPTION:  \nPRIMERA CATA DE ESTRELLAS CON LA OLMILLA \nVIVE UNA EXPERIENCIA SOUL & WINE & STARS. \nLa primera 24 de junio en la terraza del Castillo de Curiel. \nDisfruta de los cielos castellanos con este magnifico cóctel que hemos preparado. \nDos tipos de experiencia: \n***Experiencia Estelar: \nPuesta de sol en un marco incomparable como la terraza del Castillo de Curiel y observación astronómica mediante un telescopio. Dirigido por astrónomos expertos. \nPrecio 15€ \nHora: 21:30h aprox \n  \n*****Experiencia Galáctica: \n-Incluye la experiencia Estelar + lo siguiente. \n-Cata de vino «No en Ribera es todo Ribera» Realizada por Elia Arranz sumiller recientemente galardonada como sumiller del año XV premios empresariales MVD. (3 vinos) \n-Cena a base de picoteo realizada por el Castillo de Curiel. \nPrecio: 35€ \nReserva ahora! en reservas@bodegalaolmilla.es ó 689 796 521\n*NOTA: Actividad sujeta a grupo mínimo y que los cielos nos permitan ver las estrellas. \n  \n  \n  \n 
URL:https://bodegalaolmilla.es/evento/cata-de-estrellas/
LOCATION:Castillo de Curiel\, Curiel\, VALLADOLID\, 47300\, España
CATEGORIES:CATA DE ESTRELLAS
ORGANIZER;CN="Silvia Camacho":MAILTO:info@bodegalaolmilla.es
END:VEVENT
END:VCALENDAR