BEGIN:VCALENDAR
VERSION:2.0
PRODID:-//Bodega La Olmilla - ECPv6.15.20//NONSGML v1.0//EN
CALSCALE:GREGORIAN
METHOD:PUBLISH
X-WR-CALNAME:Bodega La Olmilla
X-ORIGINAL-URL:https://bodegalaolmilla.es
X-WR-CALDESC:Eventos para Bodega La Olmilla
REFRESH-INTERVAL;VALUE=DURATION:PT1H
X-Robots-Tag:noindex
X-PUBLISHED-TTL:PT1H
BEGIN:VTIMEZONE
TZID:Europe/Madrid
BEGIN:DAYLIGHT
TZOFFSETFROM:+0100
TZOFFSETTO:+0200
TZNAME:CEST
DTSTART:20230326T010000
END:DAYLIGHT
BEGIN:STANDARD
TZOFFSETFROM:+0200
TZOFFSETTO:+0100
TZNAME:CET
DTSTART:20231029T010000
END:STANDARD
BEGIN:DAYLIGHT
TZOFFSETFROM:+0100
TZOFFSETTO:+0200
TZNAME:CEST
DTSTART:20240331T010000
END:DAYLIGHT
BEGIN:STANDARD
TZOFFSETFROM:+0200
TZOFFSETTO:+0100
TZNAME:CET
DTSTART:20241027T010000
END:STANDARD
BEGIN:DAYLIGHT
TZOFFSETFROM:+0100
TZOFFSETTO:+0200
TZNAME:CEST
DTSTART:20250330T010000
END:DAYLIGHT
BEGIN:STANDARD
TZOFFSETFROM:+0200
TZOFFSETTO:+0100
TZNAME:CET
DTSTART:20251026T010000
END:STANDARD
BEGIN:DAYLIGHT
TZOFFSETFROM:+0100
TZOFFSETTO:+0200
TZNAME:CEST
DTSTART:20260329T010000
END:DAYLIGHT
BEGIN:STANDARD
TZOFFSETFROM:+0200
TZOFFSETTO:+0100
TZNAME:CET
DTSTART:20261025T010000
END:STANDARD
END:VTIMEZONE
BEGIN:VEVENT
DTSTART;TZID=Europe/Madrid:20250202T130000
DTEND;TZID=Europe/Madrid:20250202T140000
DTSTAMP:20260421T114743
CREATED:20241206T105719Z
LAST-MODIFIED:20241206T110341Z
UID:10988-1738501200-1738504800@bodegalaolmilla.es
SUMMARY:EXPERIENCIA INMERSIÓN AL ORIGEN
DESCRIPTION:¡Descubre los secretos enterrados en nuestras bodegas subterráneas en esta experiencia única! Desde su funcionamiento ancestral hasta la actualidad\, te sumergirás en la historia de los artesanos\, la vida en el pueblo y la transformación de estas joyas arquitectónicas. \n\n\n\n🍇 Disfruta de anécdotas y chascarrillos transmitidos de generación en generación por nuestros abuelos mientras degustas el exquisito sabor de nuestro vino local en auténticos jarrillos. Deléitate también con un aperitivo que celebra los sabores locales. \n\n\n\n¡Embárcate en un viaje que combina la tradición con la modernidad! Reserva tu experiencia ahora y sumérgete en la riqueza cultural y gastronómica que nuestras bodegas subterráneas tienen para ofrecer. ¡Te esperamos para vivir momentos inolvidables! 🍷🌟
URL:https://bodegalaolmilla.es/evento/experiencia-inmersion-al-origen-66/
END:VEVENT
BEGIN:VEVENT
DTSTART;TZID=Europe/Madrid:20250201T193000
DTEND;TZID=Europe/Madrid:20250201T210000
DTSTAMP:20260421T114743
CREATED:20241206T113708Z
LAST-MODIFIED:20241206T113719Z
UID:11024-1738438200-1738443600@bodegalaolmilla.es
SUMMARY:EXPERIENCIA INMERSION AL ORIGEN+ESPECTÁCULO
DESCRIPTION:¡Descubre los secretos enterrados en nuestras bodegas subterráneas en esta experiencia única! Desde su funcionamiento ancestral hasta la actualidad\, te sumergirás en la historia de los artesanos\, la vida en el pueblo y la transformación de estas joyas arquitectónicas. \n\n\n\n🍇 Disfruta de anécdotas y chascarrillos transmitidos de generación en generación por nuestros abuelos mientras degustas el exquisito sabor de nuestro vino local en auténticos jarrillos. Deléitate también con un aperitivo que celebra los sabores locales. Acabamos la visita con un espectáculo sorpresa en directo. \n\n\n\n¡Embárcate en un viaje que combina la tradición con la modernidad! Reserva tu experiencia ahora y sumérgete en la riqueza cultural y gastronómica que nuestras bodegas subterráneas tienen para ofrecer. ¡Te esperamos para vivir momentos inolvidables! 🍷🌟
URL:https://bodegalaolmilla.es/evento/experiencia-inmersion-al-origenespectaculo-13/
END:VEVENT
BEGIN:VEVENT
DTSTART;TZID=Europe/Madrid:20250201T173000
DTEND;TZID=Europe/Madrid:20250201T190000
DTSTAMP:20260421T114743
CREATED:20241206T112952Z
LAST-MODIFIED:20241206T112956Z
UID:11016-1738431000-1738436400@bodegalaolmilla.es
SUMMARY:EXPERIENCIA INMERSION AL ORIGEN+ESPECTÁCULO
DESCRIPTION:¡Descubre los secretos enterrados en nuestras bodegas subterráneas en esta experiencia única! Desde su funcionamiento ancestral hasta la actualidad\, te sumergirás en la historia de los artesanos\, la vida en el pueblo y la transformación de estas joyas arquitectónicas. \n\n\n\n🍇 Disfruta de anécdotas y chascarrillos transmitidos de generación en generación por nuestros abuelos mientras degustas el exquisito sabor de nuestro vino local en auténticos jarrillos. Deléitate también con un aperitivo que celebra los sabores locales. Acabamos la visita con un espectáculo sorpresa en directo. \n\n\n\n¡Embárcate en un viaje que combina la tradición con la modernidad! Reserva tu experiencia ahora y sumérgete en la riqueza cultural y gastronómica que nuestras bodegas subterráneas tienen para ofrecer. ¡Te esperamos para vivir momentos inolvidables! 🍷🌟
URL:https://bodegalaolmilla.es/evento/experiencia-inmersion-al-origenespectaculo-9/
END:VEVENT
BEGIN:VEVENT
DTSTART;TZID=Europe/Madrid:20250201T120000
DTEND;TZID=Europe/Madrid:20250201T130000
DTSTAMP:20260421T114743
CREATED:20241206T110001Z
LAST-MODIFIED:20241206T110446Z
UID:10992-1738411200-1738414800@bodegalaolmilla.es
SUMMARY:EXPERIENCIA INMERSIÓN AL ORIGEN
DESCRIPTION:¡Descubre los secretos enterrados en nuestras bodegas subterráneas en esta experiencia única! Desde su funcionamiento ancestral hasta la actualidad\, te sumergirás en la historia de los artesanos\, la vida en el pueblo y la transformación de estas joyas arquitectónicas. \n\n\n\n🍇 Disfruta de anécdotas y chascarrillos transmitidos de generación en generación por nuestros abuelos mientras degustas el exquisito sabor de nuestro vino local en auténticos jarrillos. Deléitate también con un aperitivo que celebra los sabores locales. \n\n\n\n¡Embárcate en un viaje que combina la tradición con la modernidad! Reserva tu experiencia ahora y sumérgete en la riqueza cultural y gastronómica que nuestras bodegas subterráneas tienen para ofrecer. ¡Te esperamos para vivir momentos inolvidables! 🍷🌟
URL:https://bodegalaolmilla.es/evento/experiencia-inmersion-al-origen-68/
END:VEVENT
BEGIN:VEVENT
DTSTART;TZID=Europe/Madrid:20241226T120000
DTEND;TZID=Europe/Madrid:20241226T133000
DTSTAMP:20260421T114743
CREATED:20241202T115830Z
LAST-MODIFIED:20241202T115836Z
UID:10979-1735214400-1735219800@bodegalaolmilla.es
SUMMARY:VISITA TEATRALIZADA
DESCRIPTION:🌟 Vive la magia de La Olmilla: historia\, vino y espectáculo 🍇🎶 \n\n\n\nEn La Olmilla\, te invitamos a sumergirte en una experiencia única\, donde la tradición de nuestras bodegas subterráneas se une con el arte y la música en vivo. 🎵🍷 Ven a disfrutar de una tarde llena de sabor\, cultura y momentos inolvidables en un entorno lleno de encanto. \n\n\n\nDegusta nuestros vinos en un ambiente auténtico\, brinda en buena compañía y deja que la música en directo te transporte a otra época. 🎶🍇 Todo esto\, en un rincón secreto bajo el castillo de Peñafiel. \n\n\n\n✨ ¿Te apuntas? Reserva tu plaza y ven a vivir una experiencia sensorial que mezcla historia\, tradición y espectáculos exclusivos. ¡No te lo pierdas! ¡El corazón de la Ribera del Duero te espera en La Olmilla! \n\n\n\n📅 Reserva ya por nuestro correo reservas@bodegalaolmilla.es y por telefono +34 689 79 65 21. No dejes pasar esta oportunidad. Disfruta de la autenticidad y calidez que solo La Olmilla puede ofrecer. ¡Te esperamos para compartir brindis\, risas y momentos mágicos! 🌟🍷
URL:https://bodegalaolmilla.es/evento/visita-teatralizada-7/
END:VEVENT
BEGIN:VEVENT
DTSTART;TZID=Europe/Madrid:20241220T200000
DTEND;TZID=Europe/Madrid:20241220T210000
DTSTAMP:20260421T114743
CREATED:20241217T082414Z
LAST-MODIFIED:20241217T082500Z
UID:11112-1734724800-1734728400@bodegalaolmilla.es
SUMMARY:EXPERIENCIA INMERSIÓN AL ORIGEN
DESCRIPTION:¡Descubre los secretos enterrados en nuestras bodegas subterráneas en esta experiencia única! Desde su funcionamiento ancestral hasta la actualidad\, te sumergirás en la historia de los artesanos\, la vida en el pueblo y la transformación de estas joyas arquitectónicas. \n\n\n\n🍇 Disfruta de anécdotas y chascarrillos transmitidos de generación en generación por nuestros abuelos mientras degustas el exquisito sabor de nuestro vino local en auténticos jarrillos. Deléitate también con un aperitivo que celebra los sabores locales. \n\n\n\n¡Embárcate en un viaje que combina la tradición con la modernidad! Reserva tu experiencia ahora y sumérgete en la riqueza cultural y gastronómica que nuestras bodegas subterráneas tienen para ofrecer. ¡Te esperamos para vivir momentos inolvidables! 🍷🌟
URL:https://bodegalaolmilla.es/evento/experiencia-inmersion-al-origen-104/
END:VEVENT
BEGIN:VEVENT
DTSTART;TZID=Europe/Madrid:20241214T120000
DTEND;TZID=Europe/Madrid:20241214T130000
DTSTAMP:20260421T114743
CREATED:20241217T082255Z
LAST-MODIFIED:20241217T082256Z
UID:11110-1734177600-1734181200@bodegalaolmilla.es
SUMMARY:EXPERIENCIA INMERSIÓN AL ORIGEN
DESCRIPTION:¡Descubre los secretos enterrados en nuestras bodegas subterráneas en esta experiencia única! Desde su funcionamiento ancestral hasta la actualidad\, te sumergirás en la historia de los artesanos\, la vida en el pueblo y la transformación de estas joyas arquitectónicas. \n\n\n\n🍇 Disfruta de anécdotas y chascarrillos transmitidos de generación en generación por nuestros abuelos mientras degustas el exquisito sabor de nuestro vino local en auténticos jarrillos. Deléitate también con un aperitivo que celebra los sabores locales. \n\n\n\n¡Embárcate en un viaje que combina la tradición con la modernidad! Reserva tu experiencia ahora y sumérgete en la riqueza cultural y gastronómica que nuestras bodegas subterráneas tienen para ofrecer. ¡Te esperamos para vivir momentos inolvidables! 🍷🌟
URL:https://bodegalaolmilla.es/evento/experiencia-inmersion-al-origen-103/
END:VEVENT
BEGIN:VEVENT
DTSTART;TZID=Europe/Madrid:20241209T120000
DTEND;TZID=Europe/Madrid:20241209T130000
DTSTAMP:20260421T114743
CREATED:20241202T120038Z
LAST-MODIFIED:20241202T120040Z
UID:10982-1733745600-1733749200@bodegalaolmilla.es
SUMMARY:EXPERIENCIA INMERSIÓN AL ORIGEN
DESCRIPTION:¡Descubre los secretos enterrados en nuestras bodegas subterráneas en esta experiencia única! Desde su funcionamiento ancestral hasta la actualidad\, te sumergirás en la historia de los artesanos\, la vida en el pueblo y la transformación de estas joyas arquitectónicas. \n\n\n\n🍇 Disfruta de anécdotas y chascarrillos transmitidos de generación en generación por nuestros abuelos mientras degustas el exquisito sabor de nuestro vino local en auténticos jarrillos. Deléitate también con un aperitivo que celebra los sabores locales. \n\n\n\n¡Embárcate en un viaje que combina la tradición con la modernidad! Reserva tu experiencia ahora y sumérgete en la riqueza cultural y gastronómica que nuestras bodegas subterráneas tienen para ofrecer. ¡Te esperamos para vivir momentos inolvidables! 🍷🌟
URL:https://bodegalaolmilla.es/evento/experiencia-inmersion-al-origen-65/
END:VEVENT
BEGIN:VEVENT
DTSTART;TZID=Europe/Madrid:20241207T183000
DTEND;TZID=Europe/Madrid:20241207T193000
DTSTAMP:20260421T114743
CREATED:20241101T083308Z
LAST-MODIFIED:20241115T151657Z
UID:10928-1733596200-1733599800@bodegalaolmilla.es
SUMMARY:EXPERIENCIA INMERSION AL ORIGEN+ESPECTÁCULO
DESCRIPTION:🌟 Vive la magia de La Olmilla: historia\, vino y espectáculo 🍇🎶 \n\n\n\nEn La Olmilla\, te invitamos a sumergirte en una experiencia única\, donde la tradición de nuestras bodegas subterráneas se une con el arte y la música en vivo. 🎵🍷 Ven a disfrutar de una tarde llena de sabor\, cultura y momentos inolvidables en un entorno lleno de encanto. \n\n\n\nDegusta nuestros vinos en un ambiente auténtico\, brinda en buena compañía y deja que la música en directo te transporte a otra época. 🎶🍇 Todo esto\, en un rincón secreto bajo el castillo de Peñafiel. \n\n\n\n✨ ¿Te apuntas? Reserva tu plaza y ven a vivir una experiencia con Mery Jey su musica nos llena este espectaculo. ¡No te lo pierdas! ¡El corazón de la Ribera del Duero te espera en La Olmilla! \n\n\n\n\n\n\n\n📅 Reserva ya por nuestro correo reservas@bodegalaolmilla.es y por telefono +34 689 79 65 21. No dejes pasar esta oportunidad. Disfruta de la autenticidad y calidez que solo La Olmilla puede ofrecer. ¡Te esperamos para compartir brindis\, risas y momentos mágicos! 🌟🍷
URL:https://bodegalaolmilla.es/evento/experiencia-inmersion-al-origenespectaculo-7/
END:VEVENT
BEGIN:VEVENT
DTSTART;TZID=Europe/Madrid:20241207T113000
DTEND;TZID=Europe/Madrid:20241207T130000
DTSTAMP:20260421T114743
CREATED:20241101T084124Z
LAST-MODIFIED:20241108T105705Z
UID:10935-1733571000-1733576400@bodegalaolmilla.es
SUMMARY:VISITA TEATRALIZADA
DESCRIPTION:¡Descubre los secretos enterrados en nuestras bodegas subterráneas en esta experiencia única! Desde su funcionamiento ancestral hasta la actualidad\, te sumergirás en la historia de los artesanos\, la vida en el pueblo y la transformación de estas joyas arquitectónicas. \n\n\n\n🍇 Disfruta de anécdotas y chascarrillos transmitidos de generación en generación por nuestros abuelos mientras degustas el exquisito sabor de nuestro vino local en auténticos jarrillos. Deléitate también con un aperitivo que celebra los sabores locales. \n\n\n\n¡Embárcate en un viaje que combina la tradición con la modernidad! Reserva tu experiencia ahora y sumérgete en la riqueza cultural y gastronómica que nuestras bodegas subterráneas tienen para ofrecer. ¡Te esperamos para vivir momentos inolvidables! 🍷🌟 \n\n\n\n📅 Reserva ya por nuestro correo reservas@bodegalaolmilla.es y por telefono +34 689 79 65 21. No dejes pasar esta oportunidad. Disfruta de la autenticidad y calidez que solo La Olmilla puede ofrecer. ¡Te esperamos para compartir brindis\, risas y momentos mágicos! 🌟🍷
URL:https://bodegalaolmilla.es/evento/experiencia-inmersion-al-origen-63/
END:VEVENT
BEGIN:VEVENT
DTSTART;TZID=Europe/Madrid:20241206T183000
DTEND;TZID=Europe/Madrid:20241206T200000
DTSTAMP:20260421T114743
CREATED:20241101T083859Z
LAST-MODIFIED:20241115T182649Z
UID:10933-1733509800-1733515200@bodegalaolmilla.es
SUMMARY:EXPERIENCIA INMERSION AL ORIGEN+ESPECTÁCULO
DESCRIPTION:🌟 Vive la magia de La Olmilla: historia\, vino y espectáculo 🍇🎶 \n\n\n\nEn La Olmilla\, te invitamos a sumergirte en una experiencia única\, donde la tradición de nuestras bodegas subterráneas se une con el arte y la música en vivo. 🎵🍷 Ven a disfrutar de una tarde llena de sabor\, cultura y momentos inolvidables en un entorno lleno de encanto. \n\n\n\nDegusta nuestros vinos en un ambiente auténtico\, brinda en buena compañía y deja que la música en directo te transporte a otra época. 🎶🍇 Todo esto\, en un rincón secreto bajo el castillo de Peñafiel. \n\n\n\n✨ ¿Te apuntas? Reserva tu plaza y ven a vivir una experiencia musical con nuestro artista y su saxofón Rafi! \n\n\n\n\n\n\n\n. ¡No te lo pierdas! ¡El corazón de la Ribera del Duero te espera en La Olmilla! \n\n\n\n📅 Reserva ya por nuestro correo reservas@bodegalaolmilla.es y por telefono +34 689 79 65 21. No dejes pasar esta oportunidad. Disfruta de la autenticidad y calidez que solo La Olmilla puede ofrecer. ¡Te esperamos para compartir brindis\, risas y momentos mágicos! 🌟🍷
URL:https://bodegalaolmilla.es/evento/experiencia-inmersion-al-origenespectaculo-8/
END:VEVENT
BEGIN:VEVENT
DTSTART;TZID=Europe/Madrid:20241206T120000
DTEND;TZID=Europe/Madrid:20241206T133000
DTSTAMP:20260421T114743
CREATED:20241101T083127Z
LAST-MODIFIED:20241202T115912Z
UID:10926-1733486400-1733491800@bodegalaolmilla.es
SUMMARY:VISITA TEATRALIZADA  (Completa)
DESCRIPTION:🌟 Vive la magia de La Olmilla: historia\, vino y espectáculo 🍇🎶 \n\n\n\nEn La Olmilla\, te invitamos a sumergirte en una experiencia única\, donde la tradición de nuestras bodegas subterráneas se une con el arte y la música en vivo. 🎵🍷 Ven a disfrutar de una tarde llena de sabor\, cultura y momentos inolvidables en un entorno lleno de encanto. \n\n\n\nDegusta nuestros vinos en un ambiente auténtico\, brinda en buena compañía y deja que la música en directo te transporte a otra época. 🎶🍇 Todo esto\, en un rincón secreto bajo el castillo de Peñafiel. \n\n\n\n✨ ¿Te apuntas? Reserva tu plaza y ven a vivir una experiencia sensorial que mezcla historia\, tradición y espectáculos exclusivos. ¡No te lo pierdas! ¡El corazón de la Ribera del Duero te espera en La Olmilla! \n\n\n\n📅 Reserva ya por nuestro correo reservas@bodegalaolmilla.es y por telefono +34 689 79 65 21. No dejes pasar esta oportunidad. Disfruta de la autenticidad y calidez que solo La Olmilla puede ofrecer. ¡Te esperamos para compartir brindis\, risas y momentos mágicos! 🌟🍷
URL:https://bodegalaolmilla.es/evento/experiencia-inmersion-al-origenespectaculo-6/
END:VEVENT
BEGIN:VEVENT
DTSTART;TZID=Europe/Madrid:20241201T000000
DTEND;TZID=Europe/Madrid:20241201T235959
DTSTAMP:20260421T114743
CREATED:20241107T111354Z
LAST-MODIFIED:20241107T111356Z
UID:10961-1733011200-1733097599@bodegalaolmilla.es
SUMMARY:*CERRADO*
DESCRIPTION:
URL:https://bodegalaolmilla.es/evento/cerrado-14/
END:VEVENT
BEGIN:VEVENT
DTSTART;TZID=Europe/Madrid:20241130T000000
DTEND;TZID=Europe/Madrid:20241130T235959
DTSTAMP:20260421T114743
CREATED:20241107T111325Z
LAST-MODIFIED:20241107T111327Z
UID:10959-1732924800-1733011199@bodegalaolmilla.es
SUMMARY:*CERRADO*
DESCRIPTION:
URL:https://bodegalaolmilla.es/evento/cerrado-13/
END:VEVENT
BEGIN:VEVENT
DTSTART;TZID=Europe/Madrid:20241129T000000
DTEND;TZID=Europe/Madrid:20241129T235959
DTSTAMP:20260421T114743
CREATED:20241107T111211Z
LAST-MODIFIED:20241107T111212Z
UID:10957-1732838400-1732924799@bodegalaolmilla.es
SUMMARY:*CERRADO*
DESCRIPTION:
URL:https://bodegalaolmilla.es/evento/cerrado-12/
END:VEVENT
BEGIN:VEVENT
DTSTART;TZID=Europe/Madrid:20241128T000000
DTEND;TZID=Europe/Madrid:20241128T235959
DTSTAMP:20260421T114743
CREATED:20241107T111114Z
LAST-MODIFIED:20241107T111116Z
UID:10955-1732752000-1732838399@bodegalaolmilla.es
SUMMARY:*CERRADO*
DESCRIPTION:
URL:https://bodegalaolmilla.es/evento/cerrado-11/
END:VEVENT
BEGIN:VEVENT
DTSTART;TZID=Europe/Madrid:20241127T000000
DTEND;TZID=Europe/Madrid:20241127T235959
DTSTAMP:20260421T114743
CREATED:20241107T111047Z
LAST-MODIFIED:20241107T111049Z
UID:10953-1732665600-1732751999@bodegalaolmilla.es
SUMMARY:*CERRADO*
DESCRIPTION:
URL:https://bodegalaolmilla.es/evento/cerrado-10/
END:VEVENT
BEGIN:VEVENT
DTSTART;TZID=Europe/Madrid:20241126T000000
DTEND;TZID=Europe/Madrid:20241126T235959
DTSTAMP:20260421T114743
CREATED:20241107T111006Z
LAST-MODIFIED:20241107T111008Z
UID:10951-1732579200-1732665599@bodegalaolmilla.es
SUMMARY:*CERRADO*
DESCRIPTION:
URL:https://bodegalaolmilla.es/evento/cerrado-9/
END:VEVENT
BEGIN:VEVENT
DTSTART;TZID=Europe/Madrid:20241125T000000
DTEND;TZID=Europe/Madrid:20241125T235959
DTSTAMP:20260421T114743
CREATED:20241107T110927Z
LAST-MODIFIED:20241107T110935Z
UID:10949-1732492800-1732579199@bodegalaolmilla.es
SUMMARY:*CERRADO*
DESCRIPTION:
URL:https://bodegalaolmilla.es/evento/cerrado-8/
END:VEVENT
BEGIN:VEVENT
DTSTART;TZID=Europe/Madrid:20241124T000000
DTEND;TZID=Europe/Madrid:20241124T235959
DTSTAMP:20260421T114743
CREATED:20241107T110858Z
LAST-MODIFIED:20241107T110900Z
UID:10947-1732406400-1732492799@bodegalaolmilla.es
SUMMARY:*CERRADO
DESCRIPTION:
URL:https://bodegalaolmilla.es/evento/cerrado-7/
END:VEVENT
BEGIN:VEVENT
DTSTART;TZID=Europe/Madrid:20241123T000000
DTEND;TZID=Europe/Madrid:20241123T235959
DTSTAMP:20260421T114743
CREATED:20241107T110829Z
LAST-MODIFIED:20241107T110831Z
UID:10945-1732320000-1732406399@bodegalaolmilla.es
SUMMARY:*CERRADO*
DESCRIPTION:
URL:https://bodegalaolmilla.es/evento/cerrado-6/
END:VEVENT
BEGIN:VEVENT
DTSTART;TZID=Europe/Madrid:20241122T000000
DTEND;TZID=Europe/Madrid:20241122T235959
DTSTAMP:20260421T114743
CREATED:20241107T110705Z
LAST-MODIFIED:20241107T110710Z
UID:10943-1732233600-1732319999@bodegalaolmilla.es
SUMMARY:*CERRADO*
DESCRIPTION:
URL:https://bodegalaolmilla.es/evento/cerrado-5/
END:VEVENT
BEGIN:VEVENT
DTSTART;TZID=Europe/Madrid:20241117T110000
DTEND;TZID=Europe/Madrid:20241117T120000
DTSTAMP:20260421T114743
CREATED:20241113T144534Z
LAST-MODIFIED:20241113T144536Z
UID:10966-1731841200-1731844800@bodegalaolmilla.es
SUMMARY:EXPERIENCIA INMERSIÓN AL ORIGEN
DESCRIPTION:¡Descubre los secretos enterrados en nuestras bodegas subterráneas en esta experiencia única! Desde su funcionamiento ancestral hasta la actualidad\, te sumergirás en la historia de los artesanos\, la vida en el pueblo y la transformación de estas joyas arquitectónicas. \n\n\n\n🍇 Disfruta de anécdotas y chascarrillos transmitidos de generación en generación por nuestros abuelos mientras degustas el exquisito sabor de nuestro vino local en auténticos jarrillos. Deléitate también con un aperitivo que celebra los sabores locales. \n\n\n\n¡Embárcate en un viaje que combina la tradición con la modernidad! Reserva tu experiencia ahora y sumérgete en la riqueza cultural y gastronómica que nuestras bodegas subterráneas tienen para ofrecer. ¡Te esperamos para vivir momentos inolvidables! 🍷🌟
URL:https://bodegalaolmilla.es/evento/experiencia-inmersion-al-origen-64/
END:VEVENT
BEGIN:VEVENT
DTSTART;TZID=Europe/Madrid:20241116T183000
DTEND;TZID=Europe/Madrid:20241116T200000
DTSTAMP:20260421T114743
CREATED:20241022T134058Z
LAST-MODIFIED:20241110T201432Z
UID:10904-1731781800-1731787200@bodegalaolmilla.es
SUMMARY:INMERSIÓN AL ORIGEN+ESPECTÁCULO 16N
DESCRIPTION:🍷 Descubre los secretos de las bodegas subterráneas de la zona\, en Bodega La Olmilla 🌟 \n\n\n\nSumérgete en la historia ancestral de los artesanos y la transformación de estas joyas arquitectónicas. Disfruta de anécdotas transmitidas de generación en generación mientras degustas nuestro exquisito vino local en auténticos jarrillos. Además\, un aperitivo celebra los sabores locales. \n\n\n\nEmbárcate en un viaje que combina tradición y modernidad. Reserva ahora y disfruta de la riqueza cultural y gastronómica de Peñafiel. \n\n\n\nLa visita termina en la cueva\, con espectáculo del saxofonista Rafi. \n\n\n\n¡No te pierdas esta oportunidad única! Haz tu reserva en La Olmilla. 👉🍇
URL:https://bodegalaolmilla.es/evento/inmersion-al-origenespectaculo-16n/
END:VEVENT
BEGIN:VEVENT
DTSTART;TZID=Europe/Madrid:20241116T120000
DTEND;TZID=Europe/Madrid:20241116T130000
DTSTAMP:20260421T114743
CREATED:20241028T093028Z
LAST-MODIFIED:20241028T093030Z
UID:10917-1731758400-1731762000@bodegalaolmilla.es
SUMMARY:EXPERIENCIA INMERSIÓN AL ORIGEN
DESCRIPTION:¡Descubre los secretos enterrados en nuestras bodegas subterráneas en esta experiencia única! Desde su funcionamiento ancestral hasta la actualidad\, te sumergirás en la historia de los artesanos\, la vida en el pueblo y la transformación de estas joyas arquitectónicas. \n\n\n\n🍇 Disfruta de anécdotas y chascarrillos transmitidos de generación en generación por nuestros abuelos mientras degustas el exquisito sabor de nuestro vino local en auténticos jarrillos. Deléitate también con un aperitivo que celebra los sabores locales. \n\n\n\n¡Embárcate en un viaje que combina la tradición con la modernidad! Reserva tu experiencia ahora y sumérgete en la riqueza cultural y gastronómica que nuestras bodegas subterráneas tienen para ofrecer. ¡Te esperamos para vivir momentos inolvidables! 🍷🌟
URL:https://bodegalaolmilla.es/evento/experiencia-inmersion-al-origen-61/
END:VEVENT
BEGIN:VEVENT
DTSTART;TZID=Europe/Madrid:20241110T120000
DTEND;TZID=Europe/Madrid:20241110T130000
DTSTAMP:20260421T114743
CREATED:20241009T074456Z
LAST-MODIFIED:20241009T074500Z
UID:10857-1731240000-1731243600@bodegalaolmilla.es
SUMMARY:EXPERIENCIA INMERSIÓN AL ORIGEN
DESCRIPTION:¡Descubre los secretos enterrados en nuestras bodegas subterráneas en esta experiencia única! Desde su funcionamiento ancestral hasta la actualidad\, te sumergirás en la historia de los artesanos\, la vida en el pueblo y la transformación de estas joyas arquitectónicas. \n\n\n\n🍇 Disfruta de anécdotas y chascarrillos transmitidos de generación en generación por nuestros abuelos mientras degustas el exquisito sabor de nuestro vino local en auténticos jarrillos. Deléitate también con un aperitivo que celebra los sabores locales. \n\n\n\n¡Embárcate en un viaje que combina la tradición con la modernidad! Reserva tu experiencia ahora y sumérgete en la riqueza cultural y gastronómica que nuestras bodegas subterráneas tienen para ofrecer. ¡Te esperamos para vivir momentos inolvidables! 🍷🌟
URL:https://bodegalaolmilla.es/evento/experiencia-inmersion-al-origen-57/
END:VEVENT
BEGIN:VEVENT
DTSTART;TZID=Europe/Madrid:20241109T183000
DTEND;TZID=Europe/Madrid:20241109T200000
DTSTAMP:20260421T114743
CREATED:20241022T132315Z
LAST-MODIFIED:20241022T132512Z
UID:10900-1731177000-1731182400@bodegalaolmilla.es
SUMMARY:EXPERIENCIA INMERSIÓN AL ORIGEN+ESPECTÁCULO 9N
DESCRIPTION:🍷 Descubre los secretos de las bodegas subterráneas de la zona\, en Bodega La Olmilla 🌟 \n\n\n\nSumérgete en la historia ancestral de los artesanos y la transformación de estas joyas arquitectónicas. Disfruta de anécdotas transmitidas de generación en generación mientras degustas nuestro exquisito vino local en auténticos jarrillos. Además\, un aperitivo celebra los sabores locales. \n\n\n\nEmbárcate en un viaje que combina tradición y modernidad. Reserva ahora y disfruta de la riqueza cultural y gastronómica de Peñafiel. \n\n\n\nLa visita termina en la cueva\, con un concierto de música folk de mano de Ángel Lévid y Fran García \n\n\n\n¡No te pierdas esta oportunidad única! Haz tu reserva en La Olmilla. 👉🍇
URL:https://bodegalaolmilla.es/evento/experiencia-inmersion-al-origenespectaculo-angel-levid-y-fran-garcia/
END:VEVENT
BEGIN:VEVENT
DTSTART;TZID=Europe/Madrid:20241103T103000
DTEND;TZID=Europe/Madrid:20241103T113000
DTSTAMP:20260421T114743
CREATED:20241028T092840Z
LAST-MODIFIED:20241101T082645Z
UID:10914-1730629800-1730633400@bodegalaolmilla.es
SUMMARY:EXPERIENCIA INMERSIÓN AL ORIGEN
DESCRIPTION:¡Descubre los secretos enterrados en nuestras bodegas subterráneas en esta experiencia única! Desde su funcionamiento ancestral hasta la actualidad\, te sumergirás en la historia de los artesanos\, la vida en el pueblo y la transformación de estas joyas arquitectónicas. \n\n\n\n🍇 Disfruta de anécdotas y chascarrillos transmitidos de generación en generación por nuestros abuelos mientras degustas el exquisito sabor de nuestro vino local en auténticos jarrillos. Deléitate también con un aperitivo que celebra los sabores locales. \n\n\n\n¡Embárcate en un viaje que combina la tradición con la modernidad! Reserva tu experiencia ahora y sumérgete en la riqueza cultural y gastronómica que nuestras bodegas subterráneas tienen para ofrecer. ¡Te esperamos para vivir momentos inolvidables! 🍷🌟
URL:https://bodegalaolmilla.es/evento/experiencia-inmersion-al-origen-60/
END:VEVENT
BEGIN:VEVENT
DTSTART;TZID=Europe/Madrid:20241102T183000
DTEND;TZID=Europe/Madrid:20241102T200000
DTSTAMP:20260421T114743
CREATED:20241022T121018Z
LAST-MODIFIED:20241031T184238Z
UID:10897-1730572200-1730577600@bodegalaolmilla.es
SUMMARY:EXPERIENCIA INMERSION AL ORIGEN+ESPECTÁCULO
DESCRIPTION:🍷 Descubre los secretos de las bodegas subterráneas de la zona\, en Bodega La Olmilla 🌟 \n\n\n\nSumérgete en la historia ancestral de los artesanos y la transformación de estas joyas arquitectónicas. Disfruta de anécdotas transmitidas de generación en generación mientras degustas nuestro exquisito vino local en auténticos jarrillos. Además\, un aperitivo celebra los sabores locales. \n\n\n\nEmbárcate en un viaje que combina tradición y modernidad. Reserva ahora y disfruta de la riqueza cultural y gastronómica de Peñafiel. \n\n\n\nLa visita termina en la cueva\, con un espectáculo del dúo DAMAJUANA\, música en directo. \n\n\n\n¡No te pierdas esta oportunidad única! Haz tu reserva en La Olmilla. 👉🍇
URL:https://bodegalaolmilla.es/evento/experiencia-inmersion-al-origenespectaculo-5/
END:VEVENT
BEGIN:VEVENT
DTSTART;TZID=Europe/Madrid:20241102T113000
DTEND;TZID=Europe/Madrid:20241102T123000
DTSTAMP:20260421T114743
CREATED:20240916T105647Z
LAST-MODIFIED:20241010T110022Z
UID:10790-1730547000-1730550600@bodegalaolmilla.es
SUMMARY:VISITA TEATRALIZADA
DESCRIPTION:✨ ¡Sumérgete en la historia viva de La Olmilla! 🎭🍷 \n\n\n\nTe invitamos a una visita teatralizada diferente\, donde las bodegas subterráneas cobran vida a través de personajes auténticos y relatos llenos de humor\, tradición y misterio. Descubre la historia del vino y de Peñafiel como nunca antes\, en un recorrido lleno de sorpresas\, risas y anécdotas que te harán sentir como un auténtico viajero en el tiempo. \n\n\n\n👥 Ideal para venir en familia o con amigos\, donde cada rincón revela secretos que te conectan con el pasado\, mientras disfrutas de nuestro vino en un entorno único. \n\n\n\n👉 Reserva ya tu plaza y vive una experiencia inmersiva que combina teatro\, cultura y la magia de La Olmilla. ¡No te lo puedes perder!
URL:https://bodegalaolmilla.es/evento/visita-teatralizada-6/
END:VEVENT
END:VCALENDAR