BEGIN:VCALENDAR
VERSION:2.0
PRODID:-//Bodega La Olmilla - ECPv6.15.20//NONSGML v1.0//EN
CALSCALE:GREGORIAN
METHOD:PUBLISH
X-ORIGINAL-URL:https://bodegalaolmilla.es
X-WR-CALDESC:Eventos para Bodega La Olmilla
REFRESH-INTERVAL;VALUE=DURATION:PT1H
X-Robots-Tag:noindex
X-PUBLISHED-TTL:PT1H
BEGIN:VTIMEZONE
TZID:Europe/Madrid
BEGIN:DAYLIGHT
TZOFFSETFROM:+0100
TZOFFSETTO:+0200
TZNAME:CEST
DTSTART:20220327T010000
END:DAYLIGHT
BEGIN:STANDARD
TZOFFSETFROM:+0200
TZOFFSETTO:+0100
TZNAME:CET
DTSTART:20221030T010000
END:STANDARD
BEGIN:DAYLIGHT
TZOFFSETFROM:+0100
TZOFFSETTO:+0200
TZNAME:CEST
DTSTART:20230326T010000
END:DAYLIGHT
BEGIN:STANDARD
TZOFFSETFROM:+0200
TZOFFSETTO:+0100
TZNAME:CET
DTSTART:20231029T010000
END:STANDARD
BEGIN:DAYLIGHT
TZOFFSETFROM:+0100
TZOFFSETTO:+0200
TZNAME:CEST
DTSTART:20240331T010000
END:DAYLIGHT
BEGIN:STANDARD
TZOFFSETFROM:+0200
TZOFFSETTO:+0100
TZNAME:CET
DTSTART:20241027T010000
END:STANDARD
BEGIN:DAYLIGHT
TZOFFSETFROM:+0100
TZOFFSETTO:+0200
TZNAME:CEST
DTSTART:20250330T010000
END:DAYLIGHT
BEGIN:STANDARD
TZOFFSETFROM:+0200
TZOFFSETTO:+0100
TZNAME:CET
DTSTART:20251026T010000
END:STANDARD
END:VTIMEZONE
BEGIN:VEVENT
DTSTART;TZID=Europe/Madrid:20240127T190000
DTEND;TZID=Europe/Madrid:20240127T203000
DTSTAMP:20260422T035208
CREATED:20240118T184536Z
LAST-MODIFIED:20240118T184541Z
UID:10423-1706382000-1706387400@bodegalaolmilla.es
SUMMARY:EXPERIENCIA CON ESPECTÁCULO
DESCRIPTION:¡Descubre los secretos enterrados en nuestras bodegas subterráneas en esta experiencia única! Desde su funcionamiento ancestral hasta la actualidad\, te sumergirás en la historia de los artesanos\, la vida en el pueblo y la transformación de estas joyas arquitectónicas. \n\n\n\n🍇 Disfruta de anécdotas y chascarrillos transmitidos de generación en generación por nuestros abuelos mientras degustas el exquisito sabor de nuestro vino local en auténticos jarrillos. Deléitate también con un aperitivo que celebra los sabores locales. Acabaremos la visita con un espectáculo de magia en la cueva con el Mago Merlín Siglo 21. \n\n\n\n¡Embárcate en un viaje que combina la tradición con la modernidad! Reserva tu experiencia ahora y sumérgete en la riqueza cultural y gastronómica que nuestras bodegas subterráneas tienen para ofrecer. ¡Te esperamos para vivir momentos inolvidables! 🍷🌟
URL:https://bodegalaolmilla.es/evento/experiencia-con-espectaculo-10/
LOCATION:La olmilla\, CALLE OLMILLA\,2\, PEÑAFIEL\, España
END:VEVENT
BEGIN:VEVENT
DTSTART;TZID=Europe/Madrid:20240127T120000
DTEND;TZID=Europe/Madrid:20240127T130000
DTSTAMP:20260422T035208
CREATED:20240118T111728Z
LAST-MODIFIED:20240126T070105Z
UID:10396-1706356800-1706360400@bodegalaolmilla.es
SUMMARY:EXPERIENCIA INMERSIÓN AL ORIGEN
DESCRIPTION:¡Descubre los secretos enterrados en nuestras bodegas subterráneas en esta experiencia única! Desde su funcionamiento ancestral hasta la actualidad\, te sumergirás en la historia de los artesanos\, la vida en el pueblo y la transformación de estas joyas arquitectónicas. \n\n\n\n🍇 Disfruta de anécdotas y chascarrillos transmitidos de generación en generación por nuestros abuelos mientras degustas el exquisito sabor de nuestro vino local en auténticos jarrillos. Deléitate también con un aperitivo que celebra los sabores locales. \n\n\n\n¡Embárcate en un viaje que combina la tradición con la modernidad! Reserva tu experiencia ahora y sumérgete en la riqueza cultural y gastronómica que nuestras bodegas subterráneas tienen para ofrecer. ¡Te esperamos para vivir momentos inolvidables! 🍷🌟
URL:https://bodegalaolmilla.es/evento/experiencia-inmersion-al-origen-30/
END:VEVENT
BEGIN:VEVENT
DTSTART;TZID=Europe/Madrid:20240120T180000
DTEND;TZID=Europe/Madrid:20240120T190000
DTSTAMP:20260422T035208
CREATED:20240118T111352Z
LAST-MODIFIED:20240118T111355Z
UID:10393-1705773600-1705777200@bodegalaolmilla.es
SUMMARY:EXPERIENCIA INMERSIÓN AL ORIGEN
DESCRIPTION:¡Descubre los secretos enterrados en nuestras bodegas subterráneas en esta experiencia única! Desde su funcionamiento ancestral hasta la actualidad\, te sumergirás en la historia de los artesanos\, la vida en el pueblo y la transformación de estas joyas arquitectónicas. \n\n\n\n🍇 Disfruta de anécdotas y chascarrillos transmitidos de generación en generación por nuestros abuelos mientras degustas el exquisito sabor de nuestro vino local en auténticos jarrillos. Deléitate también con un aperitivo que celebra los sabores locales. \n\n\n\n¡Embárcate en un viaje que combina la tradición con la modernidad! Reserva tu experiencia ahora y sumérgete en la riqueza cultural y gastronómica que nuestras bodegas subterráneas tienen para ofrecer. ¡Te esperamos para vivir momentos inolvidables! 🍷🌟
URL:https://bodegalaolmilla.es/evento/experiencia-inmersion-al-origen-29/
END:VEVENT
BEGIN:VEVENT
DTSTART;TZID=Europe/Madrid:20231228T130000
DTEND;TZID=Europe/Madrid:20231228T150000
DTSTAMP:20260422T035208
CREATED:20231220T123745Z
LAST-MODIFIED:20231220T123749Z
UID:10363-1703768400-1703775600@bodegalaolmilla.es
SUMMARY:PUERTAS ABIERTAS con "SWEET SOUL"
DESCRIPTION:🌟 ¡Descubre el encanto de La Olmilla y déjate llevar por la magia del vino! 🍇✨ \n\n\n\nEn La Olmilla\, te invitamos a una experiencia única que combina la historia de las bodegas subterráneas con la pasión de la música en vivo. 🎵🍷 Únete a nuestra jornada de puertas abiertas y disfruta de momentos especiales con amigos\, risas\, y por supuesto\, ¡excelente vino! \n\n\n\n👉 Reserva tu lugar ahora y sé parte de esta experiencia inolvidable. Sumérgete en la tierra de Peñafiel\, degusta vinos locales en jarrillo y déjate llevar por la melodía del grupo «Sweet Soul». ¡Te esperamos para compartir risas\, brindis y momentos inolvidables! \n\n\n\nNo te pierdas esta oportunidad única. ¡Haz tu reserva ahora y forma parte de la magia en La Olmilla! 🌟🍷
URL:https://bodegalaolmilla.es/evento/puertas-abiertas-con-sweet-soul/
LOCATION:BODEGA LA OLMILLA\, CALLE OLMILLA\,2\, PEÑAFIEL\, España
END:VEVENT
BEGIN:VEVENT
DTSTART;TZID=Europe/Madrid:20231228T120000
DTEND;TZID=Europe/Madrid:20231228T130000
DTSTAMP:20260422T035208
CREATED:20231220T122727Z
LAST-MODIFIED:20231220T122730Z
UID:10358-1703764800-1703768400@bodegalaolmilla.es
SUMMARY:EXPERIENCIA INMERSIÓN AL ORIGEN
DESCRIPTION:¡Descubre los secretos enterrados en nuestras bodegas subterráneas en esta experiencia única! Desde su funcionamiento ancestral hasta la actualidad\, te sumergirás en la historia de los artesanos\, la vida en el pueblo y la transformación de estas joyas arquitectónicas. \n\n\n\n🍇 Disfruta de anécdotas y chascarrillos transmitidos de generación en generación por nuestros abuelos mientras degustas el exquisito sabor de nuestro vino local en auténticos jarrillos. Deléitate también con un aperitivo que celebra los sabores locales. \n\n\n\n¡Embárcate en un viaje que combina la tradición con la modernidad! Reserva tu experiencia ahora y sumérgete en la riqueza cultural y gastronómica que nuestras bodegas subterráneas tienen para ofrecer. ¡Te esperamos para vivir momentos inolvidables! 🍷🌟
URL:https://bodegalaolmilla.es/evento/experiencia-inmersion-al-origen-28/
LOCATION:BODEGA LA OLMILLA\, CALLE OLMILLA\,2\, PEÑAFIEL\, España
END:VEVENT
BEGIN:VEVENT
DTSTART;TZID=Europe/Madrid:20231227T190000
DTEND;TZID=Europe/Madrid:20231227T203000
DTSTAMP:20260422T035208
CREATED:20231220T121829Z
LAST-MODIFIED:20231220T121834Z
UID:10353-1703703600-1703709000@bodegalaolmilla.es
SUMMARY:EXPERIENCIA CON ESPECTÁCULO
DESCRIPTION:En esta experiencia les contamos todo lo que tiene que ver con las bodegas subterráneas y el vino desde cuando estaban en funcionamiento a nuestros días. Hablamos de los artesanos\, de cómo funcionaba el pueblo y sus gentes en torno a las bodegas además de qué ocurre hoy con ellas ya que actualmente no se hace vino en ellas. Todo regado con anécdotas y chascarrillos que los propios abuelos nos cuentan\, con degustación en jarrillo de vino local y un aperitivo también de productos locales. Acabaremos la visita con un espectáculo de Rafi con su saxofón tocando música jazz y de todos los tiempos.
URL:https://bodegalaolmilla.es/evento/experiencia-con-espectaculo-8/
LOCATION:BODEGA LA OLMILLA\, CALLE OLMILLA\,2\, PEÑAFIEL\, España
END:VEVENT
BEGIN:VEVENT
DTSTART;TZID=Europe/Madrid:20231223T130000
DTEND;TZID=Europe/Madrid:20231223T143000
DTSTAMP:20260422T035208
CREATED:20231220T121319Z
LAST-MODIFIED:20231220T121505Z
UID:10350-1703336400-1703341800@bodegalaolmilla.es
SUMMARY:EXPERIENCIA CON ESPECTÁCULO
DESCRIPTION:En esta experiencia les contamos todo lo que tiene que ver con las bodegas subterráneas y el vino desde cuando estaban en funcionamiento a nuestros días. Hablamos de los artesanos\, de cómo funcionaba el pueblo y sus gentes en torno a las bodegas además de qué ocurre hoy con ellas ya que actualmente no se hace vino en ellas. Todo regado con anécdotas y chascarrillos que los propios abuelos nos cuentan\, con degustación en jarrillo de vino local y un aperitivo también de productos locales. Acabaremos la visita con un espectáculo de Rafi con su saxofón tocando música jazz y de todos los tiempos.
URL:https://bodegalaolmilla.es/evento/experiencia-con-espectaculo-7/
END:VEVENT
BEGIN:VEVENT
DTSTART;TZID=Europe/Madrid:20231209T120000
DTEND;TZID=Europe/Madrid:20231209T133000
DTSTAMP:20260422T035208
CREATED:20231115T130153Z
LAST-MODIFIED:20231115T130333Z
UID:10256-1702123200-1702128600@bodegalaolmilla.es
SUMMARY:VISITA TEATRALIZADA POR EL BARRIO DE BODEGAS
DESCRIPTION:En esta visita conoceremos rincones del barrio de bodegas de Peñafiel donde personajes que nos vamos encontrando nos contarán todas esas cosas que tienen que ver con las bodegas subterráneas y el vino de entonces con esos chascarrillos de abuelos. Acabamos en la bodega La Olmilla tomando un jarrillo de vino en ella y un pincho con productos locales.
URL:https://bodegalaolmilla.es/evento/visita-teatralizada-por-el-barrio-de-bodegas-9/
LOCATION:BODEGA LA OLMILLA\, CALLE OLMILLA\,2\, PEÑAFIEL\, España
END:VEVENT
BEGIN:VEVENT
DTSTART;TZID=Europe/Madrid:20231208T200000
DTEND;TZID=Europe/Madrid:20231208T213000
DTSTAMP:20260422T035208
CREATED:20231115T124317Z
LAST-MODIFIED:20231207T104442Z
UID:10244-1702065600-1702071000@bodegalaolmilla.es
SUMMARY:EXPERIENCIA CON ESPECTÁCULO-RAFI CON SU SAXO
DESCRIPTION:En esta experiencia les contamos todo lo que tiene que ver con las bodegas subterráneas y el vino desde cuando estaban en funcionamiento a nuestros días. Hablamos de los artesanos\, de cómo funcionaba el pueblo y sus gentes en torno a las bodegas además de qué ocurre hoy con ellas ya que actualmente no se hace vino en ellas. Todo regado con anécdotas y chascarrillos que los propios abuelos nos cuentan\, con degustación en jarrillo de vino local y un aperitivo también de productos locales. Acabaremos la visita con un espectáculo de Rafi con su saxofón tocando música jazz y de todos los tiempos.
URL:https://bodegalaolmilla.es/evento/experiencia-con-espectaculo-de-ma/
END:VEVENT
BEGIN:VEVENT
DTSTART;TZID=Europe/Madrid:20231208T120000
DTEND;TZID=Europe/Madrid:20231208T130000
DTSTAMP:20260422T035208
CREATED:20231115T121818Z
LAST-MODIFIED:20231115T123548Z
UID:10232-1702036800-1702040400@bodegalaolmilla.es
SUMMARY:EXPERIENCIA INMERSIÓN AL ORIGEN
DESCRIPTION:En esta experiencia les contamos todo lo que tiene que ver con las bodegas subterráneas y el vino desde cuando estaban en funcionamiento a nuestros días. Hablamos de los artesanos\, de cómo funcionaba el pueblo y sus gentes en torno a las bodegas además de qué ocurre hoy con ellas ya que actualmente no se hace vino en ellas. Todo regado con anécdotas y chascarrillos que los propios abuelos nos cuentan\, con degustación en jarrillo de vino local y un aperitivo también de productos locales.
URL:https://bodegalaolmilla.es/evento/experiencia-inmersion-al-origen-27/
END:VEVENT
BEGIN:VEVENT
DTSTART;TZID=Europe/Madrid:20231206T190000
DTEND;TZID=Europe/Madrid:20231206T203000
DTSTAMP:20260422T035208
CREATED:20231115T122705Z
LAST-MODIFIED:20231115T123757Z
UID:10236-1701889200-1701894600@bodegalaolmilla.es
SUMMARY:EXPERIENCIA CON ESPECTÁCULO CON MERY JEY
DESCRIPTION:
URL:https://bodegalaolmilla.es/evento/experiencia-con-espectaculo-de-magia/
LOCATION:BODEGA LA OLMILLA\, CALLE OLMILLA\,2\, PEÑAFIEL\, España
END:VEVENT
BEGIN:VEVENT
DTSTART;TZID=Europe/Madrid:20231206T120000
DTEND;TZID=Europe/Madrid:20231206T133000
DTSTAMP:20260422T035208
CREATED:20231115T125342Z
LAST-MODIFIED:20231115T125546Z
UID:10251-1701864000-1701869400@bodegalaolmilla.es
SUMMARY:EXPERIENCIA CON ESPECTÁCULO MAGIA-MERLIN S.21
DESCRIPTION:
URL:https://bodegalaolmilla.es/evento/experiencia-con-espectaculo-de-magia-2/
LOCATION:BODEGA LA OLMILLA\, CALLE OLMILLA\,2\, PEÑAFIEL\, España
END:VEVENT
BEGIN:VEVENT
DTSTART;TZID=Europe/Madrid:20231125T180000
DTEND;TZID=Europe/Madrid:20231125T193000
DTSTAMP:20260422T035208
CREATED:20231115T121040Z
LAST-MODIFIED:20231115T121046Z
UID:10224-1700935200-1700940600@bodegalaolmilla.es
SUMMARY:EXPERIENCIA CON ESPECTÁCULO-RAFI Y SU SAXOFÓN
DESCRIPTION:En esta experiencia les contamos todo lo que tiene que ver con las bodegas subterráneas y el vino desde cuando estaban en funcionamiento a nuestros días. Hablamos de los artesanos\, de cómo funcionaba el pueblo y sus gentes en torno a las bodegas además de qué ocurre hoy con ellas ya que actualmente no se hace vino en ellas. Todo regado con anécdotas y chascarrillos que los propios abuelos nos cuentan\, con degustación en jarrillo de vino local y un aperitivo también de productos locales. Además finalizaremos la visita con un espectáculo de música en directo con Rafi y su saxofón.
URL:https://bodegalaolmilla.es/evento/experiencia-con-espectaculo-rafi-y-su-saxofon-2/
END:VEVENT
BEGIN:VEVENT
DTSTART;TZID=Europe/Madrid:20231125T120000
DTEND;TZID=Europe/Madrid:20231125T130000
DTSTAMP:20260422T035208
CREATED:20231115T121435Z
LAST-MODIFIED:20231115T121439Z
UID:10228-1700913600-1700917200@bodegalaolmilla.es
SUMMARY:EXPERIENCIA INMERSIÓN AL ORIGEN
DESCRIPTION:En esta experiencia les contamos todo lo que tiene que ver con las bodegas subterráneas y el vino desde cuando estaban en funcionamiento a nuestros días. Hablamos de los artesanos\, de cómo funcionaba el pueblo y sus gentes en torno a las bodegas además de qué ocurre hoy con ellas ya que actualmente no se hace vino en ellas. Todo regado con anécdotas y chascarrillos que los propios abuelos nos cuentan\, con degustación en jarrillo de vino local y un aperitivo también de productos locales.
URL:https://bodegalaolmilla.es/evento/experiencia-inmersion-al-origen-26/
LOCATION:BODEGA LA OLMILLA\, CALLE OLMILLA\,2\, PEÑAFIEL\, España
END:VEVENT
BEGIN:VEVENT
DTSTART;TZID=Europe/Madrid:20231119T120000
DTEND;TZID=Europe/Madrid:20231119T130000
DTSTAMP:20260422T035208
CREATED:20230816T151856Z
LAST-MODIFIED:20230816T151904Z
UID:9990-1700395200-1700398800@bodegalaolmilla.es
SUMMARY:VISITA TEATRALIZADA POR EL BARRIO DE BODEGAS
DESCRIPTION:Visita teatralizada por el barrio de bodegas de Peñafiel\, descubriendo rincones mágicos y donde nos iremos encontrando con personajes que irán contando chascarrillos\, historias de bodega y el vino de una manera divertida. \n\n\n\nAcabamos degustando un vino con aperitivo en la Bodega Subterránea La Olmilla. \n\n\n\n.Añadir al calendario
URL:https://bodegalaolmilla.es/evento/visita-teatralizada-por-el-barrio-de-bodegas-5/
CATEGORIES:VISITA TEATRALIZADA
END:VEVENT
BEGIN:VEVENT
DTSTART;TZID=Europe/Madrid:20231118T133000
DTEND;TZID=Europe/Madrid:20231118T143000
DTSTAMP:20260422T035208
CREATED:20231115T120317Z
LAST-MODIFIED:20231115T120330Z
UID:10219-1700314200-1700317800@bodegalaolmilla.es
SUMMARY:EXPERIENCIA INMERSIÓN AL ORIGEN
DESCRIPTION:En esta experiencia les contamos todo lo que tiene que ver con las bodegas subterráneas y el vino desde cuando estaban en funcionamiento a nuestros días. Hablamos de los artesanos\, de cómo funcionaba el pueblo y sus gentes en torno a las bodegas además de qué ocurre hoy con ellas ya que actualmente no se hace vino en ellas. Todo regado con anécdotas y chascarrillos que los propios abuelos nos cuentan\, con degustación en jarrillo de vino local y un aperitivo también de productos locales.
URL:https://bodegalaolmilla.es/evento/experiencia-inmersion-al-origen-25/
LOCATION:BODEGA LA OLMILLA\, CALLE OLMILLA\,2\, PEÑAFIEL\, España
END:VEVENT
BEGIN:VEVENT
DTSTART;TZID=Europe/Madrid:20231118T120000
DTEND;TZID=Europe/Madrid:20231118T130000
DTSTAMP:20260422T035208
CREATED:20231115T112523Z
LAST-MODIFIED:20231115T114834Z
UID:10205-1700308800-1700312400@bodegalaolmilla.es
SUMMARY:INMERSION AL ORIGEN
DESCRIPTION:En esta experiencia les contamos todo lo que tiene que ver con las bodegas subterráneas y el vino desde cuando estaban en funcionamiento a nuestros días. Hablamos de los artesanos\, de cómo funcionaba el pueblo y sus gentes en torno a las bodegas además de qué ocurre hoy con ellas ya que actualmente no se hace vino en ellas. Todo regado con anécdotas y chascarrillos que los propios abuelos nos cuentan\, con degustación en jarrillo de vino local y un aperitivo también de productos locales.
URL:https://bodegalaolmilla.es/evento/inmersion-al-origen/
LOCATION:BODEGA LA OLMILLA\, CALLE OLMILLA\,2\, PEÑAFIEL\, España
END:VEVENT
BEGIN:VEVENT
DTSTART;TZID=Europe/Madrid:20231101T130000
DTEND;TZID=Europe/Madrid:20231101T143000
DTSTAMP:20260422T035208
CREATED:20231026T144719Z
LAST-MODIFIED:20231026T144722Z
UID:10191-1698843600-1698849000@bodegalaolmilla.es
SUMMARY:VISITA TEATRALIZADA POR EL BARRIO DE BODEGAS
DESCRIPTION:Visita teatralizada por el barrio de bodegas de Peñafiel\, descubriendo rincones mágicos y donde nos iremos encontrando con personajes que irán contando chascarrillos\, historias de bodega y el vino de una manera divertida. \n\n\n\nAcabamos degustando un vino con aperitivo en la Bodega Subterránea La Olmilla. \n\n\n\n.A
URL:https://bodegalaolmilla.es/evento/visita-teatralizada-por-el-barrio-de-bodegas-8/
ORGANIZER;CN="SILVIA CAMACHO":MAILTO:reservas@bodegalaolmilla.es
END:VEVENT
BEGIN:VEVENT
DTSTART;TZID=Europe/Madrid:20231028T190000
DTEND;TZID=Europe/Madrid:20231028T203000
DTSTAMP:20260422T035208
CREATED:20231026T144126Z
LAST-MODIFIED:20231026T144133Z
UID:10187-1698519600-1698525000@bodegalaolmilla.es
SUMMARY:EXPERIENCIA CON ESPECTÁCULO -MAGO MERLIN S.21
DESCRIPTION:En esta experiencia les contamos todo lo que tiene que ver con las bodegas subterráneas y el vino desde cuando estaban en funcionamiento y cómo funcionaba el pueblo entonces hasta nuestros días. Todo regado con anécdotas y chascarrillos que los propios abuelos nos cuentan\, con una degustación en jarrillo de vino local y un aperitivo también de productos locales. Acabamos con un espectáculo en la cueva de magia con el mago Merlín Siglo 21
URL:https://bodegalaolmilla.es/evento/experiencia-con-espectaculo-mago-merlin-s-21/
LOCATION:BODEGA LA OLMILLA\, CALLE OLMILLA\,2\, PEÑAFIEL\, España
END:VEVENT
BEGIN:VEVENT
DTSTART;TZID=Europe/Madrid:20231028T120000
DTEND;TZID=Europe/Madrid:20231028T130000
DTSTAMP:20260422T035208
CREATED:20231026T143322Z
LAST-MODIFIED:20231026T143325Z
UID:10183-1698494400-1698498000@bodegalaolmilla.es
SUMMARY:EXPERIENCIA INMERSIÓN AL ORIGEN
DESCRIPTION:En la experiencia Inmersión al Origen nos centramos en contaros de unamanera muy cercana y sencilla\, todo aquello que sucedía en estas bodegas  \n\n\n\ncuando estaban en pleno rendimiento. Os situamos en el tiempo y el espacio\, para que conozcáis cómo funcionaba el pueblo entonces\, os contamos tradiciones\, costumbres y chascarrillos que nos han ido contando losabuelos del pueblo\, para que nos se pierdan todo regado con un jarrillo de vino y un pincho.  \n\n\n\n\n\n\n\nReserva ahora! en reservas@bodegalaolmilla.es ó 689 796 521
URL:https://bodegalaolmilla.es/evento/experiencia-inmersion-al-origen-24/
LOCATION:BODEGA  LA OLMILLA\, CALLE OLMILLA\,2\, PEÑAFIEL\, España
END:VEVENT
BEGIN:VEVENT
DTSTART;TZID=Europe/Madrid:20231021T110000
DTEND;TZID=Europe/Madrid:20231021T120000
DTSTAMP:20260422T035208
CREATED:20231005T120530Z
LAST-MODIFIED:20231005T121145Z
UID:10104-1697886000-1697889600@bodegalaolmilla.es
SUMMARY:EXPERIENCIA INMERSIÓN AL ORIGEN
DESCRIPTION:En la experiencia Inmersión al Origen nos centramos en contaros de unamanera muy cercana y sencilla\, todo aquello que sucedía en estas bodegas  \n\n\n\ncuando estaban en pleno rendimiento. Os situamos en el tiempo y el espacio\, para que conozcáis cómo funcionaba el pueblo entonces\, os contamos tradiciones\, costumbres y chascarrillos que nos han ido contando losabuelos del pueblo\, para que nos se pierdan todo regado con un jarrillo de vino y un pincho.  \n\n\n\n\n\n\n\nReserva ahora! en reservas@bodegalaolmilla.es ó 689 796 521
URL:https://bodegalaolmilla.es/evento/experiencia-inmersion-al-origen-23/
LOCATION:BODEGA LA OLMILLA\, CALLE OLMILLA\,2\, PEÑAFIEL\, España
END:VEVENT
BEGIN:VEVENT
DTSTART;TZID=Europe/Madrid:20231014T120000
DTEND;TZID=Europe/Madrid:20231014T130000
DTSTAMP:20260422T035208
CREATED:20231005T115843Z
LAST-MODIFIED:20231005T115851Z
UID:10099-1697284800-1697288400@bodegalaolmilla.es
SUMMARY:EXPERIENCIA INMERSIÓN AL ORIGEN
DESCRIPTION:En la experiencia Inmersión al Origen nos centramos en contaros de unamanera muy cercana y sencilla\, todo aquello que sucedía en estas bodegas  \n\n\n\ncuando estaban en pleno rendimiento. Os situamos en el tiempo y el espacio\, para que conozcáis cómo funcionaba el pueblo entonces\, os contamos tradiciones\, costumbres y chascarrillos que nos han ido contando losabuelos del pueblo\, para que nos se pierdan todo regado con un jarrillo de vino y un pincho.  \n\n\n\n\n\n\n\nReserva ahora! en reservas@bodegalaolmilla.es ó 689 796 521
URL:https://bodegalaolmilla.es/evento/experiencia-inmersion-al-origen-22/
LOCATION:BODEGA LA OLMILLA\, CALLE OLMILLA\,2\, PEÑAFIEL\, España
END:VEVENT
BEGIN:VEVENT
DTSTART;TZID=Europe/Madrid:20231013T180000
DTEND;TZID=Europe/Madrid:20231013T190000
DTSTAMP:20260422T035208
CREATED:20231005T114547Z
LAST-MODIFIED:20231005T114551Z
UID:10091-1697220000-1697223600@bodegalaolmilla.es
SUMMARY:EXPERIENCIA INMERSIÓN AL ORIGEN
DESCRIPTION:En la experiencia Inmersión al Origen nos centramos en contaros de unamanera muy cercana y sencilla\, todo aquello que sucedía en estas bodegas  \n\n\n\ncuando estaban en pleno rendimiento. Os situamos en el tiempo y el espacio\, para que conozcáis cómo funcionaba el pueblo entonces\, os contamos tradiciones\, costumbres y chascarrillos que nos han ido contando losabuelos del pueblo\, para que nos se pierdan todo regado con un jarrillo de vino y un pincho.  \n\n\n\n\n\n\n\nReserva ahora! en reservas@bodegalaolmilla.es ó 689 796 521
URL:https://bodegalaolmilla.es/evento/experiencia-inmersion-al-origen-21/
LOCATION:BODEGA LA OLMILLA\, CALLE OLMILLA\,2\, PEÑAFIEL\, España
END:VEVENT
BEGIN:VEVENT
DTSTART;TZID=Europe/Madrid:20231013T120000
DTEND;TZID=Europe/Madrid:20231013T133000
DTSTAMP:20260422T035208
CREATED:20231005T110730Z
LAST-MODIFIED:20231005T110737Z
UID:10080-1697198400-1697203800@bodegalaolmilla.es
SUMMARY:EXPERIENCIA CON ESPECTÁCULO - MAGO MERLIN SIGLO 21
DESCRIPTION:
URL:https://bodegalaolmilla.es/evento/experiencia-con-espectaculo-mago-merlin-siglo-21-4/
LOCATION:BODEGA LA OLMILLA\, CALLE OLMILLA\,2\, PEÑAFIEL\, España
END:VEVENT
BEGIN:VEVENT
DTSTART;TZID=Europe/Madrid:20231012T180000
DTEND;TZID=Europe/Madrid:20231012T193000
DTSTAMP:20260422T035208
CREATED:20231005T115339Z
LAST-MODIFIED:20231005T115347Z
UID:10095-1697133600-1697139000@bodegalaolmilla.es
SUMMARY:VISITA TEATRALIZADA POR EL BARRIO DE BODEGAS
DESCRIPTION:Paseo por el barrio de bodegas donde nos vamos encontrando personajes que nos van contando esas historias de bodegas y chascarrillos de abuelos en torno al vino y las bodegas subterráneas de Peñafiel de mano de la compañía Popy Vegas. Acabamos la visita en la Olmilla haciendo una degustación de vino en jarrillo de barro y tomando un pincho de productos locales.
URL:https://bodegalaolmilla.es/evento/visita-teatralizada-por-el-barrio-de-bodegas-7/
LOCATION:Bodega la Olmilla\, CALLE OLMILLA\,2\, PEÑAFIEL\, España
END:VEVENT
BEGIN:VEVENT
DTSTART;TZID=Europe/Madrid:20231009T120000
DTEND;TZID=Europe/Madrid:20231009T130000
DTSTAMP:20260422T035208
CREATED:20231005T111429Z
LAST-MODIFIED:20231005T114003Z
UID:10085-1696852800-1696856400@bodegalaolmilla.es
SUMMARY:EXPERIENCIA INMERSIÓN AL ORIGEN
DESCRIPTION:En la experiencia Inmersión al Origen nos centramos en contaros de unamanera muy cercana y sencilla\, todo aquello que sucedía en estas bodegas  \n\n\n\ncuando estaban en pleno rendimiento. Os situamos en el tiempo y el espacio\, para que conozcáis cómo funcionaba el pueblo entonces\, os contamos tradiciones\, costumbres y chascarrillos que nos han ido contando losabuelos del pueblo\, para que nos se pierdan todo regado con un jarrillo de vino y un pincho.  \n\n\n\n\n\n\n\nReserva ahora! en reservas@bodegalaolmilla.es ó 689 796 521
URL:https://bodegalaolmilla.es/evento/experiencia-inmersion-al-origen-20/
LOCATION:Bodega La Olmilla\, CALLE OLMILLA\,2\, PEÑAFIEL\, España
ORGANIZER;CN="SILVIA CAMACHO":MAILTO:reservas@bodegalaolmilla.es
END:VEVENT
BEGIN:VEVENT
DTSTART;TZID=Europe/Madrid:20231008T120000
DTEND;TZID=Europe/Madrid:20231008T130000
DTSTAMP:20260422T035208
CREATED:20230816T151412Z
LAST-MODIFIED:20230816T151426Z
UID:9988-1696766400-1696770000@bodegalaolmilla.es
SUMMARY:VISITA TEATRALIZADA POR EL BARRIO DE BODEGAS
DESCRIPTION:Visita teatralizada por el barrio de bodegas de Peñafiel\, descubriendo rincones mágicos y donde nos iremos encontrando con personajes que irán contando chascarrillos\, historias de bodega y el vino de una manera divertida. \n\n\n\nAcabamos degustando un vino con aperitivo en la Bodega Subterránea La Olmilla. \n\n\n\n.Añadir al calendario
URL:https://bodegalaolmilla.es/evento/visita-teatralizada-por-el-barrio-de-bodegas-4/
CATEGORIES:VISITA TEATRALIZADA
END:VEVENT
BEGIN:VEVENT
DTSTART;TZID=Europe/Madrid:20231007T130000
DTEND;TZID=Europe/Madrid:20231007T143000
DTSTAMP:20260422T035208
CREATED:20231005T105725Z
LAST-MODIFIED:20231005T110330Z
UID:10075-1696683600-1696689000@bodegalaolmilla.es
SUMMARY:EXPERIENCIA CON ESPECTÁCULO - MERY JEY
DESCRIPTION:Experiencia en una bodega tradicional donde hacer un viaje al pasado. Conocer curiosidades de este pueblo ligado a la vinicultura. Secretos en torno a la elaboración y venta del vino\, para volver\, y seguir disfrutando del presente en la Olmilla con un espectáculo de música en directo con Mery Jey. Canta canciones jazz\, funky\, soul \n\n\n\nPlazas muy limitadas! No te lo pienses y reserva ya! \n\n\n\nreservas@bodegalaolmilla.es desde el 689 796 521 \n\n\n\nCualquier duda ponte en contacto con nosotros! \n\n\n\n¡¡Te esperamos!!
URL:https://bodegalaolmilla.es/evento/experiencia-con-espectaculo-mery-jey/
LOCATION:Bodega la Olmilla\, CALLE OLMILLA\,2\, PEÑAFIEL\, España
END:VEVENT
BEGIN:VEVENT
DTSTART;TZID=Europe/Madrid:20231006T180000
DTEND;TZID=Europe/Madrid:20231006T193000
DTSTAMP:20260422T035208
CREATED:20230926T102134Z
LAST-MODIFIED:20230926T102939Z
UID:10048-1696615200-1696620600@bodegalaolmilla.es
SUMMARY:VISITA TEATRALIZADA POR EL BARRIO DE BODEGAS
DESCRIPTION:Paseo por el barrio de bodegas donde nos vamos encontrando personajes que nos van contando esas historias de bodegas y chascarrillos de abuelos en torno al vino y las bodegas subterráneas de Peñafiel
URL:https://bodegalaolmilla.es/evento/visita-teatralizada-por-el-barrio-de-bodegas-6/
LOCATION:BODEGA LA OLMILLA\, CALLE OLMILLA\,2\, PEÑAFIEL\, España
END:VEVENT
BEGIN:VEVENT
DTSTART;TZID=Europe/Madrid:20231001T120000
DTEND;TZID=Europe/Madrid:20231001T130000
DTSTAMP:20260422T035208
CREATED:20230922T170559Z
LAST-MODIFIED:20230922T170608Z
UID:10032-1696161600-1696165200@bodegalaolmilla.es
SUMMARY:EXPERIENCIA INMERSIÓN AL ORIGEN
DESCRIPTION:En la experiencia Inmersión al Origen nos centramos en contaros de unamanera muy cercana y sencilla\, todo aquello que sucedía en estas bodegas  \n\n\n\ncuando estaban en pleno rendimiento. Os situamos en el tiempo y el espacio\, para que conozcáis cómo funcionaba el pueblo entonces\, os contamos tradiciones\, costumbres y chascarrillos que nos han ido contando losabuelos del pueblo\, para que nos se pierdan todo regado con un jarrillo de vino y un pincho.  \n\n\n\n\n\n\n\nReserva ahora! en reservas@bodegalaolmilla.es ó 689 796 521
URL:https://bodegalaolmilla.es/evento/experiencia-inmersion-al-origen-19/
LOCATION:BODEGA LA OLMILLA\, CALLE OLMILLA\,2\, PEÑAFIEL\, España
CATEGORIES:EXPERIENCIA "INMERSIÓN AL ORIGEN"
END:VEVENT
END:VCALENDAR