BEGIN:VCALENDAR
VERSION:2.0
PRODID:-//Bodega La Olmilla - ECPv6.15.20//NONSGML v1.0//EN
CALSCALE:GREGORIAN
METHOD:PUBLISH
X-ORIGINAL-URL:https://bodegalaolmilla.es
X-WR-CALDESC:Eventos para Bodega La Olmilla
REFRESH-INTERVAL;VALUE=DURATION:PT1H
X-Robots-Tag:noindex
X-PUBLISHED-TTL:PT1H
BEGIN:VTIMEZONE
TZID:Europe/Madrid
BEGIN:DAYLIGHT
TZOFFSETFROM:+0100
TZOFFSETTO:+0200
TZNAME:CEST
DTSTART:20200329T010000
END:DAYLIGHT
BEGIN:STANDARD
TZOFFSETFROM:+0200
TZOFFSETTO:+0100
TZNAME:CET
DTSTART:20201025T010000
END:STANDARD
BEGIN:DAYLIGHT
TZOFFSETFROM:+0100
TZOFFSETTO:+0200
TZNAME:CEST
DTSTART:20210328T010000
END:DAYLIGHT
BEGIN:STANDARD
TZOFFSETFROM:+0200
TZOFFSETTO:+0100
TZNAME:CET
DTSTART:20211031T010000
END:STANDARD
BEGIN:DAYLIGHT
TZOFFSETFROM:+0100
TZOFFSETTO:+0200
TZNAME:CEST
DTSTART:20220327T010000
END:DAYLIGHT
BEGIN:STANDARD
TZOFFSETFROM:+0200
TZOFFSETTO:+0100
TZNAME:CET
DTSTART:20221030T010000
END:STANDARD
BEGIN:DAYLIGHT
TZOFFSETFROM:+0100
TZOFFSETTO:+0200
TZNAME:CEST
DTSTART:20230326T010000
END:DAYLIGHT
BEGIN:STANDARD
TZOFFSETFROM:+0200
TZOFFSETTO:+0100
TZNAME:CET
DTSTART:20231029T010000
END:STANDARD
END:VTIMEZONE
BEGIN:VEVENT
DTSTART;TZID=Europe/Madrid:20220507T190000
DTEND;TZID=Europe/Madrid:20220507T203000
DTSTAMP:20260422T174239
CREATED:20220426T101530Z
LAST-MODIFIED:20220427T101624Z
UID:7924-1651950000-1651955400@bodegalaolmilla.es
SUMMARY:EXPERIENCIA CON ESPECTÁCULO-"EL NACIMIENTO DE BACO"
DESCRIPTION:Experiencia en una bodega tradicional donde hacer un viaje al pasado. Conocer curiosidades de este pueblo ligado a la vinicultura. Secretos en torno a la elaboración y venta del vino\, para volver\, y seguir disfrutando del presente en la Olmilla con un espectáculo de teatro «El Nacimiento de Baco». \nDos frailes muy gamberros representan como nació Dioniso el Dios de vino y otras aventuras en clave comedia. \nPlazas muy limitadas! No te lo pienses y reserva ya! \nreservas@bodegalaolmilla.es ó 689 796 521 (whatsapp ó telegram) \nCualquier duda ponte en contacto con nosotros! \nOs esperamos!!
URL:https://bodegalaolmilla.es/evento/experiencia-con-espectaculo-mago-merlin-siglo-21/
LOCATION:BODEGA LA OLMILLA\, OLMILLA\,2\, PEÑAFIEL\, VALLADOLID\, 47300\, España
CATEGORIES:EXPERIENCIAS CON ESPECTÁCULO
ORGANIZER;CN="Silvia Camacho":MAILTO:info@bodegalaolmilla.es
END:VEVENT
BEGIN:VEVENT
DTSTART;TZID=Europe/Madrid:20220501T120000
DTEND;TZID=Europe/Madrid:20220501T130000
DTSTAMP:20260422T174239
CREATED:20220426T101142Z
LAST-MODIFIED:20220426T101158Z
UID:7921-1651406400-1651410000@bodegalaolmilla.es
SUMMARY:VISITA TEATRALIZADA POR EL BARRIO DE BODEGAS
DESCRIPTION:Visita teatralizada por el barrio de bodegas de Peñafiel\, descubriendo rincones mágicos y con historia de una manera divertida. \nAcabamos visitando la bodega subterránea de La Olmilla
URL:https://bodegalaolmilla.es/evento/visita-taetralizada-por-el-barrio-de-bodegas/
END:VEVENT
BEGIN:VEVENT
DTSTART;TZID=Europe/Madrid:20220430T190000
DTEND;TZID=Europe/Madrid:20220430T203000
DTSTAMP:20260422T174239
CREATED:20220425T110526Z
LAST-MODIFIED:20220426T100328Z
UID:7917-1651345200-1651350600@bodegalaolmilla.es
SUMMARY:EXPERIENCIA CON MÚSICA EN DIRECTO
DESCRIPTION:Experiencia en una bodega tradicional donde hacer un viaje al pasado. Conocer curiosidades de este pueblo ligado a la vinicultura. Secretos en torno a la elaboración y venta del vino\, para volver\, y seguir disfrutando del presente en la Olmilla con un espectáculo de música en directo. \nPlazas muy limitadas! No te lo pienses y reserva ya! \nreservas@bodegalaolmilla.es ó 689 796 521 (whatsapp ó telegram) \nCualquier duda ponte en contacto con nosotros! \nOs esperamos!!
URL:https://bodegalaolmilla.es/evento/visita-teatralizada-por-el-barrio-de-bodega-de-penafiel/
LOCATION:BODEGA LA OLMILLA\, OLMILLA\,2\, PEÑAFIEL\, VALLADOLID\, 47300\, España
CATEGORIES:VISITA TEATRALIZADA
ORGANIZER;CN="Silvia Camacho":MAILTO:info@bodegalaolmilla.es
END:VEVENT
BEGIN:VEVENT
DTSTART;TZID=Europe/Madrid:20220416T200000
DTEND;TZID=Europe/Madrid:20220416T210000
DTSTAMP:20260422T174239
CREATED:20220317T123623Z
LAST-MODIFIED:20220317T123623Z
UID:7537-1650139200-1650142800@bodegalaolmilla.es
SUMMARY:EL GUATEQUE
DESCRIPTION:Miguel Ángel (Patín) nos hará disfrutar con actuaciones en directo\, haciendo un repaso con humor de grandes de la música. \nSi queréis pasar un rato divertido\, no os lo perdáis! Las plazas son muy limitadas.
URL:https://bodegalaolmilla.es/evento/el-guateque-2/
LOCATION:BODEGA LA OLMILLA\, OLMILLA\,2\, PEÑAFIEL\, VALLADOLID\, 47300\, España
ORGANIZER;CN="Silvia Camacho":MAILTO:info@bodegalaolmilla.es
END:VEVENT
BEGIN:VEVENT
DTSTART;TZID=Europe/Madrid:20220416T133000
DTEND;TZID=Europe/Madrid:20220416T153000
DTSTAMP:20260422T174239
CREATED:20220307T155710Z
LAST-MODIFIED:20220307T160749Z
UID:7330-1650115800-1650123000@bodegalaolmilla.es
SUMMARY:EVENTO PRIVADO
DESCRIPTION:
URL:https://bodegalaolmilla.es/evento/visita-teatralizada-por-el-barrio-de-bodegas-de-penafiel-3/
LOCATION:BODEGA LA OLMILLA\, OLMILLA\,2\, PEÑAFIEL\, VALLADOLID\, 47300\, España
CATEGORIES:VISITA TEATRALIZADA
ORGANIZER;CN="Silvia Camacho":MAILTO:info@bodegalaolmilla.es
END:VEVENT
BEGIN:VEVENT
DTSTART;TZID=Europe/Madrid:20220416T120000
DTEND;TZID=Europe/Madrid:20220416T130000
DTSTAMP:20260422T174239
CREATED:20220317T122738Z
LAST-MODIFIED:20220317T122803Z
UID:7534-1650110400-1650114000@bodegalaolmilla.es
SUMMARY:VISITA TEATRALIZADA POR EL BARRIO DE BODEGAS TRADICIONALES DE PEÑAFIEL
DESCRIPTION:Visita teatralizada por el barrio de bodegas de Peñafiel\, descubriendo rincones mágicos y con historia de una manera divertida. \nAcabamos degustando un vino local con aperitivo en la Olmilla.
URL:https://bodegalaolmilla.es/evento/visita-teatralizada-por-el-barrio-de-bodegas-tradicionales-de-penafiel/
LOCATION:BODEGA LA OLMILLA\, OLMILLA\,2\, PEÑAFIEL\, VALLADOLID\, 47300\, España
CATEGORIES:VISITA TEATRALIZADA
ORGANIZER;CN="Silvia Camacho":MAILTO:info@bodegalaolmilla.es
END:VEVENT
BEGIN:VEVENT
DTSTART;TZID=Europe/Madrid:20220415T190000
DTEND;TZID=Europe/Madrid:20220415T203000
DTSTAMP:20260422T174239
CREATED:20220307T124329Z
LAST-MODIFIED:20220307T124329Z
UID:7324-1650049200-1650054600@bodegalaolmilla.es
SUMMARY:EXPERIENCIA CON ESPECTÁCULO-EL NACIMIENTO DE BACO
DESCRIPTION:Experiencia en una bodega tradicional donde hacer un viaje al pasado. Conocer curiosidades de este pueblo ligado a la vinicultura. Secretos en torno a la elaboración y venta del vino\, para volver\, y seguir disfrutando del presente en la Olmilla con un espectáculo de teatro. \n«El Nacimiento de Baco». Comedia. Dos monjes goliardos muy gamberros cuentan el nacimiento del Dios del vino. Degustación de un vino local en el tradicional jarrillo de barro con un aperitivo. (puedes hacerlo vegano por 1€+) \n  \nPlazas muy limitadas! No te lo pienses y reserva ya! \nreservas@bodegalaolmilla.es ó 689 796 521 (whatsapp ó telegram) \nCualquier duda ponte en contacto con nosotros! \nOs esperamos!!
URL:https://bodegalaolmilla.es/evento/experiencia-con-espectaculo-el-nacimiento-de-baco/
LOCATION:BODEGA LA OLMILLA\, OLMILLA\,2\, PEÑAFIEL\, VALLADOLID\, 47300\, España
CATEGORIES:EXPERIENCIAS CON ESPECTÁCULO
ORGANIZER;CN="Silvia Camacho":MAILTO:info@bodegalaolmilla.es
END:VEVENT
BEGIN:VEVENT
DTSTART;TZID=Europe/Madrid:20220415T120000
DTEND;TZID=Europe/Madrid:20220415T133000
DTSTAMP:20260422T174239
CREATED:20220302T104926Z
LAST-MODIFIED:20220317T122354Z
UID:7307-1650024000-1650029400@bodegalaolmilla.es
SUMMARY:VISITA TEATRALIZADA POR EL BARRIO DE BODEGAS TRADICIONALES DE PEÑAFIEL
DESCRIPTION:Visita teatralizada por el barrio de bodegas de Peñafiel\, descubriendo rincones mágicos y con historia de una manera divertida. \nAcabamos degustando un vino con aperitivo en la Olmilla. \n 
URL:https://bodegalaolmilla.es/evento/regala-experiencias-por-el-dia-del-padre-visita-teatralizada/
CATEGORIES:VISITA TEATRALIZADA
ORGANIZER;CN="Silvia Camacho":MAILTO:info@bodegalaolmilla.es
END:VEVENT
BEGIN:VEVENT
DTSTART;TZID=Europe/Madrid:20220410T123000
DTEND;TZID=Europe/Madrid:20220410T140000
DTSTAMP:20260422T174239
CREATED:20220307T155243Z
LAST-MODIFIED:20220307T155243Z
UID:7328-1649593800-1649599200@bodegalaolmilla.es
SUMMARY:EXPERIENCIA EN FAMILIA EN LA OLMILLA CON LEIDI JAJA
DESCRIPTION:Experiencia en una bodega tradicional donde hacer un viaje al pasado. Conocer curiosidades de este pueblo ligado a la vinicultura. Secretos en torno a la elaboración y venta del vino\, para volver\, y seguir disfrutando del presente en la Olmilla con el espectáculo familiar Leidi Jaja. \nDegustación de un vino local en el tradicional jarrillo de barro con un aperitivo. (puedes hacerlo vegano por 1€+) \n  \nPlazas muy limitadas! No te lo pienses y reserva ya! \nreservas@bodegalaolmilla.es ó 689 796 521 (whatsapp ó telegram) \nCualquier duda ponte en contacto con nosotros! \nOs esperamos!!
URL:https://bodegalaolmilla.es/evento/experiencia-en-familia-en-la-olmilla-con-leidi-jaja/
LOCATION:BODEGA LA OLMILLA\, OLMILLA\,2\, PEÑAFIEL\, VALLADOLID\, 47300\, España
CATEGORIES:EXPERIENCIAS CON ESPECTÁCULO
ORGANIZER;CN="Silvia Camacho":MAILTO:info@bodegalaolmilla.es
END:VEVENT
BEGIN:VEVENT
DTSTART;TZID=Europe/Madrid:20220409T190000
DTEND;TZID=Europe/Madrid:20220409T203000
DTSTAMP:20260422T174239
CREATED:20220307T125049Z
LAST-MODIFIED:20220317T120817Z
UID:7326-1649530800-1649536200@bodegalaolmilla.es
SUMMARY:EXPERIENCIA CON ESPECTACULO-MAGO MERLIN SIGLO 21
DESCRIPTION:Experiencia en una bodega tradicional donde hacer un viaje al pasado. Conocer curiosidades de este pueblo ligado a la vinicultura. Secretos en torno a la elaboración y venta del vino\, para volver\, y seguir disfrutando del presente en la Olmilla con un espectáculo de magia. \nEl mago Merlín siglo 21 nos acompañará con su nuevo espectáculo «Regreso al futuro» \nDegustación de un vino local en el tradicional jarrillo de barro con un aperitivo. (puedes hacerlo vegano) \n  \nPlazas muy limitadas! No te lo pienses y reserva ya! \nreservas@bodegalaolmilla.es ó 689 796 521 (whatsapp ó telegram) \nCualquier duda ponte en contacto con nosotros! \nOs esperamos!!
URL:https://bodegalaolmilla.es/evento/experiencia-con-espectaculo-5/
LOCATION:BODEGA LA OLMILLA\, OLMILLA\,2\, PEÑAFIEL\, VALLADOLID\, 47300\, España
CATEGORIES:EXPERIENCIAS CON ESPECTÁCULO
ORGANIZER;CN="Silvia Camacho":MAILTO:info@bodegalaolmilla.es
END:VEVENT
BEGIN:VEVENT
DTSTART;TZID=Europe/Madrid:20220326T180000
DTEND;TZID=Europe/Madrid:20220326T193000
DTSTAMP:20260422T174239
CREATED:20220302T110616Z
LAST-MODIFIED:20220302T110616Z
UID:7311-1648317600-1648323000@bodegalaolmilla.es
SUMMARY:DÍA MUNDIAL DEL TEATRO
DESCRIPTION:Experiencia en una bodega tradicional donde hacer un viaje al pasado. Conocer curiosidades de este pueblo ligado a la vinicultura. Secretos en torno a la elaboración y venta del vino\, para volver\, y seguir disfrutando del presente en la Olmilla con un espectáculo de teatro. \n«El Nacimiento de Baco». Comedia. Dos monjes goliardos muy gamberros cuentan el nacimiento del Dios del vino. Degustación de un vino local en el tradicional jarrillo de barro con un aperitivo. (puedes hacerlo vegano) \n  \nPlazas muy limitadas! No te lo pienses y reserva ya! \nreservas@bodegalaolmilla.es ó 689 796 521 (whatsapp ó telegram) \nCualquier duda ponte en contacto con nosotros! \nOs esperamos!!
URL:https://bodegalaolmilla.es/evento/dia-mundial-del-teatro/
CATEGORIES:EXPERIENCIAS CON ESPECTÁCULO
ORGANIZER;CN="Silvia Camacho":MAILTO:info@bodegalaolmilla.es
END:VEVENT
BEGIN:VEVENT
DTSTART;TZID=Europe/Madrid:20220321T200000
DTEND;TZID=Europe/Madrid:20220321T210000
DTSTAMP:20260422T174239
CREATED:20220302T105956Z
LAST-MODIFIED:20220302T105956Z
UID:7309-1647892800-1647896400@bodegalaolmilla.es
SUMMARY:CATA DE POESÍA CON VINO
DESCRIPTION:Celebra el día internacional de la poesía en La Olmilla. Si quieres compartir tu poema preferido ponte en contacto con nosotros. \nVen a disfrutar de la poesía tomando un jarrillo de vino Almate de Alfredo Maestro.
URL:https://bodegalaolmilla.es/evento/cata-de-poesia-con-vino/
ORGANIZER;CN="Silvia Camacho":MAILTO:info@bodegalaolmilla.es
END:VEVENT
BEGIN:VEVENT
DTSTART;TZID=Europe/Madrid:20220320T123000
DTEND;TZID=Europe/Madrid:20220320T140000
DTSTAMP:20260422T174239
CREATED:20220302T110830Z
LAST-MODIFIED:20220302T110830Z
UID:7313-1647779400-1647784800@bodegalaolmilla.es
SUMMARY:EQUINOCIO DE LA PRIMAVERA
DESCRIPTION:Celebra con nosotros el día de la primavera y el día internacional de la felicidad!! \nPregunta y te informaremos
URL:https://bodegalaolmilla.es/evento/equinocio-de-la-primavera/
ORGANIZER;CN="Silvia Camacho":MAILTO:info@bodegalaolmilla.es
END:VEVENT
BEGIN:VEVENT
DTSTART;TZID=Europe/Madrid:20220319T190000
DTEND;TZID=Europe/Madrid:20220319T203000
DTSTAMP:20260422T174239
CREATED:20220307T122850Z
LAST-MODIFIED:20220307T122850Z
UID:7322-1647716400-1647721800@bodegalaolmilla.es
SUMMARY:DIA DEL PADRE-EXPERIENCIA CON ESPECTÁCULO
DESCRIPTION:Experiencia en una bodega tradicional donde hacer un viaje al pasado. Conocer curiosidades de este pueblo ligado a la vinicultura. Secretos en torno a la elaboración y venta del vino\, para volver\, y seguir disfrutando del presente en la Olmilla con un espectáculo de música en directo. \nDegustación de un vino local en el tradicional jarrillo de barro con un aperitivo. (puedes hacerlo vegano por 1€+) \n  \nPlazas muy limitadas! No te lo pienses y reserva ya! \nreservas@bodegalaolmilla.es ó 689 796 521 (whatsapp ó telegram) \nCualquier duda ponte en contacto con nosotros! \nOs esperamos!!
URL:https://bodegalaolmilla.es/evento/dia-del-padre-experiencia-con-espectaculo/
CATEGORIES:EXPERIENCIAS CON ESPECTÁCULO
ORGANIZER;CN="Silvia Camacho":MAILTO:info@bodegalaolmilla.es
END:VEVENT
BEGIN:VEVENT
DTSTART;TZID=Europe/Madrid:20220319T120000
DTEND;TZID=Europe/Madrid:20220319T130000
DTSTAMP:20260422T174239
CREATED:20220302T100229Z
LAST-MODIFIED:20220303T151942Z
UID:7305-1647691200-1647694800@bodegalaolmilla.es
SUMMARY:REGALA EXPERIENCIAS POR EL DIA DEL PADRE-VISITA TEATRALIZADA POR EL BARRIO DE BODEGAS
DESCRIPTION:REGALA EXPERIENCIAS POR EL DÍA DEL PADRE \nVisita teatralizada por el barrio de bodegas de Peñafiel\, descubriendo rincones mágicos y con historia de una manera divertida. \nAcabamos degustando un vino con aperitivo en la Olmilla. \nPACK 1: 2 ENTRADAS+2 JARRILLOS…………………………………………………..29€ \nPACK 2: 2 ENTRADAS+2 JARRILLOS+1 CRIANZA PINNA FIDELIS……..40€ \nPACK 3 : 2 ENTRADAS+ 2 JARRILLOS+ 3 PINNA ROBLE…………………….51€
URL:https://bodegalaolmilla.es/evento/regala-experiencias-por-el-dia-del-padre-visita-teatralizada-por-el-barrio-de-bodegas/
CATEGORIES:VISITA TEATRALIZADA
ORGANIZER;CN="Silvia Camacho":MAILTO:info@bodegalaolmilla.es
END:VEVENT
BEGIN:VEVENT
DTSTART;VALUE=DATE:20220313
DTEND;VALUE=DATE:20220314
DTSTAMP:20260422T174239
CREATED:20220302T092325Z
LAST-MODIFIED:20220302T092325Z
UID:7302-1647129600-1647215999@bodegalaolmilla.es
SUMMARY:CERRADO
DESCRIPTION:
URL:https://bodegalaolmilla.es/evento/cerrado-3/
END:VEVENT
BEGIN:VEVENT
DTSTART;VALUE=DATE:20220312
DTEND;VALUE=DATE:20220313
DTSTAMP:20260422T174239
CREATED:20220302T092256Z
LAST-MODIFIED:20220302T092256Z
UID:7300-1647043200-1647129599@bodegalaolmilla.es
SUMMARY:CERRADO
DESCRIPTION:
URL:https://bodegalaolmilla.es/evento/cerrado-2/
END:VEVENT
BEGIN:VEVENT
DTSTART;VALUE=DATE:20220311
DTEND;VALUE=DATE:20220312
DTSTAMP:20260422T174239
CREATED:20220302T092209Z
LAST-MODIFIED:20220302T092209Z
UID:7298-1646956800-1647043199@bodegalaolmilla.es
SUMMARY:CERRADO
DESCRIPTION:
URL:https://bodegalaolmilla.es/evento/cerrado/
END:VEVENT
BEGIN:VEVENT
DTSTART;TZID=Europe/Madrid:20220305T190000
DTEND;TZID=Europe/Madrid:20220305T203000
DTSTAMP:20260422T174239
CREATED:20220301T122651Z
LAST-MODIFIED:20220301T123702Z
UID:7278-1646506800-1646512200@bodegalaolmilla.es
SUMMARY:EXPERIENCIA CON ESPECTÁCULO
DESCRIPTION:Experiencia en una bodega tradicional donde hacer un viaje al pasado. Conocer curiosidades de este pueblo ligado a la vinicultura. Secretos en torno a la elaboración y venta del vino\, para volver\, y seguir disfrutando del presente en la Olmilla con un espectáculo de teatro. \n«El Nacimiento de Baco». Comedia. Dos monjes goliardos muy gamberros cuentan el nacimiento del Dios del vino. Degustación de un vino local en el tradicional jarrillo de barro con un aperitivo. (puedes hacerlo vegano) \n  \nPlazas muy limitadas! No te lo pienses y reserva ya! \nreservas@bodegalaolmilla.es ó 689 796 521 (whatsapp ó telegram) \nCualquier duda ponte en contacto con nosotros! \nOs esperamos!!
URL:https://bodegalaolmilla.es/evento/experiencia-con-espectaculo-4/
CATEGORIES:EXPERIENCIAS CON ESPECTÁCULO
ORGANIZER;CN="Silvia Camacho":MAILTO:info@bodegalaolmilla.es
END:VEVENT
BEGIN:VEVENT
DTSTART;TZID=Europe/Madrid:20220305T130000
DTEND;TZID=Europe/Madrid:20220305T140000
DTSTAMP:20260422T174239
CREATED:20220301T123323Z
LAST-MODIFIED:20220301T123911Z
UID:7290-1646485200-1646488800@bodegalaolmilla.es
SUMMARY:EXPERIENCIA SIN ESPECTÁCULO. "INMERSIÓN AL ORIGEN"
DESCRIPTION:Experiencia en una bodega tradicional donde hacer un viaje al pasado. Conocer curiosidades de este pueblo ligado a la vinicultura. Secretos en torno a la elaboración y venta del vino\, sus bodegas tradicionales\, para volver\, y seguir disfrutando del presente en la Olmilla. \nDegustación de un vino local en el tradicional jarrillo de barro con un aperitivo. (Puedes hacer tu aperitivo vegano por 1€ más) \n  \nPlazas muy limitadas! No te lo pienses y reserva ya! \nreservas@bodegalaolmilla.es ó 689 796 521 (whatsapp ó telegram) \nCualquier duda ponte en contacto con nosotros! \nOs esperamos!!
URL:https://bodegalaolmilla.es/evento/7290/
CATEGORIES:EXPERIENCIA SIN ESPECTÁCULO
ORGANIZER;CN="Silvia Camacho":MAILTO:info@bodegalaolmilla.es
END:VEVENT
BEGIN:VEVENT
DTSTART;TZID=Europe/Madrid:20220304T130000
DTEND;TZID=Europe/Madrid:20220304T140000
DTSTAMP:20260422T174239
CREATED:20220301T124121Z
LAST-MODIFIED:20220301T124121Z
UID:7296-1646398800-1646402400@bodegalaolmilla.es
SUMMARY:EXPERIENCIA SIN ESPECTÁCULO. INMERSIÓN AL ORIGEN
DESCRIPTION:Experiencia en una bodega tradicional donde hacer un viaje al pasado. Conocer curiosidades de este pueblo ligado a la vinicultura. Secretos en torno a la elaboración y venta del vino\, sus bodegas tradicionales\, para volver\, y seguir disfrutando del presente en la Olmilla. \nDegustación de un vino local en el tradicional jarrillo de barro con un aperitivo. (Puedes hacer tu aperitivo vegano por 1€ más) \n  \nPlazas muy limitadas! No te lo pienses y reserva ya! \nreservas@bodegalaolmilla.es ó 689 796 521 (whatsapp ó telegram) \nCualquier duda ponte en contacto con nosotros! \nOs esperamos!!
URL:https://bodegalaolmilla.es/evento/experiencia-sin-espectaculo-inmersion-al-origen/
CATEGORIES:EXPERIENCIA SIN ESPECTÁCULO
END:VEVENT
BEGIN:VEVENT
DTSTART;TZID=Europe/Madrid:20220212T200000
DTEND;TZID=Europe/Madrid:20220212T210000
DTSTAMP:20260422T174239
CREATED:20220127T111144Z
LAST-MODIFIED:20220127T111144Z
UID:7006-1644696000-1644699600@bodegalaolmilla.es
SUMMARY:NOCHES DE BOHEMIA. SAN VALENTÍN
DESCRIPTION:Celebra con nosotros el día de los enamorados. \n¿Quieres sorprender a tu pareja con algo especial y decirle lo mucho que le quieres? \nVeniros a la Olmilla! Te ayudamos a que sea un momento muy especial.
URL:https://bodegalaolmilla.es/evento/noches-de-bohemia-san-valentin/
LOCATION:BODEGA LA OLMILLA\, OLMILLA\,2\, PEÑAFIEL\, VALLADOLID\, 47300\, España
ORGANIZER;CN="Silvia Camacho":MAILTO:info@bodegalaolmilla.es
END:VEVENT
BEGIN:VEVENT
DTSTART;TZID=Europe/Madrid:20220129T180000
DTEND;TZID=Europe/Madrid:20220129T193000
DTSTAMP:20260422T174239
CREATED:20220127T102349Z
LAST-MODIFIED:20220127T103417Z
UID:6984-1643479200-1643484600@bodegalaolmilla.es
SUMMARY:EXPERIENCIA CON ESPECTÁCULO. (TEATRO: EL NACIMIENTO DE BACO)
DESCRIPTION:Experiencia en una bodega tradicional donde hacer un viaje al pasado. Conocer curiosidades de este pueblo ligado a la vinicultura. Secretos en torno a la elaboración y venta del vino\, para volver\, y seguir disfrutando del presente en la Olmilla con un espectáculo de teatro. \n«El Nacimiento de Baco». Comedia. Dos frailes goliardos muy gamberros cuentas el nacimiento del Dios del vino. Degustación de un vino de la tierra en el tradicional jarrillo de barro con un aperitivo. \n  \nPlazas muy limitadas! No te lo pienses y reserva ya! \nreservas@bodegalaolmilla.es ó 689 796 521 (whatsapp ó telegram) \nCualquier duda ponte en contacto con nosotros! \nOs esperamos!!
URL:https://bodegalaolmilla.es/evento/experiencia-con-espectaculo-teatro-el-nacimiento-de-baco/
LOCATION:BODEGA LA OLMILLA\, OLMILLA\,2\, PEÑAFIEL\, VALLADOLID\, 47300\, España
ORGANIZER;CN="Silvia Camacho":MAILTO:info@bodegalaolmilla.es
END:VEVENT
BEGIN:VEVENT
DTSTART;TZID=Europe/Madrid:20220129T133000
DTEND;TZID=Europe/Madrid:20220129T143000
DTSTAMP:20260422T174239
CREATED:20220127T103927Z
LAST-MODIFIED:20220127T105222Z
UID:7004-1643463000-1643466600@bodegalaolmilla.es
SUMMARY:EXPERIENCIA SIN ESPECTÁCULO EN LA OLMILLA
DESCRIPTION:Experiencia en una bodega tradicional donde hacer un viaje al pasado. Conocer curiosidades de este pueblo ligado a la vinicultura. Secretos en torno a la elaboración y venta del vino\, sus bodegas tradicionales\, para volver\, y seguir disfrutando del presente en la Olmilla. \nDegustación de un vino en el tradicional jarrillo de barro con un aperitivo. \n  \nPlazas muy limitadas! No te lo pienses y reserva ya! \nreservas@bodegalaolmilla.es ó 689 796 521 (whatsapp ó telegram) \nCualquier duda ponte en contacto con nosotros! \nOs esperamos!!
URL:https://bodegalaolmilla.es/evento/experiencia-sin-espectaculo-en-la-olmilla/
LOCATION:BODEGA LA OLMILLA\, OLMILLA\,2\, PEÑAFIEL\, VALLADOLID\, 47300\, España
CATEGORIES:EXPERIENCIA SIN ESPECTÁCULO
ORGANIZER;CN="Silvia Camacho":MAILTO:info@bodegalaolmilla.es
END:VEVENT
BEGIN:VEVENT
DTSTART;TZID=Europe/Madrid:20211128T120000
DTEND;TZID=Europe/Madrid:20211128T130000
DTSTAMP:20260422T174239
CREATED:20211028T214103Z
LAST-MODIFIED:20211028T214103Z
UID:6107-1638100800-1638104400@bodegalaolmilla.es
SUMMARY:VISITA TEATRALIZADA POR EL BARRIO DE BODEGAS DE PEÑAFIEL
DESCRIPTION:Visita teatralizada por el barrio de bodegas de Peñafiel\, descubriendo rincones mágicos y acabando en la bodega La Olmilla para degustar un vino y visitarla.
URL:https://bodegalaolmilla.es/evento/visita-teatralizada-por-el-barrio-de-bodegas-de-penafiel-2/
LOCATION:BODEGA LA OLMILLA\, OLMILLA\,2\, PEÑAFIEL\, VALLADOLID\, 47300\, España
CATEGORIES:VISITA TEATRALIZADA
ORGANIZER;CN="Silvia Camacho":MAILTO:info@bodegalaolmilla.es
END:VEVENT
BEGIN:VEVENT
DTSTART;TZID=Europe/Madrid:20211127T200000
DTEND;TZID=Europe/Madrid:20211127T210000
DTSTAMP:20260422T174239
CREATED:20211028T213838Z
LAST-MODIFIED:20211028T213838Z
UID:6105-1638043200-1638046800@bodegalaolmilla.es
SUMMARY:EL GUATEQUE
DESCRIPTION:Actuación en directo representando varios artistas de los 60\, con proyección audiovisual.
URL:https://bodegalaolmilla.es/evento/el-guateque/
LOCATION:BODEGA LA OLMILLA\, OLMILLA\,2\, PEÑAFIEL\, VALLADOLID\, 47300\, España
CATEGORIES:EVENTO
ORGANIZER;CN="Silvia Camacho":MAILTO:info@bodegalaolmilla.es
END:VEVENT
BEGIN:VEVENT
DTSTART;TZID=Europe/Madrid:20211126T190000
DTEND;TZID=Europe/Madrid:20211126T203000
DTSTAMP:20260422T174239
CREATED:20211028T213023Z
LAST-MODIFIED:20211028T213023Z
UID:6103-1637953200-1637958600@bodegalaolmilla.es
SUMMARY:EXPERIENCIA CON ESPECTÁCULO
DESCRIPTION:Experiencia en una bodega tradicional donde hacer un viaje al pasado. Conocer curiosidades de este pueblo ligado a la vinicultura. Secretos en torno a la elaboración y venta del vino\, para volver\, y seguir disfrutando del presente en la Olmilla con un espectáculo sorpresa. \nDegustación de un vino en el tradicional jarrillo de barro con un aperitivo. \n  \nPlazas muy limitadas! No te lo pienses y reserva ya! \nreservas@bodegalaolmilla.es ó 689 796 521 (whatsapp ó telegram) \nCualquier duda ponte en contacto con nosotros! \nOs esperamos!!
URL:https://bodegalaolmilla.es/evento/experiencia-con-espectaculo-3/
LOCATION:BODEGA LA OLMILLA\, OLMILLA\,2\, PEÑAFIEL\, VALLADOLID\, 47300\, España
ORGANIZER;CN="Silvia Camacho":MAILTO:info@bodegalaolmilla.es
END:VEVENT
BEGIN:VEVENT
DTSTART;TZID=Europe/Madrid:20211121T120000
DTEND;TZID=Europe/Madrid:20211121T140000
DTSTAMP:20260422T174239
CREATED:20211028T212806Z
LAST-MODIFIED:20211028T213103Z
UID:6101-1637496000-1637503200@bodegalaolmilla.es
SUMMARY:TALLER DE CONSTRUCCIÓN DE ZAMBOMBA Y ALGO MÁS
DESCRIPTION:Taller impartido por Santiago Manzano el Archiperrero. Materiales incluidos. Podrás llevarte tu propia zambomba y algún instrumento más.
URL:https://bodegalaolmilla.es/evento/taller-de-construccion-de-zambomba-y-algo-mas/
LOCATION:BODEGA LA OLMILLA\, OLMILLA\,2\, PEÑAFIEL\, VALLADOLID\, 47300\, España
CATEGORIES:TALLER
ORGANIZER;CN="Silvia Camacho":MAILTO:info@bodegalaolmilla.es
END:VEVENT
BEGIN:VEVENT
DTSTART;TZID=Europe/Madrid:20211119T190000
DTEND;TZID=Europe/Madrid:20211119T203000
DTSTAMP:20260422T174239
CREATED:20211028T212417Z
LAST-MODIFIED:20211028T213136Z
UID:6099-1637348400-1637353800@bodegalaolmilla.es
SUMMARY:EXPERIENCIA CON ESPECTÁCULO
DESCRIPTION:Experiencia en una bodega tradicional donde hacer un viaje al pasado. Conocer curiosidades de este pueblo ligado a la vinicultura. Secretos en torno a la elaboración y venta del vino\, para volver\, y seguir disfrutando del presente en la Olmilla con un espectáculo sorpresa. \nDegustación de un vino en el tradicional jarrillo de barro con un aperitivo. \n  \nPlazas muy limitadas! No te lo pienses y reserva ya! \nreservas@bodegalaolmilla.es ó 689 796 521 (whatsapp ó telegram) \nCualquier duda ponte en contacto con nosotros! \nOs esperamos!!
URL:https://bodegalaolmilla.es/evento/experiencia-con-espectaculo-2/
LOCATION:BODEGA LA OLMILLA\, OLMILLA\,2\, PEÑAFIEL\, VALLADOLID\, 47300\, España
CATEGORIES:EXPERIENCIAS CON ESPECTÁCULO
ORGANIZER;CN="Silvia Camacho":MAILTO:info@bodegalaolmilla.es
END:VEVENT
BEGIN:VEVENT
DTSTART;TZID=Europe/Madrid:20211114T120000
DTEND;TZID=Europe/Madrid:20211114T133000
DTSTAMP:20260422T174239
CREATED:20211028T212106Z
LAST-MODIFIED:20211028T213205Z
UID:6097-1636891200-1636896600@bodegalaolmilla.es
SUMMARY:VISITA TEATRALIZADA POR EL BARRIO DE BODEGAS DE PEÑAFIEL
DESCRIPTION:Visita teatralizada por el barrio de bodegas de Peñafiel\, descubriendo rincones mágicos y acabando en la bodega La Olmilla para degustar un vino y visitarla.
URL:https://bodegalaolmilla.es/evento/visita-teatralizada-por-el-barrio-de-bodegas-de-penafiel/
LOCATION:BODEGA LA OLMILLA\, OLMILLA\,2\, PEÑAFIEL\, VALLADOLID\, 47300\, España
CATEGORIES:VISITA TEATRALIZADA
ORGANIZER;CN="Silvia Camacho":MAILTO:info@bodegalaolmilla.es
END:VEVENT
END:VCALENDAR