BEGIN:VCALENDAR
VERSION:2.0
PRODID:-//Bodega La Olmilla - ECPv6.15.20//NONSGML v1.0//EN
CALSCALE:GREGORIAN
METHOD:PUBLISH
X-ORIGINAL-URL:https://bodegalaolmilla.es
X-WR-CALDESC:Eventos para Bodega La Olmilla
REFRESH-INTERVAL;VALUE=DURATION:PT1H
X-Robots-Tag:noindex
X-PUBLISHED-TTL:PT1H
BEGIN:VTIMEZONE
TZID:Europe/Madrid
BEGIN:DAYLIGHT
TZOFFSETFROM:+0100
TZOFFSETTO:+0200
TZNAME:CEST
DTSTART:20220327T010000
END:DAYLIGHT
BEGIN:STANDARD
TZOFFSETFROM:+0200
TZOFFSETTO:+0100
TZNAME:CET
DTSTART:20221030T010000
END:STANDARD
BEGIN:DAYLIGHT
TZOFFSETFROM:+0100
TZOFFSETTO:+0200
TZNAME:CEST
DTSTART:20230326T010000
END:DAYLIGHT
BEGIN:STANDARD
TZOFFSETFROM:+0200
TZOFFSETTO:+0100
TZNAME:CET
DTSTART:20231029T010000
END:STANDARD
BEGIN:DAYLIGHT
TZOFFSETFROM:+0100
TZOFFSETTO:+0200
TZNAME:CEST
DTSTART:20240331T010000
END:DAYLIGHT
BEGIN:STANDARD
TZOFFSETFROM:+0200
TZOFFSETTO:+0100
TZNAME:CET
DTSTART:20241027T010000
END:STANDARD
END:VTIMEZONE
BEGIN:VEVENT
DTSTART;TZID=Europe/Madrid:20230302T200000
DTEND;TZID=Europe/Madrid:20230302T210000
DTSTAMP:20260424T065841
CREATED:20230214T123700Z
LAST-MODIFIED:20230322T144733Z
UID:9693-1677787200-1677790800@bodegalaolmilla.es
SUMMARY:CUENTACUENTOS POR EL DIA DEL 8M
DESCRIPTION:Actividades organizadas por la comisión de Peñafiel por el día de la mujer. \nTarde de micros abiertos\, cuentacuentos\, ven a expresarte\, te escuchamos!
URL:https://bodegalaolmilla.es/evento/cuentacuentos-por-el-dia-de-la-8m/
LOCATION:BODEGA LA OLMILLA\, OLMILLA\,2\, PEÑAFIEL\, VALLADOLID\, 47300\, España
END:VEVENT
BEGIN:VEVENT
DTSTART;TZID=Europe/Madrid:20230303T190000
DTEND;TZID=Europe/Madrid:20230303T200000
DTSTAMP:20260424T065841
CREATED:20230214T141914Z
LAST-MODIFIED:20230214T141914Z
UID:9699-1677870000-1677873600@bodegalaolmilla.es
SUMMARY:EXPERIENCIA INMERSIÓN AL ORIGEN (sin espectáculo)
DESCRIPTION:En la experiencia Inmersión al Origen nos centramos en contaros de una manera muy cercana y sencilla\, todo aquello que sucedía en estas bodegas \n\n\n\ncuando estaban en pleno rendimiento. Os situamos en el tiempo y el espacio\, para que conozcáis cómo funcionaba el pueblo entonces\, os contamos\n\n\ntradiciones\, costumbres y chascarrillos que nos han ido contando los abuelos del pueblo\, para que nos se pierdan todo regado con un jarrillo de vino y un pincho. \n\n\nReserva ahora! en reservas@bodegalaolmilla.es ó 689 796 521
URL:https://bodegalaolmilla.es/evento/experiencia-inmersion-al-origen-sin-espectaculo-2/
LOCATION:BODEGA LA OLMILLA\, OLMILLA\,2\, PEÑAFIEL\, VALLADOLID\, 47300\, España
CATEGORIES:EXPERIENCIA "INMERSIÓN AL ORIGEN"
ORGANIZER;CN="Silvia Camacho":MAILTO:info@bodegalaolmilla.es
END:VEVENT
BEGIN:VEVENT
DTSTART;TZID=Europe/Madrid:20230304T190000
DTEND;TZID=Europe/Madrid:20230304T203000
DTSTAMP:20260424T065841
CREATED:20230214T122758Z
LAST-MODIFIED:20230214T122758Z
UID:9689-1677956400-1677961800@bodegalaolmilla.es
SUMMARY:EXPERIENCIA CON ESPECTÁCULO - TEATRO "FARSA GÓTICA"
DESCRIPTION:SI TE QUEDASTE SIN PLAZAS EN EL ESTRENO HOY VUELVEN!! \n!!FARSA GÓTICA DEL REY Y LA MUERTE!! \n  \nExperiencia en una bodega tradicional donde hacer un viaje al pasado. Conocer curiosidades de este pueblo ligado a la vinicultura. Secretos en torno a la elaboración y venta del vino\, para volver\, y seguir disfrutando del presente en la Olmilla con el espectáculo de teatro «FARSA GÓTICA DEL REY Y LA MUERTE». \nPlazas muy limitadas! No te lo pienses y reserva ya! \nreservas@bodegalaolmilla.es ó 689 796 521
URL:https://bodegalaolmilla.es/evento/experiencia-con-espectaculo-teatro-farsa-gotica/
LOCATION:BODEGA LA OLMILLA\, OLMILLA\,2\, PEÑAFIEL\, VALLADOLID\, 47300\, España
CATEGORIES:EXPERIENCIAS CON ESPECTÁCULO
ORGANIZER;CN="Silvia Camacho":MAILTO:info@bodegalaolmilla.es
END:VEVENT
BEGIN:VEVENT
DTSTART;TZID=Europe/Madrid:20230321T200000
DTEND;TZID=Europe/Madrid:20230321T210000
DTSTAMP:20260424T065841
CREATED:20230215T112915Z
LAST-MODIFIED:20230215T112915Z
UID:9701-1679428800-1679432400@bodegalaolmilla.es
SUMMARY:CATA DE POESIAS
DESCRIPTION:Con motivo del día internacional de la poesía haremos un evento donde contaremos con la participación de Miriam Villabón
URL:https://bodegalaolmilla.es/evento/cata-de-poesias/
LOCATION:BODEGA LA OLMILLA\, OLMILLA\,2\, PEÑAFIEL\, VALLADOLID\, 47300\, España
ORGANIZER;CN="Silvia Camacho":MAILTO:info@bodegalaolmilla.es
END:VEVENT
BEGIN:VEVENT
DTSTART;TZID=Europe/Madrid:20230324T190000
DTEND;TZID=Europe/Madrid:20230324T200000
DTSTAMP:20260424T065841
CREATED:20230322T150142Z
LAST-MODIFIED:20230322T150142Z
UID:9724-1679684400-1679688000@bodegalaolmilla.es
SUMMARY:EXPERIENCIA INMERSIÓN AL ORIGEN - sin espectáculo
DESCRIPTION:En la experiencia Inmersión al Origen nos centramos en contaros de una manera muy cercana y sencilla\, todo aquello que sucedía en estas bodegas \n\n\n\ncuando estaban en pleno rendimiento. Os situamos en el tiempo y el espacio\, para que conozcáis cómo funcionaba el pueblo entonces\, os contamos\n\n\ntradiciones\, costumbres y chascarrillos que nos han ido contando los abuelos del pueblo\, para que nos se pierdan todo regado con un jarrillo de vino y un pincho. \n\n\nReserva ahora! en reservas@bodegalaolmilla.es ó 689 796 521
URL:https://bodegalaolmilla.es/evento/experiencia-inmersion-al-origen-sin-espectaculo-3/
LOCATION:BODEGA LA OLMILLA\, OLMILLA\,2\, PEÑAFIEL\, VALLADOLID\, 47300\, España
CATEGORIES:EXPERIENCIA "INMERSIÓN AL ORIGEN"
ORGANIZER;CN="Silvia Camacho":MAILTO:info@bodegalaolmilla.es
END:VEVENT
BEGIN:VEVENT
DTSTART;TZID=Europe/Madrid:20230325T120000
DTEND;TZID=Europe/Madrid:20230325T130000
DTSTAMP:20260424T065841
CREATED:20230322T150331Z
LAST-MODIFIED:20230322T150831Z
UID:9726-1679745600-1679749200@bodegalaolmilla.es
SUMMARY:EXPERIENCIA INMERSIÓN AL ORIGEN - sin espectáculo
DESCRIPTION:En la experiencia Inmersión al Origen nos centramos en contaros de una manera muy cercana y sencilla\, todo aquello que sucedía en estas bodegas \n\n\n\ncuando estaban en pleno rendimiento. Os situamos en el tiempo y el espacio\, para que conozcáis cómo funcionaba el pueblo entonces\, os contamos\n\n\ntradiciones\, costumbres y chascarrillos que nos han ido contando los abuelos del pueblo\, para que nos se pierdan todo regado con un jarrillo de vino y un pincho. \n\n\nReserva ahora! en reservas@bodegalaolmilla.es ó 689 796 521
URL:https://bodegalaolmilla.es/evento/experiencia-inmersion-al-origen-sin-espectaculo-4/
LOCATION:BODEGA LA OLMILLA\, OLMILLA\,2\, PEÑAFIEL\, VALLADOLID\, 47300\, España
CATEGORIES:EXPERIENCIA SIN ESPECTÁCULO
ORGANIZER;CN="Silvia Camacho":MAILTO:info@bodegalaolmilla.es
END:VEVENT
BEGIN:VEVENT
DTSTART;TZID=Europe/Madrid:20230325T190000
DTEND;TZID=Europe/Madrid:20230325T203000
DTSTAMP:20260424T065841
CREATED:20230322T145312Z
LAST-MODIFIED:20230322T145312Z
UID:9722-1679770800-1679776200@bodegalaolmilla.es
SUMMARY:EXPERIENCIA CON ESPECTÁCULO "FARSA GÓTICA DEL REY Y MUERTE"
DESCRIPTION:!!FARSA GÓTICA DEL REY Y LA MUERTE!! \n  \nExperiencia en una bodega tradicional donde hacer un viaje al pasado. Conocer curiosidades de este pueblo ligado a la vinicultura. Secretos en torno a la elaboración y venta del vino\, para volver\, y seguir disfrutando del presente en la Olmilla con el espectáculo de teatro «FARSA GÓTICA DEL REY Y LA MUERTE». \nPlazas muy limitadas! No te lo pienses y reserva ya! \nreservas@bodegalaolmilla.es ó 689 796 521
URL:https://bodegalaolmilla.es/evento/experiencia-con-espectaculo-farsa-gotica-del-rey-y-muerte/
LOCATION:BODEGA LA OLMILLA\, OLMILLA\,2\, PEÑAFIEL\, VALLADOLID\, 47300\, España
CATEGORIES:EXPERIENCIAS CON ESPECTÁCULO
END:VEVENT
BEGIN:VEVENT
DTSTART;TZID=Europe/Madrid:20230326T120000
DTEND;TZID=Europe/Madrid:20230326T130000
DTSTAMP:20260424T065841
CREATED:20230322T151358Z
LAST-MODIFIED:20230322T151358Z
UID:9730-1679832000-1679835600@bodegalaolmilla.es
SUMMARY:EXPERIENCIA INMERSIÓN AL ORIGEN - sin espectáculo
DESCRIPTION:En la experiencia Inmersión al Origen nos centramos en contaros de una manera muy cercana y sencilla\, todo aquello que sucedía en estas bodegas \n\n\n\ncuando estaban en pleno rendimiento. Os situamos en el tiempo y el espacio\, para que conozcáis cómo funcionaba el pueblo entonces\, os contamos\n\n\ntradiciones\, costumbres y chascarrillos que nos han ido contando los abuelos del pueblo\, para que nos se pierdan todo regado con un jarrillo de vino y un pincho. \n\n\nReserva ahora! en reservas@bodegalaolmilla.es ó 689 796 521
URL:https://bodegalaolmilla.es/evento/experiencia-inmersion-al-origen-sin-espectaculo-5/
LOCATION:BODEGA LA OLMILLA\, OLMILLA\,2\, PEÑAFIEL\, VALLADOLID\, 47300\, España
CATEGORIES:EXPERIENCIA "INMERSIÓN AL ORIGEN"
ORGANIZER;CN="Silvia Camacho":MAILTO:info@bodegalaolmilla.es
END:VEVENT
BEGIN:VEVENT
DTSTART;TZID=Europe/Madrid:20230331T120000
DTEND;TZID=Europe/Madrid:20230331T133000
DTSTAMP:20260424T065841
CREATED:20230201T113048Z
LAST-MODIFIED:20230201T113048Z
UID:9685-1680264000-1680269400@bodegalaolmilla.es
SUMMARY:EXPERIENCIA CON ESPECTÁCULO-TEATRO "EL NACIMIENTO DE BACO"
DESCRIPTION:Experiencia en una bodega tradicional donde hacer un viaje al pasado. Conocer curiosidades de este pueblo ligado a la vinicultura. Secretos en torno a la elaboración y venta del vino\, para volver\, y seguir disfrutando del presente en la Olmilla con un espectáculo de teatro «El Nacimiento de Baco». Comedia gamberra. \nDos frailes muy gamberros representan como nació Dioniso el Dios de vino y otras aventuras. \nPlazas muy limitadas! No te lo pienses y reserva ya! \nreservas@bodegalaolmilla.es desde el 689 796 521 \nCualquier duda ponte en contacto con nosotros! \n¡¡Te esperamos!!
URL:https://bodegalaolmilla.es/evento/experiencia-con-espectaculo-teatro-el-nacimiento-de-baco-2/
LOCATION:BODEGA LA OLMILLA\, OLMILLA\,2\, PEÑAFIEL\, VALLADOLID\, 47300\, España
ORGANIZER;CN="Silvia Camacho":MAILTO:info@bodegalaolmilla.es
END:VEVENT
END:VCALENDAR