BEGIN:VCALENDAR
VERSION:2.0
PRODID:-//Bodega La Olmilla - ECPv6.15.20//NONSGML v1.0//EN
CALSCALE:GREGORIAN
METHOD:PUBLISH
X-ORIGINAL-URL:https://bodegalaolmilla.es
X-WR-CALDESC:Eventos para Bodega La Olmilla
REFRESH-INTERVAL;VALUE=DURATION:PT1H
X-Robots-Tag:noindex
X-PUBLISHED-TTL:PT1H
BEGIN:VTIMEZONE
TZID:Europe/Madrid
BEGIN:DAYLIGHT
TZOFFSETFROM:+0100
TZOFFSETTO:+0200
TZNAME:CEST
DTSTART:20220327T010000
END:DAYLIGHT
BEGIN:STANDARD
TZOFFSETFROM:+0200
TZOFFSETTO:+0100
TZNAME:CET
DTSTART:20221030T010000
END:STANDARD
BEGIN:DAYLIGHT
TZOFFSETFROM:+0100
TZOFFSETTO:+0200
TZNAME:CEST
DTSTART:20230326T010000
END:DAYLIGHT
BEGIN:STANDARD
TZOFFSETFROM:+0200
TZOFFSETTO:+0100
TZNAME:CET
DTSTART:20231029T010000
END:STANDARD
BEGIN:DAYLIGHT
TZOFFSETFROM:+0100
TZOFFSETTO:+0200
TZNAME:CEST
DTSTART:20240331T010000
END:DAYLIGHT
BEGIN:STANDARD
TZOFFSETFROM:+0200
TZOFFSETTO:+0100
TZNAME:CET
DTSTART:20241027T010000
END:STANDARD
END:VTIMEZONE
BEGIN:VEVENT
DTSTART;TZID=Europe/Madrid:20230401T190000
DTEND;TZID=Europe/Madrid:20230401T203000
DTSTAMP:20260424T053532
CREATED:20230322T151729Z
LAST-MODIFIED:20230322T151729Z
UID:9732-1680375600-1680381000@bodegalaolmilla.es
SUMMARY:EXPERIENCIA CON ESPECTÁCULO - VERO DE LUCAS (baile flamenco)
DESCRIPTION:Experiencia en una bodega tradicional donde hacer un viaje al pasado. Conocer curiosidades de este pueblo ligado a la vinicultura. Secretos en torno a la elaboración y venta del vino\, para volver\, y seguir disfrutando del presente en la Olmilla con un espectáculo de baile flamenco. \nVerónica de Lucas nos hará disfrutar con su arte. \nDegustación de un vino local en el tradicional jarrillo de barro con un aperitivo. (puedes hacerlo vegano) \n  \nPlazas muy limitadas! No te lo pienses y reserva ya! \nreservas@bodegalaolmilla.es ó 689 796 521 (whatsapp ó telegram) \nCualquier duda ponte en contacto con nosotros! \nOs esperamos!!
URL:https://bodegalaolmilla.es/evento/experiencia-con-espectaculo-vero-de-lucas-baile-flamenco/
LOCATION:BODEGA LA OLMILLA\, OLMILLA\,2\, PEÑAFIEL\, VALLADOLID\, 47300\, España
CATEGORIES:EXPERIENCIAS CON ESPECTÁCULO
ORGANIZER;CN="Silvia Camacho":MAILTO:info@bodegalaolmilla.es
END:VEVENT
BEGIN:VEVENT
DTSTART;TZID=Europe/Madrid:20230406T180000
DTEND;TZID=Europe/Madrid:20230406T193000
DTSTAMP:20260424T053532
CREATED:20230404T145655Z
LAST-MODIFIED:20230404T145655Z
UID:9743-1680804000-1680809400@bodegalaolmilla.es
SUMMARY:EXPERIENCIA CON ESPECTÁCULO - RAFI Y SU SAXOFÓN
DESCRIPTION:Experiencia en una bodega tradicional donde hacer un viaje al pasado. Conocer curiosidades de este pueblo ligado a la vinicultura. Secretos en torno a la elaboración y venta del vino\, para volver\, y seguir disfrutando del presente en la Olmilla con un espectáculo de música en directo. En esta ocasión será Rafi con su saxo. \nPlazas muy limitadas! No te lo pienses y reserva ya! \nreservas@bodegalaolmilla.es ó 689 796 521 (whatsapp ó telegram) \nCualquier duda ponte en contacto con nosotros! \nOs esperamos!!
URL:https://bodegalaolmilla.es/evento/experiencia-con-espectaculo-rafi-y-su-saxofon/
LOCATION:BODEGA LA OLMILLA\, OLMILLA\,2\, PEÑAFIEL\, VALLADOLID\, 47300\, España
CATEGORIES:EXPERIENCIAS CON ESPECTÁCULO
ORGANIZER;CN="Silvia Camacho":MAILTO:info@bodegalaolmilla.es
END:VEVENT
BEGIN:VEVENT
DTSTART;TZID=Europe/Madrid:20230407T120000
DTEND;TZID=Europe/Madrid:20230407T133000
DTSTAMP:20260424T053532
CREATED:20230404T145809Z
LAST-MODIFIED:20230404T145809Z
UID:9745-1680868800-1680874200@bodegalaolmilla.es
SUMMARY:EXPERIENCIA CON ESPECTÁCULO - RAFI CON SU SAXOFÓN
DESCRIPTION:Experiencia en una bodega tradicional donde hacer un viaje al pasado. Conocer curiosidades de este pueblo ligado a la vinicultura. Secretos en torno a la elaboración y venta del vino\, para volver\, y seguir disfrutando del presente en la Olmilla con un espectáculo de música en directo. En esta ocasión será Rafi con su saxo. \nPlazas muy limitadas! No te lo pienses y reserva ya! \nreservas@bodegalaolmilla.es ó 689 796 521 (whatsapp ó telegram) \nCualquier duda ponte en contacto con nosotros! \nOs esperamos!!
URL:https://bodegalaolmilla.es/evento/experiencia-con-espectaculo-rafi-con-su-saxofon/
LOCATION:BODEGA LA OLMILLA\, OLMILLA\,2\, PEÑAFIEL\, VALLADOLID\, 47300\, España
CATEGORIES:EXPERIENCIAS CON ESPECTÁCULO
ORGANIZER;CN="Silvia Camacho":MAILTO:info@bodegalaolmilla.es
END:VEVENT
BEGIN:VEVENT
DTSTART;TZID=Europe/Madrid:20230407T180000
DTEND;TZID=Europe/Madrid:20230407T193000
DTSTAMP:20260424T053532
CREATED:20230404T145152Z
LAST-MODIFIED:20230404T145152Z
UID:9739-1680890400-1680895800@bodegalaolmilla.es
SUMMARY:EXPERIENCIA CON ESPECTÁCULO DE MAGIA - MERLIN SIGLO 21
DESCRIPTION:Experiencia en una bodega tradicional donde hacer un viaje al pasado. Conocer curiosidades de este pueblo ligado a la vinicultura. Secretos en torno a la elaboración y venta del vino\, para volver\, y seguir disfrutando del presente en la Olmilla con un espectáculo de magia. \nEl mago Merlín siglo 21 nos acompañará con su nuevo espectáculo «Ni fú ni fá» \nDegustación de un vino local en el tradicional jarrillo de barro con un aperitivo. (puedes hacerlo vegano) \n  \nPlazas muy limitadas! No te lo pienses y reserva ya! \nreservas@bodegalaolmilla.es ó 689 796 521 (whatsapp ó telegram) \nCualquier duda ponte en contacto con nosotros! \nOs esperamos!!
URL:https://bodegalaolmilla.es/evento/experiencia-con-espectaculo-de-magia-merlin-siglo-21/
LOCATION:BODEGA LA OLMILLA\, OLMILLA\,2\, PEÑAFIEL\, VALLADOLID\, 47300\, España
CATEGORIES:EXPERIENCIAS CON ESPECTÁCULO
ORGANIZER;CN="Silvia Camacho":MAILTO:info@bodegalaolmilla.es
END:VEVENT
BEGIN:VEVENT
DTSTART;TZID=Europe/Madrid:20230408T190000
DTEND;TZID=Europe/Madrid:20230408T203000
DTSTAMP:20260424T053532
CREATED:20230404T145410Z
LAST-MODIFIED:20230404T145410Z
UID:9741-1680980400-1680985800@bodegalaolmilla.es
SUMMARY:EXPERIENCIA CON ESPECTÁCULO DE MAGIA - MAGO MERLIN SIGLO 21
DESCRIPTION:Experiencia en una bodega tradicional donde hacer un viaje al pasado. Conocer curiosidades de este pueblo ligado a la vinicultura. Secretos en torno a la elaboración y venta del vino\, para volver\, y seguir disfrutando del presente en la Olmilla con un espectáculo de magia. \nEl mago Merlín siglo 21 nos acompañará con su nuevo espectáculo «Ni fú ni fá» \nDegustación de un vino local en el tradicional jarrillo de barro con un aperitivo. (puedes hacerlo vegano) \n  \nPlazas muy limitadas! No te lo pienses y reserva ya! \nreservas@bodegalaolmilla.es ó 689 796 521 (whatsapp ó telegram) \nCualquier duda ponte en contacto con nosotros! \nOs esperamos!!
URL:https://bodegalaolmilla.es/evento/experiencia-con-espectaculo-de-magia-mago-merlin-siglo-21/
LOCATION:BODEGA LA OLMILLA\, OLMILLA\,2\, PEÑAFIEL\, VALLADOLID\, 47300\, España
CATEGORIES:EXPERIENCIAS CON ESPECTÁCULO
ORGANIZER;CN="Silvia Camacho":MAILTO:info@bodegalaolmilla.es
END:VEVENT
BEGIN:VEVENT
DTSTART;TZID=Europe/Madrid:20230410T120000
DTEND;TZID=Europe/Madrid:20230410T130000
DTSTAMP:20260424T053532
CREATED:20230404T144904Z
LAST-MODIFIED:20230404T144904Z
UID:9737-1681128000-1681131600@bodegalaolmilla.es
SUMMARY:EXPERIENCIA INMERSIÓN AL ORIGEN
DESCRIPTION:En la experiencia Inmersión al Origen nos centramos en contaros de una manera muy cercana y sencilla\, todo aquello que sucedía en estas bodegas \n\n\n\ncuando estaban en pleno rendimiento. Os situamos en el tiempo y el espacio\, para que conozcáis cómo funcionaba el pueblo entonces\, os contamos\n\n\ntradiciones\, costumbres y chascarrillos que nos han ido contando los abuelos del pueblo\, para que nos se pierdan todo regado con un jarrillo de vino y un pincho. \n\n\nReserva ahora! en reservas@bodegalaolmilla.es ó 689 796 521
URL:https://bodegalaolmilla.es/evento/experiencia-inmersion-al-origen-7/
LOCATION:BODEGA LA OLMILLA\, OLMILLA\,2\, PEÑAFIEL\, VALLADOLID\, 47300\, España
CATEGORIES:EXPERIENCIA "INMERSIÓN AL ORIGEN"
ORGANIZER;CN="Silvia Camacho":MAILTO:info@bodegalaolmilla.es
END:VEVENT
BEGIN:VEVENT
DTSTART;TZID=Europe/Madrid:20230412T183000
DTEND;TZID=Europe/Madrid:20230412T200000
DTSTAMP:20260424T053532
CREATED:20230404T150132Z
LAST-MODIFIED:20230404T150325Z
UID:9747-1681324200-1681329600@bodegalaolmilla.es
SUMMARY:EXPERIENCIA CON ESPECTÁCULO - RAÚL FRAILE CON GUITARRA FLAMENCA
DESCRIPTION:Experiencia en una bodega tradicional donde hacer un viaje al pasado. Conocer curiosidades de este pueblo ligado a la vinicultura. Secretos en torno a la elaboración y venta del vino\, para volver\, y seguir disfrutando del presente en la Olmilla con un espectáculo de música en directo. En esta ocasión será Raúl Fraile con su guitarra flamenca \nPlazas muy limitadas! No te lo pienses y reserva ya! \nreservas@bodegalaolmilla.es ó 689 796 521 (whatsapp ó telegram) \nCualquier duda ponte en contacto con nosotros! \nOs esperamos!!
URL:https://bodegalaolmilla.es/evento/experiencia-con-espectaculo-raul-fraile-con-guitarra-flamenca/
LOCATION:BODEGA LA OLMILLA\, OLMILLA\,2\, PEÑAFIEL\, VALLADOLID\, 47300\, España
ORGANIZER;CN="Silvia Camacho":MAILTO:info@bodegalaolmilla.es
END:VEVENT
BEGIN:VEVENT
DTSTART;TZID=Europe/Madrid:20230429T120000
DTEND;TZID=Europe/Madrid:20230429T130000
DTSTAMP:20260424T053532
CREATED:20230428T090749Z
LAST-MODIFIED:20230428T090749Z
UID:9750-1682769600-1682773200@bodegalaolmilla.es
SUMMARY:EXPERIENCIA INMERSIÓN AL ORIGEN
DESCRIPTION:En la experiencia Inmersión al Origen nos centramos en contaros de una manera muy cercana y sencilla\, todo aquello que sucedía en estas bodegas \n\n\n\ncuando estaban en pleno rendimiento. Os situamos en el tiempo y el espacio\, para que conozcáis cómo funcionaba el pueblo entonces\, os contamos\n\n\ntradiciones\, costumbres y chascarrillos que nos han ido contando los abuelos del pueblo\, para que nos se pierdan todo regado con un jarrillo de vino y un pincho. \n\n\nReserva ahora! en reservas@bodegalaolmilla.es ó 689 796 521
URL:https://bodegalaolmilla.es/evento/experiencia-inmersion-al-origen-8/
LOCATION:BODEGA LA OLMILLA\, OLMILLA\,2\, PEÑAFIEL\, VALLADOLID\, 47300\, España
CATEGORIES:EXPERIENCIA "INMERSIÓN AL ORIGEN"
ORGANIZER;CN="Silvia Camacho":MAILTO:info@bodegalaolmilla.es
END:VEVENT
BEGIN:VEVENT
DTSTART;TZID=Europe/Madrid:20230429T190000
DTEND;TZID=Europe/Madrid:20230429T203000
DTSTAMP:20260424T053532
CREATED:20230428T093810Z
LAST-MODIFIED:20230428T093810Z
UID:9761-1682794800-1682800200@bodegalaolmilla.es
SUMMARY:EXPERIENCIA CON ESPECTÁCULO - MAGIA CON MAGO MERLIN SIGLO 21
DESCRIPTION:Experiencia en una bodega tradicional donde hacer un viaje al pasado. Conocer curiosidades de este pueblo ligado a la vinicultura. Secretos en torno a la elaboración y venta del vino\, para volver\, y seguir disfrutando del presente en la Olmilla con un espectáculo de magia. \nEl mago Merlín siglo 21 nos acompañará con su nuevo espectáculo «Ni fú ni fá» \nDegustación de un vino local en el tradicional jarrillo de barro con un aperitivo. (puedes hacerlo vegano) \n  \nPlazas muy limitadas! No te lo pienses y reserva ya! \nreservas@bodegalaolmilla.es ó 689 796 521 (whatsapp ó telegram) \nCualquier duda ponte en contacto con nosotros! \nOs esperamos!!
URL:https://bodegalaolmilla.es/evento/experiencia-con-espectaculo-magia-con-mago-merlin-siglo-21/
LOCATION:BODEGA LA OLMILLA\, OLMILLA\,2\, PEÑAFIEL\, VALLADOLID\, 47300\, España
CATEGORIES:EXPERIENCIAS CON ESPECTÁCULO
ORGANIZER;CN="Silvia Camacho":MAILTO:info@bodegalaolmilla.es
END:VEVENT
BEGIN:VEVENT
DTSTART;TZID=Europe/Madrid:20230430T120000
DTEND;TZID=Europe/Madrid:20230430T130000
DTSTAMP:20260424T053532
CREATED:20230428T093208Z
LAST-MODIFIED:20230428T095450Z
UID:9756-1682856000-1682859600@bodegalaolmilla.es
SUMMARY:EXPERIENCIA INMERSIÓN AL ORIGEN
DESCRIPTION:En la experiencia Inmersión al Origen nos centramos en contaros de una manera muy cercana y sencilla\, todo aquello que sucedía en estas bodegas cuando estaban en pleno rendimiento. Os situamos en el tiempo y el espacio\, para que conozcáis cómo funcionaba el pueblo entonces\, os contamos\n\n\ntradiciones\, costumbres y chascarrillos que nos han ido contando los abuelos del pueblo\, para que nos se pierdan todo regado con un jarrillo de vino y un pincho. \n\n\nReserva ahora! en reservas@bodegalaolmilla.es ó 689 796 521
URL:https://bodegalaolmilla.es/evento/experiencia-inmersion-al-origen-10/
LOCATION:BODEGA LA OLMILLA\, OLMILLA\,2\, PEÑAFIEL\, VALLADOLID\, 47300\, España
CATEGORIES:EXPERIENCIA "INMERSIÓN AL ORIGEN"
ORGANIZER;CN="Silvia Camacho":MAILTO:info@bodegalaolmilla.es
END:VEVENT
BEGIN:VEVENT
DTSTART;TZID=Europe/Madrid:20230430T190000
DTEND;TZID=Europe/Madrid:20230430T203000
DTSTAMP:20260424T053532
CREATED:20230428T093526Z
LAST-MODIFIED:20230428T093526Z
UID:9758-1682881200-1682886600@bodegalaolmilla.es
SUMMARY:EXPERIENCIA CON ESPECTÁCULO - MÚSICA EN DIRECTO-RAFI SAXOFONISTA
DESCRIPTION:Experiencia en una bodega tradicional donde hacer un viaje al pasado. Conocer curiosidades de este pueblo ligado a la vinicultura. Secretos en torno a la elaboración y venta del vino\, para volver\, y seguir disfrutando del presente en la Olmilla con un espectáculo de música en directo. En esta ocasión será Rafi con su saxo. \nPlazas muy limitadas! No te lo pienses y reserva ya! \nreservas@bodegalaolmilla.es ó 689 796 521 (whatsapp ó telegram) \nCualquier duda ponte en contacto con nosotros! \nOs esperamos!!
URL:https://bodegalaolmilla.es/evento/experiencia-con-espectaculo-musica-en-directo-rafi-saxofonista/
LOCATION:BODEGA LA OLMILLA\, OLMILLA\,2\, PEÑAFIEL\, VALLADOLID\, 47300\, España
CATEGORIES:EXPERIENCIAS CON ESPECTÁCULO
ORGANIZER;CN="Silvia Camacho":MAILTO:info@bodegalaolmilla.es
END:VEVENT
END:VCALENDAR