BEGIN:VCALENDAR
VERSION:2.0
PRODID:-//Bodega La Olmilla - ECPv6.15.20//NONSGML v1.0//EN
CALSCALE:GREGORIAN
METHOD:PUBLISH
X-ORIGINAL-URL:https://bodegalaolmilla.es
X-WR-CALDESC:Eventos para Bodega La Olmilla
REFRESH-INTERVAL;VALUE=DURATION:PT1H
X-Robots-Tag:noindex
X-PUBLISHED-TTL:PT1H
BEGIN:VTIMEZONE
TZID:Europe/Madrid
BEGIN:DAYLIGHT
TZOFFSETFROM:+0100
TZOFFSETTO:+0200
TZNAME:CEST
DTSTART:20220327T010000
END:DAYLIGHT
BEGIN:STANDARD
TZOFFSETFROM:+0200
TZOFFSETTO:+0100
TZNAME:CET
DTSTART:20221030T010000
END:STANDARD
BEGIN:DAYLIGHT
TZOFFSETFROM:+0100
TZOFFSETTO:+0200
TZNAME:CEST
DTSTART:20230326T010000
END:DAYLIGHT
BEGIN:STANDARD
TZOFFSETFROM:+0200
TZOFFSETTO:+0100
TZNAME:CET
DTSTART:20231029T010000
END:STANDARD
BEGIN:DAYLIGHT
TZOFFSETFROM:+0100
TZOFFSETTO:+0200
TZNAME:CEST
DTSTART:20240331T010000
END:DAYLIGHT
BEGIN:STANDARD
TZOFFSETFROM:+0200
TZOFFSETTO:+0100
TZNAME:CET
DTSTART:20241027T010000
END:STANDARD
END:VTIMEZONE
BEGIN:VEVENT
DTSTART;TZID=Europe/Madrid:20230603T130000
DTEND;TZID=Europe/Madrid:20230603T140000
DTSTAMP:20260424T023827
CREATED:20230525T180241Z
LAST-MODIFIED:20230525T180241Z
UID:9834-1685797200-1685800800@bodegalaolmilla.es
SUMMARY:VISITA TEATRALIZADA POR EL BARRIO DE BODEGAS DE PEÑAFIEL
DESCRIPTION:Visita teatralizada por el barrio de bodegas de Peñafiel\, descubriendo rincones mágicos y donde nos iremos encontrando con personajes que irán contando chascarrillos\, historias de bodega y el vino de una manera divertida. \nAcabamos degustando un vino con aperitivo en la Bodega Subterránea La Olmilla \n.
URL:https://bodegalaolmilla.es/evento/visita-teatralizada-por-el-barrio-de-bodegas-de-penafiel-4/
LOCATION:BODEGA LA OLMILLA\, OLMILLA\,2\, PEÑAFIEL\, VALLADOLID\, 47300\, España
ORGANIZER;CN="Silvia Camacho":MAILTO:info@bodegalaolmilla.es
END:VEVENT
BEGIN:VEVENT
DTSTART;TZID=Europe/Madrid:20230603T190000
DTEND;TZID=Europe/Madrid:20230603T203000
DTSTAMP:20260424T023827
CREATED:20230525T180642Z
LAST-MODIFIED:20230525T180642Z
UID:9836-1685818800-1685824200@bodegalaolmilla.es
SUMMARY:VISITA CON ESPECTÁCULO. MUSICA TRADICIONAL EN DIERECTO CON ALICORNIO
DESCRIPTION:Experiencia en una bodega tradicional donde hacer un viaje al pasado. Conocer curiosidades de este pueblo ligado a la vinicultura. Secretos en torno a la elaboración y venta del vino\, para volver\, y seguir disfrutando del presente en la Olmilla con el espectáculo de música tradicional con «ALICORNIO». \nPlazas muy limitadas! No te lo pienses y reserva ya! \nreservas@bodegalaolmilla.es ó 689 796 521
URL:https://bodegalaolmilla.es/evento/visita-con-espectaculo-musica-tradicional-en-dierecto-con-alicornio/
LOCATION:BODEGA LA OLMILLA\, OLMILLA\,2\, PEÑAFIEL\, VALLADOLID\, 47300\, España
CATEGORIES:EXPERIENCIAS CON ESPECTÁCULO
ORGANIZER;CN="Silvia Camacho":MAILTO:info@bodegalaolmilla.es
END:VEVENT
END:VCALENDAR