BEGIN:VCALENDAR
VERSION:2.0
PRODID:-//Bodega La Olmilla - ECPv6.15.20//NONSGML v1.0//EN
CALSCALE:GREGORIAN
METHOD:PUBLISH
X-ORIGINAL-URL:https://bodegalaolmilla.es
X-WR-CALDESC:Eventos para Bodega La Olmilla
REFRESH-INTERVAL;VALUE=DURATION:PT1H
X-Robots-Tag:noindex
X-PUBLISHED-TTL:PT1H
BEGIN:VTIMEZONE
TZID:Europe/Madrid
BEGIN:DAYLIGHT
TZOFFSETFROM:+0100
TZOFFSETTO:+0200
TZNAME:CEST
DTSTART:20220327T010000
END:DAYLIGHT
BEGIN:STANDARD
TZOFFSETFROM:+0200
TZOFFSETTO:+0100
TZNAME:CET
DTSTART:20221030T010000
END:STANDARD
BEGIN:DAYLIGHT
TZOFFSETFROM:+0100
TZOFFSETTO:+0200
TZNAME:CEST
DTSTART:20230326T010000
END:DAYLIGHT
BEGIN:STANDARD
TZOFFSETFROM:+0200
TZOFFSETTO:+0100
TZNAME:CET
DTSTART:20231029T010000
END:STANDARD
BEGIN:DAYLIGHT
TZOFFSETFROM:+0100
TZOFFSETTO:+0200
TZNAME:CEST
DTSTART:20240331T010000
END:DAYLIGHT
BEGIN:STANDARD
TZOFFSETFROM:+0200
TZOFFSETTO:+0100
TZNAME:CET
DTSTART:20241027T010000
END:STANDARD
END:VTIMEZONE
BEGIN:VEVENT
DTSTART;TZID=Europe/Madrid:20230805T190000
DTEND;TZID=Europe/Madrid:20230805T203000
DTSTAMP:20260423T234019
CREATED:20230801T072934Z
LAST-MODIFIED:20230801T073108Z
UID:9968-1691262000-1691267400@bodegalaolmilla.es
SUMMARY:EXPERIENCIA CON ESPECTÁCULO
DESCRIPTION:Experiencia en una bodega tradicional donde hacer un viaje al pasado. Conocer curiosidades de este pueblo ligado a la vinicultura. Secretos en torno a la elaboración y venta del vino\, para volver\, y seguir disfrutando del presente en la Olmilla con el espectáculo de teatro «Y dale con el cuento». \n\n\n\nPlazas limitadas! No te lo pienses y reserva ya! \n\n\n\n\n\nreservas@bodegalaolmilla.es ó 689 796 521
URL:https://bodegalaolmilla.es/evento/experiencia-con-espectaculo-6/
END:VEVENT
END:VCALENDAR