BEGIN:VCALENDAR
VERSION:2.0
PRODID:-//Bodega La Olmilla - ECPv6.15.20//NONSGML v1.0//EN
CALSCALE:GREGORIAN
METHOD:PUBLISH
X-ORIGINAL-URL:https://bodegalaolmilla.es
X-WR-CALDESC:Eventos para Bodega La Olmilla
REFRESH-INTERVAL;VALUE=DURATION:PT1H
X-Robots-Tag:noindex
X-PUBLISHED-TTL:PT1H
BEGIN:VTIMEZONE
TZID:Europe/Madrid
BEGIN:DAYLIGHT
TZOFFSETFROM:+0100
TZOFFSETTO:+0200
TZNAME:CEST
DTSTART:20220327T010000
END:DAYLIGHT
BEGIN:STANDARD
TZOFFSETFROM:+0200
TZOFFSETTO:+0100
TZNAME:CET
DTSTART:20221030T010000
END:STANDARD
BEGIN:DAYLIGHT
TZOFFSETFROM:+0100
TZOFFSETTO:+0200
TZNAME:CEST
DTSTART:20230326T010000
END:DAYLIGHT
BEGIN:STANDARD
TZOFFSETFROM:+0200
TZOFFSETTO:+0100
TZNAME:CET
DTSTART:20231029T010000
END:STANDARD
BEGIN:DAYLIGHT
TZOFFSETFROM:+0100
TZOFFSETTO:+0200
TZNAME:CEST
DTSTART:20240331T010000
END:DAYLIGHT
BEGIN:STANDARD
TZOFFSETFROM:+0200
TZOFFSETTO:+0100
TZNAME:CET
DTSTART:20241027T010000
END:STANDARD
END:VTIMEZONE
BEGIN:VEVENT
DTSTART;TZID=Europe/Madrid:20231001T120000
DTEND;TZID=Europe/Madrid:20231001T130000
DTSTAMP:20260423T202825
CREATED:20230922T170559Z
LAST-MODIFIED:20230922T170608Z
UID:10032-1696161600-1696165200@bodegalaolmilla.es
SUMMARY:EXPERIENCIA INMERSIÓN AL ORIGEN
DESCRIPTION:En la experiencia Inmersión al Origen nos centramos en contaros de unamanera muy cercana y sencilla\, todo aquello que sucedía en estas bodegas  \n\n\n\ncuando estaban en pleno rendimiento. Os situamos en el tiempo y el espacio\, para que conozcáis cómo funcionaba el pueblo entonces\, os contamos tradiciones\, costumbres y chascarrillos que nos han ido contando losabuelos del pueblo\, para que nos se pierdan todo regado con un jarrillo de vino y un pincho.  \n\n\n\n\n\n\n\nReserva ahora! en reservas@bodegalaolmilla.es ó 689 796 521
URL:https://bodegalaolmilla.es/evento/experiencia-inmersion-al-origen-19/
LOCATION:BODEGA LA OLMILLA\, CALLE OLMILLA\,2\, PEÑAFIEL\, España
CATEGORIES:EXPERIENCIA "INMERSIÓN AL ORIGEN"
END:VEVENT
BEGIN:VEVENT
DTSTART;TZID=Europe/Madrid:20231006T180000
DTEND;TZID=Europe/Madrid:20231006T193000
DTSTAMP:20260423T202825
CREATED:20230926T102134Z
LAST-MODIFIED:20230926T102939Z
UID:10048-1696615200-1696620600@bodegalaolmilla.es
SUMMARY:VISITA TEATRALIZADA POR EL BARRIO DE BODEGAS
DESCRIPTION:Paseo por el barrio de bodegas donde nos vamos encontrando personajes que nos van contando esas historias de bodegas y chascarrillos de abuelos en torno al vino y las bodegas subterráneas de Peñafiel
URL:https://bodegalaolmilla.es/evento/visita-teatralizada-por-el-barrio-de-bodegas-6/
LOCATION:BODEGA LA OLMILLA\, CALLE OLMILLA\,2\, PEÑAFIEL\, España
END:VEVENT
BEGIN:VEVENT
DTSTART;TZID=Europe/Madrid:20231007T130000
DTEND;TZID=Europe/Madrid:20231007T143000
DTSTAMP:20260423T202825
CREATED:20231005T105725Z
LAST-MODIFIED:20231005T110330Z
UID:10075-1696683600-1696689000@bodegalaolmilla.es
SUMMARY:EXPERIENCIA CON ESPECTÁCULO - MERY JEY
DESCRIPTION:Experiencia en una bodega tradicional donde hacer un viaje al pasado. Conocer curiosidades de este pueblo ligado a la vinicultura. Secretos en torno a la elaboración y venta del vino\, para volver\, y seguir disfrutando del presente en la Olmilla con un espectáculo de música en directo con Mery Jey. Canta canciones jazz\, funky\, soul \n\n\n\nPlazas muy limitadas! No te lo pienses y reserva ya! \n\n\n\nreservas@bodegalaolmilla.es desde el 689 796 521 \n\n\n\nCualquier duda ponte en contacto con nosotros! \n\n\n\n¡¡Te esperamos!!
URL:https://bodegalaolmilla.es/evento/experiencia-con-espectaculo-mery-jey/
LOCATION:Bodega la Olmilla\, CALLE OLMILLA\,2\, PEÑAFIEL\, España
END:VEVENT
BEGIN:VEVENT
DTSTART;TZID=Europe/Madrid:20231008T120000
DTEND;TZID=Europe/Madrid:20231008T130000
DTSTAMP:20260423T202825
CREATED:20230816T151412Z
LAST-MODIFIED:20230816T151426Z
UID:9988-1696766400-1696770000@bodegalaolmilla.es
SUMMARY:VISITA TEATRALIZADA POR EL BARRIO DE BODEGAS
DESCRIPTION:Visita teatralizada por el barrio de bodegas de Peñafiel\, descubriendo rincones mágicos y donde nos iremos encontrando con personajes que irán contando chascarrillos\, historias de bodega y el vino de una manera divertida. \n\n\n\nAcabamos degustando un vino con aperitivo en la Bodega Subterránea La Olmilla. \n\n\n\n.Añadir al calendario
URL:https://bodegalaolmilla.es/evento/visita-teatralizada-por-el-barrio-de-bodegas-4/
CATEGORIES:VISITA TEATRALIZADA
END:VEVENT
BEGIN:VEVENT
DTSTART;TZID=Europe/Madrid:20231009T120000
DTEND;TZID=Europe/Madrid:20231009T130000
DTSTAMP:20260423T202825
CREATED:20231005T111429Z
LAST-MODIFIED:20231005T114003Z
UID:10085-1696852800-1696856400@bodegalaolmilla.es
SUMMARY:EXPERIENCIA INMERSIÓN AL ORIGEN
DESCRIPTION:En la experiencia Inmersión al Origen nos centramos en contaros de unamanera muy cercana y sencilla\, todo aquello que sucedía en estas bodegas  \n\n\n\ncuando estaban en pleno rendimiento. Os situamos en el tiempo y el espacio\, para que conozcáis cómo funcionaba el pueblo entonces\, os contamos tradiciones\, costumbres y chascarrillos que nos han ido contando losabuelos del pueblo\, para que nos se pierdan todo regado con un jarrillo de vino y un pincho.  \n\n\n\n\n\n\n\nReserva ahora! en reservas@bodegalaolmilla.es ó 689 796 521
URL:https://bodegalaolmilla.es/evento/experiencia-inmersion-al-origen-20/
LOCATION:Bodega La Olmilla\, CALLE OLMILLA\,2\, PEÑAFIEL\, España
ORGANIZER;CN="SILVIA CAMACHO":MAILTO:reservas@bodegalaolmilla.es
END:VEVENT
BEGIN:VEVENT
DTSTART;TZID=Europe/Madrid:20231012T180000
DTEND;TZID=Europe/Madrid:20231012T193000
DTSTAMP:20260423T202826
CREATED:20231005T115339Z
LAST-MODIFIED:20231005T115347Z
UID:10095-1697133600-1697139000@bodegalaolmilla.es
SUMMARY:VISITA TEATRALIZADA POR EL BARRIO DE BODEGAS
DESCRIPTION:Paseo por el barrio de bodegas donde nos vamos encontrando personajes que nos van contando esas historias de bodegas y chascarrillos de abuelos en torno al vino y las bodegas subterráneas de Peñafiel de mano de la compañía Popy Vegas. Acabamos la visita en la Olmilla haciendo una degustación de vino en jarrillo de barro y tomando un pincho de productos locales.
URL:https://bodegalaolmilla.es/evento/visita-teatralizada-por-el-barrio-de-bodegas-7/
LOCATION:Bodega la Olmilla\, CALLE OLMILLA\,2\, PEÑAFIEL\, España
END:VEVENT
BEGIN:VEVENT
DTSTART;TZID=Europe/Madrid:20231013T120000
DTEND;TZID=Europe/Madrid:20231013T133000
DTSTAMP:20260423T202826
CREATED:20231005T110730Z
LAST-MODIFIED:20231005T110737Z
UID:10080-1697198400-1697203800@bodegalaolmilla.es
SUMMARY:EXPERIENCIA CON ESPECTÁCULO - MAGO MERLIN SIGLO 21
DESCRIPTION:
URL:https://bodegalaolmilla.es/evento/experiencia-con-espectaculo-mago-merlin-siglo-21-4/
LOCATION:BODEGA LA OLMILLA\, CALLE OLMILLA\,2\, PEÑAFIEL\, España
END:VEVENT
BEGIN:VEVENT
DTSTART;TZID=Europe/Madrid:20231013T180000
DTEND;TZID=Europe/Madrid:20231013T190000
DTSTAMP:20260423T202826
CREATED:20231005T114547Z
LAST-MODIFIED:20231005T114551Z
UID:10091-1697220000-1697223600@bodegalaolmilla.es
SUMMARY:EXPERIENCIA INMERSIÓN AL ORIGEN
DESCRIPTION:En la experiencia Inmersión al Origen nos centramos en contaros de unamanera muy cercana y sencilla\, todo aquello que sucedía en estas bodegas  \n\n\n\ncuando estaban en pleno rendimiento. Os situamos en el tiempo y el espacio\, para que conozcáis cómo funcionaba el pueblo entonces\, os contamos tradiciones\, costumbres y chascarrillos que nos han ido contando losabuelos del pueblo\, para que nos se pierdan todo regado con un jarrillo de vino y un pincho.  \n\n\n\n\n\n\n\nReserva ahora! en reservas@bodegalaolmilla.es ó 689 796 521
URL:https://bodegalaolmilla.es/evento/experiencia-inmersion-al-origen-21/
LOCATION:BODEGA LA OLMILLA\, CALLE OLMILLA\,2\, PEÑAFIEL\, España
END:VEVENT
BEGIN:VEVENT
DTSTART;TZID=Europe/Madrid:20231014T120000
DTEND;TZID=Europe/Madrid:20231014T130000
DTSTAMP:20260423T202826
CREATED:20231005T115843Z
LAST-MODIFIED:20231005T115851Z
UID:10099-1697284800-1697288400@bodegalaolmilla.es
SUMMARY:EXPERIENCIA INMERSIÓN AL ORIGEN
DESCRIPTION:En la experiencia Inmersión al Origen nos centramos en contaros de unamanera muy cercana y sencilla\, todo aquello que sucedía en estas bodegas  \n\n\n\ncuando estaban en pleno rendimiento. Os situamos en el tiempo y el espacio\, para que conozcáis cómo funcionaba el pueblo entonces\, os contamos tradiciones\, costumbres y chascarrillos que nos han ido contando losabuelos del pueblo\, para que nos se pierdan todo regado con un jarrillo de vino y un pincho.  \n\n\n\n\n\n\n\nReserva ahora! en reservas@bodegalaolmilla.es ó 689 796 521
URL:https://bodegalaolmilla.es/evento/experiencia-inmersion-al-origen-22/
LOCATION:BODEGA LA OLMILLA\, CALLE OLMILLA\,2\, PEÑAFIEL\, España
END:VEVENT
BEGIN:VEVENT
DTSTART;TZID=Europe/Madrid:20231021T110000
DTEND;TZID=Europe/Madrid:20231021T120000
DTSTAMP:20260423T202826
CREATED:20231005T120530Z
LAST-MODIFIED:20231005T121145Z
UID:10104-1697886000-1697889600@bodegalaolmilla.es
SUMMARY:EXPERIENCIA INMERSIÓN AL ORIGEN
DESCRIPTION:En la experiencia Inmersión al Origen nos centramos en contaros de unamanera muy cercana y sencilla\, todo aquello que sucedía en estas bodegas  \n\n\n\ncuando estaban en pleno rendimiento. Os situamos en el tiempo y el espacio\, para que conozcáis cómo funcionaba el pueblo entonces\, os contamos tradiciones\, costumbres y chascarrillos que nos han ido contando losabuelos del pueblo\, para que nos se pierdan todo regado con un jarrillo de vino y un pincho.  \n\n\n\n\n\n\n\nReserva ahora! en reservas@bodegalaolmilla.es ó 689 796 521
URL:https://bodegalaolmilla.es/evento/experiencia-inmersion-al-origen-23/
LOCATION:BODEGA LA OLMILLA\, CALLE OLMILLA\,2\, PEÑAFIEL\, España
END:VEVENT
BEGIN:VEVENT
DTSTART;TZID=Europe/Madrid:20231028T120000
DTEND;TZID=Europe/Madrid:20231028T130000
DTSTAMP:20260423T202826
CREATED:20231026T143322Z
LAST-MODIFIED:20231026T143325Z
UID:10183-1698494400-1698498000@bodegalaolmilla.es
SUMMARY:EXPERIENCIA INMERSIÓN AL ORIGEN
DESCRIPTION:En la experiencia Inmersión al Origen nos centramos en contaros de unamanera muy cercana y sencilla\, todo aquello que sucedía en estas bodegas  \n\n\n\ncuando estaban en pleno rendimiento. Os situamos en el tiempo y el espacio\, para que conozcáis cómo funcionaba el pueblo entonces\, os contamos tradiciones\, costumbres y chascarrillos que nos han ido contando losabuelos del pueblo\, para que nos se pierdan todo regado con un jarrillo de vino y un pincho.  \n\n\n\n\n\n\n\nReserva ahora! en reservas@bodegalaolmilla.es ó 689 796 521
URL:https://bodegalaolmilla.es/evento/experiencia-inmersion-al-origen-24/
LOCATION:BODEGA  LA OLMILLA\, CALLE OLMILLA\,2\, PEÑAFIEL\, España
END:VEVENT
BEGIN:VEVENT
DTSTART;TZID=Europe/Madrid:20231028T190000
DTEND;TZID=Europe/Madrid:20231028T203000
DTSTAMP:20260423T202826
CREATED:20231026T144126Z
LAST-MODIFIED:20231026T144133Z
UID:10187-1698519600-1698525000@bodegalaolmilla.es
SUMMARY:EXPERIENCIA CON ESPECTÁCULO -MAGO MERLIN S.21
DESCRIPTION:En esta experiencia les contamos todo lo que tiene que ver con las bodegas subterráneas y el vino desde cuando estaban en funcionamiento y cómo funcionaba el pueblo entonces hasta nuestros días. Todo regado con anécdotas y chascarrillos que los propios abuelos nos cuentan\, con una degustación en jarrillo de vino local y un aperitivo también de productos locales. Acabamos con un espectáculo en la cueva de magia con el mago Merlín Siglo 21
URL:https://bodegalaolmilla.es/evento/experiencia-con-espectaculo-mago-merlin-s-21/
LOCATION:BODEGA LA OLMILLA\, CALLE OLMILLA\,2\, PEÑAFIEL\, España
END:VEVENT
END:VCALENDAR