BEGIN:VCALENDAR
VERSION:2.0
PRODID:-//Bodega La Olmilla - ECPv6.15.20//NONSGML v1.0//EN
CALSCALE:GREGORIAN
METHOD:PUBLISH
X-ORIGINAL-URL:https://bodegalaolmilla.es
X-WR-CALDESC:Eventos para Bodega La Olmilla
REFRESH-INTERVAL;VALUE=DURATION:PT1H
X-Robots-Tag:noindex
X-PUBLISHED-TTL:PT1H
BEGIN:VTIMEZONE
TZID:Europe/Madrid
BEGIN:DAYLIGHT
TZOFFSETFROM:+0100
TZOFFSETTO:+0200
TZNAME:CEST
DTSTART:20230326T010000
END:DAYLIGHT
BEGIN:STANDARD
TZOFFSETFROM:+0200
TZOFFSETTO:+0100
TZNAME:CET
DTSTART:20231029T010000
END:STANDARD
BEGIN:DAYLIGHT
TZOFFSETFROM:+0100
TZOFFSETTO:+0200
TZNAME:CEST
DTSTART:20240331T010000
END:DAYLIGHT
BEGIN:STANDARD
TZOFFSETFROM:+0200
TZOFFSETTO:+0100
TZNAME:CET
DTSTART:20241027T010000
END:STANDARD
BEGIN:DAYLIGHT
TZOFFSETFROM:+0100
TZOFFSETTO:+0200
TZNAME:CEST
DTSTART:20250330T010000
END:DAYLIGHT
BEGIN:STANDARD
TZOFFSETFROM:+0200
TZOFFSETTO:+0100
TZNAME:CET
DTSTART:20251026T010000
END:STANDARD
END:VTIMEZONE
BEGIN:VEVENT
DTSTART;TZID=Europe/Madrid:20240202T190000
DTEND;TZID=Europe/Madrid:20240202T210000
DTSTAMP:20260423T135657
CREATED:20240130T115015Z
LAST-MODIFIED:20240130T115017Z
UID:10445-1706900400-1706907600@bodegalaolmilla.es
SUMMARY:TOUR CASCO HISTORICO+BODEGA LA OLMILLA
DESCRIPTION:¡Embárcate en una experiencia única en Peñafiel! Descubre la historia en una visita guiada por el casco histórico y sumérgete en las raíces de La Olmilla\, una bodega subterránea llena de secretos y tradición vitivinícola. ¡Explora el Peñafiel oculto\, brinda con un jarrillo de vino y disfruta de chascarrillos de historia popular junto a un delicioso pincho de productos locales! ¡No te lo pierdas! 🍇🏰🍷
URL:https://bodegalaolmilla.es/evento/tour-casco-historicobodega-la-olmilla/
END:VEVENT
BEGIN:VEVENT
DTSTART;TZID=Europe/Madrid:20240202T200000
DTEND;TZID=Europe/Madrid:20240202T210000
DTSTAMP:20260423T135657
CREATED:20240118T105420Z
LAST-MODIFIED:20240118T105802Z
UID:10385-1706904000-1706907600@bodegalaolmilla.es
SUMMARY:EXPERIENCIA INMERSIÓN AL ORIGEN
DESCRIPTION:¡Descubre los secretos enterrados en nuestras bodegas subterráneas en esta experiencia única! Desde su funcionamiento ancestral hasta la actualidad\, te sumergirás en la historia de los artesanos\, la vida en el pueblo y la transformación de estas joyas arquitectónicas. \n\n\n\n🍇 Disfruta de anécdotas y chascarrillos transmitidos de generación en generación por nuestros abuelos mientras degustas el exquisito sabor de nuestro vino local en auténticos jarrillos. Deléitate también con un aperitivo que celebra los sabores locales. \n\n\n\n¡Embárcate en un viaje que combina la tradición con la modernidad! Reserva tu experiencia ahora y sumérgete en la riqueza cultural y gastronómica que nuestras bodegas subterráneas tienen para ofrecer. ¡Te esperamos para vivir momentos inolvidables! 🍷🌟
URL:https://bodegalaolmilla.es/evento/exoeriencia-inmersion-al-origen/
END:VEVENT
BEGIN:VEVENT
DTSTART;TZID=Europe/Madrid:20240203T190000
DTEND;TZID=Europe/Madrid:20240203T203000
DTSTAMP:20260423T135657
CREATED:20240118T110614Z
LAST-MODIFIED:20240118T110619Z
UID:10389-1706986800-1706992200@bodegalaolmilla.es
SUMMARY:EXPERIENCIA CON ESPECTÁCULO
DESCRIPTION:En esta experiencia les contamos todo lo que tiene que ver con las bodegas subterráneas y el vino desde cuando estaban en funcionamiento a nuestros días. Hablamos de los artesanos\, de cómo funcionaba el pueblo y sus gentes en torno a las bodegas además de qué ocurre hoy con ellas ya que actualmente no se hace vino en ellas. Todo regado con anécdotas y chascarrillos que los propios abuelos nos cuentan\, con degustación en jarrillo de vino local y un aperitivo también de productos locales. Acabaremos la visita con un espectáculo con MERY JEY\, con música soul \,funky y de todos los tiempos.
URL:https://bodegalaolmilla.es/evento/experiencia-con-espectaculo-9/
END:VEVENT
BEGIN:VEVENT
DTSTART;TZID=Europe/Madrid:20240204T120000
DTEND;TZID=Europe/Madrid:20240204T130000
DTSTAMP:20260423T135657
CREATED:20240130T112609Z
LAST-MODIFIED:20240130T112612Z
UID:10435-1707048000-1707051600@bodegalaolmilla.es
SUMMARY:EXPERIENCIA INMERSIÓN AL ORIGEN
DESCRIPTION:¡Descubre los secretos enterrados en nuestras bodegas subterráneas en esta experiencia única! Desde su funcionamiento ancestral hasta la actualidad\, te sumergirás en la historia de los artesanos\, la vida en el pueblo y la transformación de estas joyas arquitectónicas. \n\n\n\n🍇 Disfruta de anécdotas y chascarrillos transmitidos de generación en generación por nuestros abuelos mientras degustas el exquisito sabor de nuestro vino local en auténticos jarrillos. Deléitate también con un aperitivo que celebra los sabores locales. \n\n\n\n¡Embárcate en un viaje que combina la tradición con la modernidad! Reserva tu experiencia ahora y sumérgete en la riqueza cultural y gastronómica que nuestras bodegas subterráneas tienen para ofrecer. ¡Te esperamos para vivir momentos inolvidables! 🍷🌟
URL:https://bodegalaolmilla.es/evento/experiencia-inmersion-al-origen-31/
LOCATION:BODEGA LA OLMILLA\, OLMILLA\,2\, PEÑAFIEL\, VALLADOLID\, 47300\, España
END:VEVENT
BEGIN:VEVENT
DTSTART;TZID=Europe/Madrid:20240204T170000
DTEND;TZID=Europe/Madrid:20240204T180000
DTSTAMP:20260423T135657
CREATED:20240130T112845Z
LAST-MODIFIED:20240130T112847Z
UID:10438-1707066000-1707069600@bodegalaolmilla.es
SUMMARY:EXPERIENCIA INMERSIÓN AL ORIGEN
DESCRIPTION:¡Descubre los secretos enterrados en nuestras bodegas subterráneas en esta experiencia única! Desde su funcionamiento ancestral hasta la actualidad\, te sumergirás en la historia de los artesanos\, la vida en el pueblo y la transformación de estas joyas arquitectónicas. \n\n\n\n🍇 Disfruta de anécdotas y chascarrillos transmitidos de generación en generación por nuestros abuelos mientras degustas el exquisito sabor de nuestro vino local en auténticos jarrillos. Deléitate también con un aperitivo que celebra los sabores locales. \n\n\n\n¡Embárcate en un viaje que combina la tradición con la modernidad! Reserva tu experiencia ahora y sumérgete en la riqueza cultural y gastronómica que nuestras bodegas subterráneas tienen para ofrecer. ¡Te esperamos para vivir momentos inolvidables! 🍷🌟
URL:https://bodegalaolmilla.es/evento/experiencia-inmersion-al-origen-32/
END:VEVENT
BEGIN:VEVENT
DTSTART;TZID=Europe/Madrid:20240216T200000
DTEND;TZID=Europe/Madrid:20240216T210000
DTSTAMP:20260423T135657
CREATED:20240215T130136Z
LAST-MODIFIED:20240215T130138Z
UID:10469-1708113600-1708117200@bodegalaolmilla.es
SUMMARY:EXPERIENCIA INMERSIÓN AL ORIGEN
DESCRIPTION:¡Descubre los secretos enterrados en nuestras bodegas subterráneas en esta experiencia única! Desde su funcionamiento ancestral hasta la actualidad\, te sumergirás en la historia de los artesanos\, la vida en el pueblo y la transformación de estas joyas arquitectónicas. \n\n\n\n🍇 Disfruta de anécdotas y chascarrillos transmitidos de generación en generación por nuestros abuelos mientras degustas el exquisito sabor de nuestro vino local en auténticos jarrillos. Deléitate también con un aperitivo que celebra los sabores locales. \n\n\n\n¡Embárcate en un viaje que combina la tradición con la modernidad! Reserva tu experiencia ahora y sumérgete en la riqueza cultural y gastronómica que nuestras bodegas subterráneas tienen para ofrecer. ¡Te esperamos para vivir momentos inolvidables! 🍷🌟
URL:https://bodegalaolmilla.es/evento/experiencia-inmersion-al-origen-33/
END:VEVENT
BEGIN:VEVENT
DTSTART;TZID=Europe/Madrid:20240217T120000
DTEND;TZID=Europe/Madrid:20240217T130000
DTSTAMP:20260423T135657
CREATED:20240215T130514Z
LAST-MODIFIED:20240215T130517Z
UID:10472-1708171200-1708174800@bodegalaolmilla.es
SUMMARY:EXPERIENCIA INMERSIÓN AL ORIGEN
DESCRIPTION:¡Descubre los secretos enterrados en nuestras bodegas subterráneas en esta experiencia única! Desde su funcionamiento ancestral hasta la actualidad\, te sumergirás en la historia de los artesanos\, la vida en el pueblo y la transformación de estas joyas arquitectónicas. \n\n\n\n🍇 Disfruta de anécdotas y chascarrillos transmitidos de generación en generación por nuestros abuelos mientras degustas el exquisito sabor de nuestro vino local en auténticos jarrillos. Deléitate también con un aperitivo que celebra los sabores locales. \n\n\n\n¡Embárcate en un viaje que combina la tradición con la modernidad! Reserva tu experiencia ahora y sumérgete en la riqueza cultural y gastronómica que nuestras bodegas subterráneas tienen para ofrecer. ¡Te esperamos para vivir momentos inolvidables! 🍷🌟
URL:https://bodegalaolmilla.es/evento/experiencia-inmersion-al-origen-34/
END:VEVENT
BEGIN:VEVENT
DTSTART;TZID=Europe/Madrid:20240217T190000
DTEND;TZID=Europe/Madrid:20240217T203000
DTSTAMP:20260423T135657
CREATED:20240215T125540Z
LAST-MODIFIED:20240215T125542Z
UID:10466-1708196400-1708201800@bodegalaolmilla.es
SUMMARY:EXPERIENCIA CON ESPECTÁCULO
DESCRIPTION:¡Descubre los secretos enterrados en nuestras bodegas subterráneas en esta experiencia única! Desde su funcionamiento ancestral hasta la actualidad\, te sumergirás en la historia de los artesanos\, la vida en el pueblo y la transformación de estas joyas arquitectónicas. \n\n\n\n🍇 Disfruta de anécdotas y chascarrillos transmitidos de generación en generación por nuestros abuelos mientras degustas el exquisito sabor de nuestro vino local en auténticos jarrillos. Deléitate también con un aperitivo que celebra los sabores locales. Acabamos la visita con un espectáculo en la cueva con el saxofonista RAFI\, musica jazz y de todos los tiempos. \n\n\n\n¡Embárcate en un viaje que combina la tradición con la modernidad! Reserva tu experiencia ahora y sumérgete en la riqueza cultural y gastronómica que nuestras bodegas subterráneas tienen para ofrecer. ¡Te esperamos para vivir momentos inolvidables! 🍷🌟
URL:https://bodegalaolmilla.es/evento/experiencia-con-espectaculo-13/
END:VEVENT
BEGIN:VEVENT
DTSTART;TZID=Europe/Madrid:20240224T120000
DTEND;TZID=Europe/Madrid:20240224T140000
DTSTAMP:20260423T135657
CREATED:20240130T113538Z
LAST-MODIFIED:20240130T113822Z
UID:10442-1708776000-1708783200@bodegalaolmilla.es
SUMMARY:CATA NO TODO EN RIBERA ES RIBERA
DESCRIPTION:Descubre vinos de Castilla y León de viticultores menos conocidos y viaja por ella a través de sus sabores. Acompañados de un aperitivo de ibéricos.
URL:https://bodegalaolmilla.es/evento/cata-no-todo-en-ribera-es-ribera/
END:VEVENT
END:VCALENDAR