BEGIN:VCALENDAR
VERSION:2.0
PRODID:-//Bodega La Olmilla - ECPv6.15.20//NONSGML v1.0//EN
CALSCALE:GREGORIAN
METHOD:PUBLISH
X-WR-CALNAME:Bodega La Olmilla
X-ORIGINAL-URL:https://bodegalaolmilla.es
X-WR-CALDESC:Eventos para Bodega La Olmilla
REFRESH-INTERVAL;VALUE=DURATION:PT1H
X-Robots-Tag:noindex
X-PUBLISHED-TTL:PT1H
BEGIN:VTIMEZONE
TZID:Europe/Madrid
BEGIN:DAYLIGHT
TZOFFSETFROM:+0100
TZOFFSETTO:+0200
TZNAME:CEST
DTSTART:20230326T010000
END:DAYLIGHT
BEGIN:STANDARD
TZOFFSETFROM:+0200
TZOFFSETTO:+0100
TZNAME:CET
DTSTART:20231029T010000
END:STANDARD
BEGIN:DAYLIGHT
TZOFFSETFROM:+0100
TZOFFSETTO:+0200
TZNAME:CEST
DTSTART:20240331T010000
END:DAYLIGHT
BEGIN:STANDARD
TZOFFSETFROM:+0200
TZOFFSETTO:+0100
TZNAME:CET
DTSTART:20241027T010000
END:STANDARD
BEGIN:DAYLIGHT
TZOFFSETFROM:+0100
TZOFFSETTO:+0200
TZNAME:CEST
DTSTART:20250330T010000
END:DAYLIGHT
BEGIN:STANDARD
TZOFFSETFROM:+0200
TZOFFSETTO:+0100
TZNAME:CET
DTSTART:20251026T010000
END:STANDARD
END:VTIMEZONE
BEGIN:VEVENT
DTSTART;TZID=Europe/Madrid:20240601T190000
DTEND;TZID=Europe/Madrid:20240601T203000
DTSTAMP:20260423T074211
CREATED:20240508T114140Z
LAST-MODIFIED:20240508T114142Z
UID:10664-1717268400-1717273800@bodegalaolmilla.es
SUMMARY:EXPERIENCIA CON ESPECTÁCULO-MERY JEY
DESCRIPTION:🌟 ¡Descubre el encanto de La Olmilla y déjate llevar por la magia del vino! 🍇✨ \n\n\n\nEn La Olmilla\, te invitamos a una experiencia única que combina la historia de las bodegas subterráneas con la pasión de la música en vivo. 🎵🍷 Únete a nuestra jornada de puertas abiertas y disfruta de momentos especiales con amigos\, risas\, y por supuesto\, ¡excelente vino! \n\n\n\n👉 Reserva tu lugar ahora y sé parte de esta experiencia inolvidable. Sumérgete en la tierra de Peñafiel\, degusta vinos locales en jarrillo y déjate llevar por la música de Soul de Mery Jey. ¡Te esperamos para compartir risas\, brindis y momentos inolvidables! \n\n\n\nNo te pierdas esta oportunidad única. ¡Haz tu reserva ahora y forma parte de la magia en La Olmilla! 🌟🍷
URL:https://bodegalaolmilla.es/evento/experiencia-con-espectaculo-mery-jey-2/
END:VEVENT
BEGIN:VEVENT
DTSTART;TZID=Europe/Madrid:20240608T120000
DTEND;TZID=Europe/Madrid:20240608T133000
DTSTAMP:20260423T074211
CREATED:20240409T132424Z
LAST-MODIFIED:20240508T113606Z
UID:10590-1717848000-1717853400@bodegalaolmilla.es
SUMMARY:EXPERIENCIA CON ESPECTÁCULO - RAFI SAXO
DESCRIPTION:🌟 ¡Descubre el encanto de La Olmilla y déjate llevar por la magia del vino! 🍇✨ \n\n\n\nEn La Olmilla\, te invitamos a una experiencia única que combina la historia de las bodegas subterráneas con la pasión de la música en vivo. 🎵🍷 Únete a nuestra jornada de puertas abiertas y disfruta de momentos especiales con amigos\, risas\, y por supuesto\, ¡excelente vino! \n\n\n\n👉 Reserva tu lugar ahora y sé parte de esta experiencia inolvidable. Sumérgete en la tierra de Peñafiel\, degusta vinos locales en jarrillo y déjate llevar por la música de Rafi y su saxo\, jazz y de todos los tiempos. ¡Te esperamos para compartir risas\, brindis y momentos inolvidables! \n\n\n\nNo te pierdas esta oportunidad única. ¡Haz tu reserva ahora y forma parte de la magia en La Olmilla! 🌟🍷
URL:https://bodegalaolmilla.es/evento/experiencia-con-espectaculo-rafi-saxo/
END:VEVENT
BEGIN:VEVENT
DTSTART;TZID=Europe/Madrid:20240608T190000
DTEND;TZID=Europe/Madrid:20240608T200000
DTSTAMP:20260423T074211
CREATED:20240409T123518Z
LAST-MODIFIED:20240508T111547Z
UID:10585-1717873200-1717876800@bodegalaolmilla.es
SUMMARY:VISITA TEATRALIZADA
DESCRIPTION:¡Descubre los secretos mejor guardados del barrio de bodegas de Peñafiel en nuestra próxima VISITA TEATRALIZADA! Explora los rincones más pintorescos del barrio de bodegas mientras personajes locales comparten fascinantes historias sobre las bodegas subterráneas y el vino de antaño. Sumérgete en el encanto del pasado y déjate cautivar por las tradiciones transmitidas de generación en generación. Finalizaremos nuestro recorrido en la bodega subterránea de La Olmilla\, donde podrás disfrutar de un delicioso jarrillo de vino acompañado de auténticos sabores locales. ¡Reserva ahora y únete a esta experiencia única en La Olmilla!
URL:https://bodegalaolmilla.es/evento/visita-teatralzada/
END:VEVENT
BEGIN:VEVENT
DTSTART;TZID=Europe/Madrid:20240611T193000
DTEND;TZID=Europe/Madrid:20240611T210000
DTSTAMP:20260423T074211
CREATED:20240126T070643Z
LAST-MODIFIED:20240126T070647Z
UID:10429-1718134200-1718139600@bodegalaolmilla.es
SUMMARY:EXPERIENCIA CON ESPECTÁCULO
DESCRIPTION:¡Descubre los secretos enterrados en nuestras bodegas subterráneas en esta experiencia única! Desde su funcionamiento ancestral hasta la actualidad\, te sumergirás en la historia de los artesanos\, la vida en el pueblo y la transformación de estas joyas arquitectónicas. \n\n\n\n🍇 Disfruta de anécdotas y chascarrillos transmitidos de generación en generación por nuestros abuelos mientras degustas el exquisito sabor de nuestro vino local en auténticos jarrillos. Deléitate también con un aperitivo que celebra los sabores locales. Acabamos la visita con un espectáculo en la cueva. \n\n\n\n¡Embárcate en un viaje que combina la tradición con la modernidad! Reserva tu experiencia ahora y sumérgete en la riqueza cultural y gastronómica que nuestras bodegas subterráneas tienen para ofrecer. ¡Te esperamos para vivir momentos inolvidables! 🍷🌟
URL:https://bodegalaolmilla.es/evento/experiencia-con-espectaculo-11/
END:VEVENT
END:VCALENDAR