BEGIN:VCALENDAR
VERSION:2.0
PRODID:-//Bodega La Olmilla - ECPv6.15.20//NONSGML v1.0//EN
CALSCALE:GREGORIAN
METHOD:PUBLISH
X-ORIGINAL-URL:https://bodegalaolmilla.es
X-WR-CALDESC:Eventos para Bodega La Olmilla
REFRESH-INTERVAL;VALUE=DURATION:PT1H
X-Robots-Tag:noindex
X-PUBLISHED-TTL:PT1H
BEGIN:VTIMEZONE
TZID:Europe/Madrid
BEGIN:DAYLIGHT
TZOFFSETFROM:+0100
TZOFFSETTO:+0200
TZNAME:CEST
DTSTART:20230326T010000
END:DAYLIGHT
BEGIN:STANDARD
TZOFFSETFROM:+0200
TZOFFSETTO:+0100
TZNAME:CET
DTSTART:20231029T010000
END:STANDARD
BEGIN:DAYLIGHT
TZOFFSETFROM:+0100
TZOFFSETTO:+0200
TZNAME:CEST
DTSTART:20240331T010000
END:DAYLIGHT
BEGIN:STANDARD
TZOFFSETFROM:+0200
TZOFFSETTO:+0100
TZNAME:CET
DTSTART:20241027T010000
END:STANDARD
BEGIN:DAYLIGHT
TZOFFSETFROM:+0100
TZOFFSETTO:+0200
TZNAME:CEST
DTSTART:20250330T010000
END:DAYLIGHT
BEGIN:STANDARD
TZOFFSETFROM:+0200
TZOFFSETTO:+0100
TZNAME:CET
DTSTART:20251026T010000
END:STANDARD
END:VTIMEZONE
BEGIN:VEVENT
DTSTART;TZID=Europe/Madrid:20240705T203000
DTEND;TZID=Europe/Madrid:20240705T233000
DTSTAMP:20260423T060608
CREATED:20240429T145732Z
LAST-MODIFIED:20240429T145734Z
UID:10614-1720211400-1720222200@bodegalaolmilla.es
SUMMARY:CATA DE ESTRELLAS
DESCRIPTION:¡Descubre una experiencia celestial en nuestra «Cata de Estrellas»! 🌟 Disfruta de una mágica puesta de sol en un lugar especial en la Ribera del Duero y déjate llevar por una cata DIS-TINTA de 4 vinos de la Ribera. Acompañaremos esta velada con una deliciosa cena de picoteo. Pero eso no es todo\, una vez que caiga la noche\, te invitamos a explorar el cosmos con expertos astrónomos\, avistando estrellas\, astros y planetas. ¡Una noche única te espera en La Olmilla! 🍷🌌 #CataDeEstrellas #ExperienciaCelestial #NocheMágica
URL:https://bodegalaolmilla.es/evento/cata-de-estrellas-6/
END:VEVENT
END:VCALENDAR