BEGIN:VCALENDAR
VERSION:2.0
PRODID:-//Bodega La Olmilla - ECPv6.15.20//NONSGML v1.0//EN
CALSCALE:GREGORIAN
METHOD:PUBLISH
X-WR-CALNAME:Bodega La Olmilla
X-ORIGINAL-URL:https://bodegalaolmilla.es
X-WR-CALDESC:Eventos para Bodega La Olmilla
REFRESH-INTERVAL;VALUE=DURATION:PT1H
X-Robots-Tag:noindex
X-PUBLISHED-TTL:PT1H
BEGIN:VTIMEZONE
TZID:Europe/Madrid
BEGIN:DAYLIGHT
TZOFFSETFROM:+0100
TZOFFSETTO:+0200
TZNAME:CEST
DTSTART:20240331T010000
END:DAYLIGHT
BEGIN:STANDARD
TZOFFSETFROM:+0200
TZOFFSETTO:+0100
TZNAME:CET
DTSTART:20241027T010000
END:STANDARD
BEGIN:DAYLIGHT
TZOFFSETFROM:+0100
TZOFFSETTO:+0200
TZNAME:CEST
DTSTART:20250330T010000
END:DAYLIGHT
BEGIN:STANDARD
TZOFFSETFROM:+0200
TZOFFSETTO:+0100
TZNAME:CET
DTSTART:20251026T010000
END:STANDARD
BEGIN:DAYLIGHT
TZOFFSETFROM:+0100
TZOFFSETTO:+0200
TZNAME:CEST
DTSTART:20260329T010000
END:DAYLIGHT
BEGIN:STANDARD
TZOFFSETFROM:+0200
TZOFFSETTO:+0100
TZNAME:CET
DTSTART:20261025T010000
END:STANDARD
END:VTIMEZONE
BEGIN:VEVENT
DTSTART;TZID=Europe/Madrid:20250801T200000
DTEND;TZID=Europe/Madrid:20250801T230000
DTSTAMP:20260421T043551
CREATED:20250516T090027Z
LAST-MODIFIED:20250703T162054Z
UID:11379-1754078400-1754089200@bodegalaolmilla.es
SUMMARY:CATA DE ESTRELLAS-CURIEL DE DUERO
DESCRIPTION:Vive una noche mágica en la terraza del Castillo Hospedería Real\, con vistas privilegiadas a la Ribera del Duero. \n\n\n\n🌅 Comenzamos con una copa de vino al atardecer\, brindando mientras el sol se esconde tras los viñedos. \n\n\n\n🍷 A continuación\, disfruta de una cata guiada de vinos singulares de las bodegas de Curiel\, acompañada de una deliciosa cena tipo picoteo elaborada por el restaurante del castillo. \n\n\n\n🌌 Y cuando la noche caiga por completo… levantamos la vista al cielo. De la mano de astrónomos expertos\, descubriremos estrellas\, constelaciones y secretos del firmamento. \n\n\n\nUna experiencia para los sentidos… y para el alma.
URL:https://bodegalaolmilla.es/evento/cata-de-estrellas-9/
END:VEVENT
BEGIN:VEVENT
DTSTART;TZID=Europe/Madrid:20250809T110000
DTEND;TZID=Europe/Madrid:20250809T123000
DTSTAMP:20260421T043551
CREATED:20241220T101952Z
LAST-MODIFIED:20250703T162357Z
UID:11208-1754737200-1754742600@bodegalaolmilla.es
SUMMARY:EXPERIENCIA INMERSIÓN AL ORIGEN+ESPECTÁCULO
DESCRIPTION:¡Descubre los secretos enterrados en nuestras bodegas subterráneas en esta experiencia única! Desde su funcionamiento ancestral hasta la actualidad\, te sumergirás en la historia de los artesanos\, la vida en el pueblo y la transformación de estas joyas arquitectónicas. \n\n\n\n🍇 Disfruta de anécdotas y chascarrillos transmitidos de generación en generación por nuestros abuelos mientras degustas el exquisito sabor de nuestro vino local en auténticos jarrillos. Deléitate también con un aperitivo que celebra los sabores locales\, mientras disfrutas de un espectáculo sorpresa en la cueva con el jarrillo en mano. \n\n\n\n¡Embárcate en un viaje que combina la tradición con la modernidad! Reserva tu experiencia ahora y sumérgete en la riqueza cultural y gastronómica que nuestras bodegas subterráneas tienen para ofrecer. ¡Te esperamos para vivir momentos inolvidables! 🍷🌟
URL:https://bodegalaolmilla.es/evento/experiencia-inmersion-al-origen-130/
END:VEVENT
BEGIN:VEVENT
DTSTART;TZID=Europe/Madrid:20250824T120000
DTEND;TZID=Europe/Madrid:20250824T133000
DTSTAMP:20260421T043551
CREATED:20250703T171638Z
LAST-MODIFIED:20250820T140405Z
UID:11428-1756036800-1756042200@bodegalaolmilla.es
SUMMARY:VISITA MUSICALIZADA EN PIÑEL DE ABAJO
DESCRIPTION:Descubre Piñel de Abajo como nunca te lo han contado. No es una visita guiada es un paseo por la memoria\, donde disfrutarás de lugares de interés de Piñel de Abajo. Amenizado por Águeda Sastre. \n\n\n\nAcabaremos en las bodegas subterráneas donde degustaremos un jarrillo de vino y un pincho. Una experiencia sencilla\, auténtica\, hecha para disfrutar sin prisas.
URL:https://bodegalaolmilla.es/evento/visita-musicalizada-en-pinel-de-abajo/
END:VEVENT
BEGIN:VEVENT
DTSTART;TZID=Europe/Madrid:20250825T000000
DTEND;TZID=Europe/Madrid:20250903T235959
DTSTAMP:20260421T043551
CREATED:20250823T080719Z
LAST-MODIFIED:20250823T080720Z
UID:11467-1756080000-1756943999@bodegalaolmilla.es
SUMMARY:La Olmilla se toma un respiro (el vino sigue soñando)
DESCRIPTION:
URL:https://bodegalaolmilla.es/evento/la-olmilla-se-toma-un-respiro-el-vino-sigue-sonando/
END:VEVENT
END:VCALENDAR